| Back to Multiple platform build/check report for BioC 3.22: simplified long |
|
This page was generated on 2025-08-15 12:07 -0400 (Fri, 15 Aug 2025).
| Hostname | OS | Arch (*) | R version | Installed pkgs |
|---|---|---|---|---|
| nebbiolo2 | Linux (Ubuntu 24.04.3 LTS) | x86_64 | 4.5.1 (2025-06-13) -- "Great Square Root" | 4818 |
| palomino8 | Windows Server 2022 Datacenter | x64 | 4.5.1 (2025-06-13 ucrt) -- "Great Square Root" | 4554 |
| lconway | macOS 12.7.1 Monterey | x86_64 | 4.5.1 (2025-06-13) -- "Great Square Root" | 4595 |
| kjohnson3 | macOS 13.7.7 Ventura | arm64 | 4.5.1 Patched (2025-06-14 r88325) -- "Great Square Root" | 4537 |
| taishan | Linux (openEuler 24.03 LTS) | aarch64 | 4.5.0 (2025-04-11) -- "How About a Twenty-Six" | 4535 |
| Click on any hostname to see more info about the system (e.g. compilers) (*) as reported by 'uname -p', except on Windows and Mac OS X | ||||
| Package 1928/2317 | Hostname | OS / Arch | INSTALL | BUILD | CHECK | BUILD BIN | ||||||||
| scuttle 1.19.0 (landing page) Aaron Lun
| nebbiolo2 | Linux (Ubuntu 24.04.3 LTS) / x86_64 | OK | OK | OK | |||||||||
| palomino8 | Windows Server 2022 Datacenter / x64 | OK | OK | OK | OK | |||||||||
| lconway | macOS 12.7.1 Monterey / x86_64 | OK | OK | OK | OK | |||||||||
| kjohnson3 | macOS 13.7.7 Ventura / arm64 | OK | OK | OK | OK | |||||||||
| taishan | Linux (openEuler 24.03 LTS) / aarch64 | OK | OK | OK | ||||||||||
|
To the developers/maintainers of the scuttle package: - Allow up to 24 hours (and sometimes 48 hours) for your latest push to git@git.bioconductor.org:packages/scuttle.git to reflect on this report. See Troubleshooting Build Report for more information. - Use the following Renviron settings to reproduce errors and warnings. - If 'R CMD check' started to fail recently on the Linux builder(s) over a missing dependency, add the missing dependency to 'Suggests:' in your DESCRIPTION file. See Renviron.bioc for more information. |
| Package: scuttle |
| Version: 1.19.0 |
| Command: F:\biocbuild\bbs-3.22-bioc\R\bin\R.exe CMD check --no-multiarch --install=check:scuttle.install-out.txt --library=F:\biocbuild\bbs-3.22-bioc\R\library --no-vignettes --timings scuttle_1.19.0.tar.gz |
| StartedAt: 2025-08-15 07:43:40 -0400 (Fri, 15 Aug 2025) |
| EndedAt: 2025-08-15 07:55:12 -0400 (Fri, 15 Aug 2025) |
| EllapsedTime: 693.0 seconds |
| RetCode: 0 |
| Status: OK |
| CheckDir: scuttle.Rcheck |
| Warnings: 0 |
##############################################################################
##############################################################################
###
### Running command:
###
### F:\biocbuild\bbs-3.22-bioc\R\bin\R.exe CMD check --no-multiarch --install=check:scuttle.install-out.txt --library=F:\biocbuild\bbs-3.22-bioc\R\library --no-vignettes --timings scuttle_1.19.0.tar.gz
###
##############################################################################
##############################################################################
* using log directory 'F:/biocbuild/bbs-3.22-bioc/meat/scuttle.Rcheck'
* using R version 4.5.1 (2025-06-13 ucrt)
* using platform: x86_64-w64-mingw32
* R was compiled by
gcc.exe (GCC) 14.2.0
GNU Fortran (GCC) 14.2.0
* running under: Windows Server 2022 x64 (build 20348)
* using session charset: UTF-8
* using option '--no-vignettes'
* checking for file 'scuttle/DESCRIPTION' ... OK
* checking extension type ... Package
* this is package 'scuttle' version '1.19.0'
* package encoding: UTF-8
* checking package namespace information ... OK
* checking package dependencies ... OK
* checking if this is a source package ... OK
* checking if there is a namespace ... OK
* checking for hidden files and directories ... OK
* checking for portable file names ... OK
* checking whether package 'scuttle' can be installed ... OK
* used C++ compiler: 'G__~1.EXE (GCC) 14.2.0'
* checking C++ specification ... NOTE
Specified C++11: please drop specification unless essential
* checking installed package size ... OK
* checking package directory ... OK
* checking 'build' directory ... OK
* checking DESCRIPTION meta-information ... OK
* checking top-level files ... OK
* checking for left-over files ... OK
* checking index information ... OK
* checking package subdirectories ... OK
* checking code files for non-ASCII characters ... OK
* checking R files for syntax errors ... OK
* checking whether the package can be loaded ... OK
* checking whether the package can be loaded with stated dependencies ... OK
* checking whether the package can be unloaded cleanly ... OK
* checking whether the namespace can be loaded with stated dependencies ... OK
* checking whether the namespace can be unloaded cleanly ... OK
* checking dependencies in R code ... OK
* checking S3 generic/method consistency ... OK
* checking replacement functions ... OK
* checking foreign function calls ... OK
* checking R code for possible problems ... OK
* checking Rd files ... OK
* checking Rd metadata ... OK
* checking Rd cross-references ... NOTE
Found the following Rd file(s) with Rd \link{} targets missing package
anchors:
addPerCellQCMetrics.Rd: SummarizedExperiment-class, rowData, colData
aggregateAcrossCells.Rd: colData, SingleCellExperiment-class,
SummarizedExperiment-class, reducedDims, altExps, DataFrame-class,
applySCE
aggregateAcrossFeatures.Rd: SummarizedExperiment-class
calculateAverage.Rd: SummarizedExperiment-class,
SingleCellExperiment-class, BiocParallelParam-class,
DelayedMatrix-class, sizeFactors
calculateCPM.Rd: SummarizedExperiment-class,
SingleCellExperiment-class
calculateFPKM.Rd: SummarizedExperiment-class,
SingleCellExperiment-class
calculateTPM.Rd: SummarizedExperiment-class,
SingleCellExperiment-class
computePooledFactors.Rd: SummarizedExperiment-class,
SingleCellExperiment-class, sizeFactors
computeSpikeFactors.Rd: SingleCellExperiment-class, altExps, altExp,
sizeFactors
downsampleBatches.Rd: SummarizedExperiment-class, List-class
downsampleMatrix.Rd: RealizationSink-class, dgCMatrix-class,
DelayedMatrix-class
fitLinearModel.Rd: BiocParallelParam-class
geometricSizeFactors.Rd: SummarizedExperiment-class,
SingleCellExperiment-class, BiocParallelParam-class,
DelayedArray-class, sizeFactors
librarySizeFactors.Rd: SummarizedExperiment-class,
SingleCellExperiment-class, BiocParallelParam-class,
DelayedArray-class, sizeFactors
logNormCounts.Rd: SingleCellExperiment-class,
SummarizedExperiment-class, BiocParallelParam-class, applySCE,
sizeFactors
makePerCellDF.Rd: SingleCellExperiment-class, altExp, rowData
makePerFeatureDF.Rd: SingleCellExperiment-class
medianSizeFactors.Rd: SummarizedExperiment-class,
SingleCellExperiment-class, sizeFactors
mockSCE.Rd: SingleCellExperiment-class, colData, altExps,
SingleCellExperiment
normalizeCounts.Rd: SingleCellExperiment-class,
SummarizedExperiment-class, DelayedMatrix-class,
BiocParallelParam-class, sizeFactors
numDetectedAcrossCells.Rd: SummarizedExperiment-class,
DataFrame-class, SingleCellExperiment-class, colData,
BiocParallelParam-class
numDetectedAcrossFeatures.Rd: SummarizedExperiment-class,
BiocParallelParam-class
perCellQCFilters.Rd: DataFrame-class
perCellQCMetrics.Rd: SingleCellExperiment-class,
SummarizedExperiment-class, BiocParallelParam-class,
DataFrame-class
perFeatureQCMetrics.Rd: SummarizedExperiment-class,
SingleCellExperiment-class, BiocParallelParam-class,
DataFrame-class
quickPerCellQC.Rd: DataFrame-class, SummarizedExperiment-class,
colData
readSparseCounts.Rd: readMM
sumCountsAcrossCells.Rd: SummarizedExperiment-class, DataFrame-class,
SingleCellExperiment-class, colData, BiocParallelParam-class,
colsum
sumCountsAcrossFeatures.Rd: SummarizedExperiment-class,
BiocParallelParam-class
summarizeAssayByGroup.Rd: SummarizedExperiment-class,
DataFrame-class, colData, BiocParallelParam-class
uniquifyDataFrameByGroup.Rd: DataFrame-class, colData, DFrame-class
Please provide package anchors for all Rd \link{} targets not in the
package itself and the base packages.
* checking for missing documentation entries ... OK
* checking for code/documentation mismatches ... OK
* checking Rd \usage sections ... OK
* checking Rd contents ... OK
* checking for unstated dependencies in examples ... OK
* checking line endings in C/C++/Fortran sources/headers ... OK
* checking line endings in Makefiles ... OK
* checking compilation flags in Makevars ... OK
* checking for GNU extensions in Makefiles ... OK
* checking for portable use of $(BLAS_LIBS) and $(LAPACK_LIBS) ... OK
* checking use of PKG_*FLAGS in Makefiles ... OK
* checking compiled code ... NOTE
Note: information on .o files for x64 is not available
File 'F:/biocbuild/bbs-3.22-bioc/R/library/scuttle/libs/x64/scuttle.dll':
Found '_exit', possibly from '_exit' (C)
Found 'abort', possibly from 'abort' (C), 'runtime' (Fortran)
Found 'exit', possibly from 'exit' (C), 'stop' (Fortran)
Compiled code should not call entry points which might terminate R nor
write to stdout/stderr instead of to the console, nor use Fortran I/O
nor system RNGs nor [v]sprintf. The detected symbols are linked into
the code but might come from libraries and not actually be called.
See 'Writing portable packages' in the 'Writing R Extensions' manual.
* checking files in 'vignettes' ... OK
* checking examples ... OK
Examples with CPU (user + system) or elapsed time > 5s
user system elapsed
computePooledFactors 5.72 0.18 5.94
* checking for unstated dependencies in 'tests' ... OK
* checking tests ...
Running 'testthat.R'
OK
* checking for unstated dependencies in vignettes ... OK
* checking package vignettes ... OK
* checking running R code from vignettes ... SKIPPED
* checking re-building of vignette outputs ... SKIPPED
* checking PDF version of manual ... OK
* DONE
Status: 3 NOTEs
See
'F:/biocbuild/bbs-3.22-bioc/meat/scuttle.Rcheck/00check.log'
for details.
scuttle.Rcheck/00install.out
##############################################################################
##############################################################################
###
### Running command:
###
### F:\biocbuild\bbs-3.22-bioc\R\bin\R.exe CMD INSTALL scuttle
###
##############################################################################
##############################################################################
* installing to library 'F:/biocbuild/bbs-3.22-bioc/R/library'
* installing *source* package 'scuttle' ...
** this is package 'scuttle' version '1.19.0'
** using staged installation
** libs
using C++ compiler: 'G__~1.EXE (GCC) 14.2.0'
using C++11
g++ -std=gnu++11 -I"F:/biocbuild/bbs-3.22-bioc/R/include" -DNDEBUG -I../inst/include/ -I'F:/biocbuild/bbs-3.22-bioc/R/library/Rcpp/include' -I'F:/biocbuild/bbs-3.22-bioc/R/library/beachmat/include' -I"C:/rtools45/x86_64-w64-mingw32.static.posix/include" -O2 -Wall -mfpmath=sse -msse2 -mstackrealign -c RcppExports.cpp -o RcppExports.o
g++ -std=gnu++11 -I"F:/biocbuild/bbs-3.22-bioc/R/include" -DNDEBUG -I../inst/include/ -I'F:/biocbuild/bbs-3.22-bioc/R/library/Rcpp/include' -I'F:/biocbuild/bbs-3.22-bioc/R/library/beachmat/include' -I"C:/rtools45/x86_64-w64-mingw32.static.posix/include" -O2 -Wall -mfpmath=sse -msse2 -mstackrealign -c cumulative_prop.cpp -o cumulative_prop.o
In file included from F:/biocbuild/bbs-3.22-bioc/R/library/beachmat/include/beachmat3/read_lin_block.h:11,
from F:/biocbuild/bbs-3.22-bioc/R/library/beachmat/include/beachmat3/beachmat.h:24,
from cumulative_prop.cpp:2:
F:/biocbuild/bbs-3.22-bioc/R/library/beachmat/include/beachmat3/lin_matrix.h:95:27: warning: 'virtual const double* beachmat::lin_matrix::get_row(size_t, double*, size_t, size_t)' was hidden [-Woverloaded-virtual=]
95 | virtual const double* get_row(size_t r, double* work, size_t first, size_t last) = 0;
| ^~~~~~~
F:/biocbuild/bbs-3.22-bioc/R/library/beachmat/include/beachmat3/lin_matrix.h:338:38: note: by 'beachmat::lin_sparse_matrix::get_row'
338 | sparse_index<const double*, int> get_row(size_t r, double* work_x, int* work_i) {
| ^~~~~~~
F:/biocbuild/bbs-3.22-bioc/R/library/beachmat/include/beachmat3/lin_matrix.h:66:24: warning: 'virtual const int* beachmat::lin_matrix::get_row(size_t, int*, size_t, size_t)' was hidden [-Woverloaded-virtual=]
66 | virtual const int* get_row(size_t r, int* work, size_t first, size_t last) = 0;
| ^~~~~~~
F:/biocbuild/bbs-3.22-bioc/R/library/beachmat/include/beachmat3/lin_matrix.h:338:38: note: by 'beachmat::lin_sparse_matrix::get_row'
338 | sparse_index<const double*, int> get_row(size_t r, double* work_x, int* work_i) {
| ^~~~~~~
F:/biocbuild/bbs-3.22-bioc/R/library/beachmat/include/beachmat3/lin_matrix.h:81:27: warning: 'virtual const double* beachmat::lin_matrix::get_col(size_t, double*, size_t, size_t)' was hidden [-Woverloaded-virtual=]
81 | virtual const double* get_col(size_t c, double* work, size_t first, size_t last) = 0;
| ^~~~~~~
F:/biocbuild/bbs-3.22-bioc/R/library/beachmat/include/beachmat3/lin_matrix.h:321:38: note: by 'beachmat::lin_sparse_matrix::get_col'
321 | sparse_index<const double*, int> get_col(size_t c, double* work_x, int* work_i) {
| ^~~~~~~
F:/biocbuild/bbs-3.22-bioc/R/library/beachmat/include/beachmat3/lin_matrix.h:52:24: warning: 'virtual const int* beachmat::lin_matrix::get_col(size_t, int*, size_t, size_t)' was hidden [-Woverloaded-virtual=]
52 | virtual const int* get_col(size_t c, int* work, size_t first, size_t last) = 0;
| ^~~~~~~
F:/biocbuild/bbs-3.22-bioc/R/library/beachmat/include/beachmat3/lin_matrix.h:321:38: note: by 'beachmat::lin_sparse_matrix::get_col'
321 | sparse_index<const double*, int> get_col(size_t c, double* work_x, int* work_i) {
| ^~~~~~~
In file included from F:/biocbuild/bbs-3.22-bioc/R/library/beachmat/include/beachmat3/lin_matrix.h:12:
F:/biocbuild/bbs-3.22-bioc/R/library/beachmat/include/beachmat3/Csparse_reader.h: In instantiation of 'beachmat::SparseArraySeed_reader<V, TIT>::SparseArraySeed_reader(Rcpp::RObject) [with V = Rcpp::Vector<13>; TIT = const int*; Rcpp::RObject = Rcpp::RObject_Impl<Rcpp::PreserveStorage>]':
F:/biocbuild/bbs-3.22-bioc/R/library/beachmat/include/beachmat3/lin_matrix.h:561:46: required from 'beachmat::lin_SparseArraySeed<V, TIT>::lin_SparseArraySeed(Rcpp::RObject) [with V = Rcpp::Vector<13>; TIT = const int*; Rcpp::RObject = Rcpp::RObject_Impl<Rcpp::PreserveStorage>]'
561 | lin_SparseArraySeed(Rcpp::RObject mat) : reader(mat) {
| ^~~~~~~~~~~
F:/biocbuild/bbs-3.22-bioc/R/library/beachmat/include/beachmat3/read_lin_block.h:36:39: required from 'std::unique_ptr<M> beachmat::read_lin_sparse_block_raw(Rcpp::RObject) [with M = lin_matrix; Rcpp::RObject = Rcpp::RObject_Impl<Rcpp::PreserveStorage>]'
36 | return std::unique_ptr<M>(new integer_SparseArraySeed(block));
| ^~~~~~~~~~~~~~~~~~~~~~~~~~~~~~~~~~
F:/biocbuild/bbs-3.22-bioc/R/library/beachmat/include/beachmat3/read_lin_block.h:65:57: required from here
65 | auto ptr = read_lin_sparse_block_raw<lin_matrix>(block);
| ~~~~~~~~~~~~~~~~~~~~~~~~~~~~~~~~~~~~~^~~~~~~
F:/biocbuild/bbs-3.22-bioc/R/library/beachmat/include/beachmat3/Csparse_reader.h:535:17: warning: comparison of integer expressions of different signedness: 'const size_t' {aka 'const long long unsigned int'} and 'R_xlen_t' {aka 'long long int'} [-Wsign-compare]
535 | if (nnz != x.size()) {
| ~~~~^~~~~~~~~~~
F:/biocbuild/bbs-3.22-bioc/R/library/beachmat/include/beachmat3/Csparse_reader.h:551:45: warning: comparison of integer expressions of different signedness: 'int' and 'const size_t' {aka 'const long long unsigned int'} [-Wsign-compare]
551 | if (lastR <= 0 || lastR > NR || lastC <= 0 || lastC > NC) {
| ~~~~~~^~~~
F:/biocbuild/bbs-3.22-bioc/R/library/beachmat/include/beachmat3/Csparse_reader.h:551:73: warning: comparison of integer expressions of different signedness: 'int' and 'const size_t' {aka 'const long long unsigned int'} [-Wsign-compare]
551 | if (lastR <= 0 || lastR > NR || lastC <= 0 || lastC > NC) {
| ~~~~~~^~~~
F:/biocbuild/bbs-3.22-bioc/R/library/beachmat/include/beachmat3/Csparse_reader.h:593:35: warning: comparison of integer expressions of different signedness: 'int' and 'const size_t' {aka 'const long long unsigned int'} [-Wsign-compare]
593 | for (int v = 0; v < nnz; ++v, ++rowIt, ++colIt, ++xIt) {
| ~~^~~~~
F:/biocbuild/bbs-3.22-bioc/R/library/beachmat/include/beachmat3/Csparse_reader.h: In instantiation of 'beachmat::SparseArraySeed_reader<V, TIT>::SparseArraySeed_reader(Rcpp::RObject) [with V = Rcpp::Vector<14, Rcpp::PreserveStorage>; TIT = const double*; Rcpp::RObject = Rcpp::RObject_Impl<Rcpp::PreserveStorage>]':
F:/biocbuild/bbs-3.22-bioc/R/library/beachmat/include/beachmat3/lin_matrix.h:561:46: required from 'beachmat::lin_SparseArraySeed<V, TIT>::lin_SparseArraySeed(Rcpp::RObject) [with V = Rcpp::Vector<14, Rcpp::PreserveStorage>; TIT = const double*; Rcpp::RObject = Rcpp::RObject_Impl<Rcpp::PreserveStorage>]'
561 | lin_SparseArraySeed(Rcpp::RObject mat) : reader(mat) {
| ^~~~~~~~~~~
F:/biocbuild/bbs-3.22-bioc/R/library/beachmat/include/beachmat3/read_lin_block.h:38:39: required from 'std::unique_ptr<M> beachmat::read_lin_sparse_block_raw(Rcpp::RObject) [with M = lin_matrix; Rcpp::RObject = Rcpp::RObject_Impl<Rcpp::PreserveStorage>]'
38 | return std::unique_ptr<M>(new double_SparseArraySeed(block));
| ^~~~~~~~~~~~~~~~~~~~~~~~~~~~~~~~~
F:/biocbuild/bbs-3.22-bioc/R/library/beachmat/include/beachmat3/read_lin_block.h:65:57: required from here
65 | auto ptr = read_lin_sparse_block_raw<lin_matrix>(block);
| ~~~~~~~~~~~~~~~~~~~~~~~~~~~~~~~~~~~~~^~~~~~~
F:/biocbuild/bbs-3.22-bioc/R/library/beachmat/include/beachmat3/Csparse_reader.h:535:17: warning: comparison of integer expressions of different signedness: 'const size_t' {aka 'const long long unsigned int'} and 'R_xlen_t' {aka 'long long int'} [-Wsign-compare]
535 | if (nnz != x.size()) {
| ~~~~^~~~~~~~~~~
F:/biocbuild/bbs-3.22-bioc/R/library/beachmat/include/beachmat3/Csparse_reader.h:551:45: warning: comparison of integer expressions of different signedness: 'int' and 'const size_t' {aka 'const long long unsigned int'} [-Wsign-compare]
551 | if (lastR <= 0 || lastR > NR || lastC <= 0 || lastC > NC) {
| ~~~~~~^~~~
F:/biocbuild/bbs-3.22-bioc/R/library/beachmat/include/beachmat3/Csparse_reader.h:551:73: warning: comparison of integer expressions of different signedness: 'int' and 'const size_t' {aka 'const long long unsigned int'} [-Wsign-compare]
551 | if (lastR <= 0 || lastR > NR || lastC <= 0 || lastC > NC) {
| ~~~~~~^~~~
F:/biocbuild/bbs-3.22-bioc/R/library/beachmat/include/beachmat3/Csparse_reader.h:593:35: warning: comparison of integer expressions of different signedness: 'int' and 'const size_t' {aka 'const long long unsigned int'} [-Wsign-compare]
593 | for (int v = 0; v < nnz; ++v, ++rowIt, ++colIt, ++xIt) {
| ~~^~~~~
F:/biocbuild/bbs-3.22-bioc/R/library/beachmat/include/beachmat3/Csparse_reader.h: In instantiation of 'beachmat::SparseArraySeed_reader<V, TIT>::SparseArraySeed_reader(Rcpp::RObject) [with V = Rcpp::Vector<10, Rcpp::PreserveStorage>; TIT = const int*; Rcpp::RObject = Rcpp::RObject_Impl<Rcpp::PreserveStorage>]':
F:/biocbuild/bbs-3.22-bioc/R/library/beachmat/include/beachmat3/lin_matrix.h:561:46: required from 'beachmat::lin_SparseArraySeed<V, TIT>::lin_SparseArraySeed(Rcpp::RObject) [with V = Rcpp::Vector<10, Rcpp::PreserveStorage>; TIT = const int*; Rcpp::RObject = Rcpp::RObject_Impl<Rcpp::PreserveStorage>]'
561 | lin_SparseArraySeed(Rcpp::RObject mat) : reader(mat) {
| ^~~~~~~~~~~
F:/biocbuild/bbs-3.22-bioc/R/library/beachmat/include/beachmat3/read_lin_block.h:40:39: required from 'std::unique_ptr<M> beachmat::read_lin_sparse_block_raw(Rcpp::RObject) [with M = lin_matrix; Rcpp::RObject = Rcpp::RObject_Impl<Rcpp::PreserveStorage>]'
40 | return std::unique_ptr<M>(new logical_SparseArraySeed(block));
| ^~~~~~~~~~~~~~~~~~~~~~~~~~~~~~~~~~
F:/biocbuild/bbs-3.22-bioc/R/library/beachmat/include/beachmat3/read_lin_block.h:65:57: required from here
65 | auto ptr = read_lin_sparse_block_raw<lin_matrix>(block);
| ~~~~~~~~~~~~~~~~~~~~~~~~~~~~~~~~~~~~~^~~~~~~
F:/biocbuild/bbs-3.22-bioc/R/library/beachmat/include/beachmat3/Csparse_reader.h:535:17: warning: comparison of integer expressions of different signedness: 'const size_t' {aka 'const long long unsigned int'} and 'R_xlen_t' {aka 'long long int'} [-Wsign-compare]
535 | if (nnz != x.size()) {
| ~~~~^~~~~~~~~~~
F:/biocbuild/bbs-3.22-bioc/R/library/beachmat/include/beachmat3/Csparse_reader.h:551:45: warning: comparison of integer expressions of different signedness: 'int' and 'const size_t' {aka 'const long long unsigned int'} [-Wsign-compare]
551 | if (lastR <= 0 || lastR > NR || lastC <= 0 || lastC > NC) {
| ~~~~~~^~~~
F:/biocbuild/bbs-3.22-bioc/R/library/beachmat/include/beachmat3/Csparse_reader.h:551:73: warning: comparison of integer expressions of different signedness: 'int' and 'const size_t' {aka 'const long long unsigned int'} [-Wsign-compare]
551 | if (lastR <= 0 || lastR > NR || lastC <= 0 || lastC > NC) {
| ~~~~~~^~~~
F:/biocbuild/bbs-3.22-bioc/R/library/beachmat/include/beachmat3/Csparse_reader.h:593:35: warning: comparison of integer expressions of different signedness: 'int' and 'const size_t' {aka 'const long long unsigned int'} [-Wsign-compare]
593 | for (int v = 0; v < nnz; ++v, ++rowIt, ++colIt, ++xIt) {
| ~~^~~~~
F:/biocbuild/bbs-3.22-bioc/R/library/beachmat/include/beachmat3/Csparse_reader.h: In instantiation of 'beachmat::sparse_index<OUT, I> beachmat::Csparse_core<TIT, I, P>::get_row(size_t, ALT, I*, size_t, size_t) [with OUT = const int*; ALT = int*; TIT = const double*; I = int; P = long long unsigned int; size_t = long long unsigned int]':
F:/biocbuild/bbs-3.22-bioc/R/library/beachmat/include/beachmat3/Csparse_reader.h:650:42: required from 'beachmat::sparse_index<OUT, int> beachmat::SparseArraySeed_reader<V, TIT>::get_row(size_t, ALT, int*, size_t, size_t) [with OUT = const int*; ALT = int*; V = Rcpp::Vector<14, Rcpp::PreserveStorage>; TIT = const double*; size_t = long long unsigned int]'
650 | return core.template get_row<OUT>(r, work_x, work_i, first, last);
| ~~~~~~~~~~~~~~~~~~~~~~~~~~^~~~~~~~~~~~~~~~~~~~~~~~~~~~~~~~
F:/biocbuild/bbs-3.22-bioc/R/library/beachmat/include/beachmat3/lin_matrix.h:596:51: required from 'beachmat::sparse_index<const int*, int> beachmat::lin_SparseArraySeed<V, TIT>::get_row(size_t, int*, int*, size_t, size_t) [with V = Rcpp::Vector<14, Rcpp::PreserveStorage>; TIT = const double*; size_t = long long unsigned int]'
596 | return reader.template get_row<const int*>(r, work_x, work_i, first, last);
| ~~~~~~~~~~~~~~~~~~~~~~~~~~~~~~~~~~~^~~~~~~~~~~~~~~~~~~~~~~~~~~~~~~~
F:/biocbuild/bbs-3.22-bioc/R/library/beachmat/include/beachmat3/lin_matrix.h:595:35: required from here
595 | sparse_index<const int*, int> get_row(size_t r, int* work_x, int* work_i, size_t first, size_t last) {
| ^~~~~~~
F:/biocbuild/bbs-3.22-bioc/R/library/beachmat/include/beachmat3/Csparse_reader.h:250:22: warning: comparison of integer expressions of different signedness: 'const int' and 'const long long unsigned int' [-Wsign-compare]
250 | if (idex != *pIt && static_cast<size_t>(i[idex]) == r) {
| ~~~~~^~~~~~~
F:/biocbuild/bbs-3.22-bioc/R/library/beachmat/include/beachmat3/Csparse_reader.h: In instantiation of 'beachmat::sparse_index<OUT, I> beachmat::Csparse_core<TIT, I, P>::get_row(size_t, ALT, I*, size_t, size_t) [with OUT = const double*; ALT = double*; TIT = const double*; I = int; P = long long unsigned int; size_t = long long unsigned int]':
F:/biocbuild/bbs-3.22-bioc/R/library/beachmat/include/beachmat3/Csparse_reader.h:650:42: required from 'beachmat::sparse_index<OUT, int> beachmat::SparseArraySeed_reader<V, TIT>::get_row(size_t, ALT, int*, size_t, size_t) [with OUT = const double*; ALT = double*; V = Rcpp::Vector<14, Rcpp::PreserveStorage>; TIT = const double*; size_t = long long unsigned int]'
650 | return core.template get_row<OUT>(r, work_x, work_i, first, last);
| ~~~~~~~~~~~~~~~~~~~~~~~~~~^~~~~~~~~~~~~~~~~~~~~~~~~~~~~~~~
F:/biocbuild/bbs-3.22-bioc/R/library/beachmat/include/beachmat3/lin_matrix.h:602:54: required from 'beachmat::sparse_index<const double*, int> beachmat::lin_SparseArraySeed<V, TIT>::get_row(size_t, double*, int*, size_t, size_t) [with V = Rcpp::Vector<14, Rcpp::PreserveStorage>; TIT = const double*; size_t = long long unsigned int]'
602 | return reader.template get_row<const double*>(r, work_x, work_i, first, last);
| ~~~~~~~~~~~~~~~~~~~~~~~~~~~~~~~~~~~~~~^~~~~~~~~~~~~~~~~~~~~~~~~~~~~~~~
F:/biocbuild/bbs-3.22-bioc/R/library/beachmat/include/beachmat3/lin_matrix.h:601:38: required from here
601 | sparse_index<const double*, int> get_row(size_t r, double* work_x, int* work_i, size_t first, size_t last) {
| ^~~~~~~
F:/biocbuild/bbs-3.22-bioc/R/library/beachmat/include/beachmat3/Csparse_reader.h:250:22: warning: comparison of integer expressions of different signedness: 'const int' and 'const long long unsigned int' [-Wsign-compare]
250 | if (idex != *pIt && static_cast<size_t>(i[idex]) == r) {
| ~~~~~^~~~~~~
F:/biocbuild/bbs-3.22-bioc/R/library/beachmat/include/beachmat3/Csparse_reader.h: In instantiation of 'beachmat::sparse_index<OUT, I> beachmat::Csparse_core<TIT, I, P>::get_row(size_t, ALT, I*, size_t, size_t) [with OUT = const int*; ALT = int*; TIT = const int*; I = int; P = long long unsigned int; size_t = long long unsigned int]':
F:/biocbuild/bbs-3.22-bioc/R/library/beachmat/include/beachmat3/Csparse_reader.h:650:42: required from 'beachmat::sparse_index<OUT, int> beachmat::SparseArraySeed_reader<V, TIT>::get_row(size_t, ALT, int*, size_t, size_t) [with OUT = const int*; ALT = int*; V = Rcpp::Vector<10, Rcpp::PreserveStorage>; TIT = const int*; size_t = long long unsigned int]'
650 | return core.template get_row<OUT>(r, work_x, work_i, first, last);
| ~~~~~~~~~~~~~~~~~~~~~~~~~~^~~~~~~~~~~~~~~~~~~~~~~~~~~~~~~~
F:/biocbuild/bbs-3.22-bioc/R/library/beachmat/include/beachmat3/lin_matrix.h:596:51: required from 'beachmat::sparse_index<const int*, int> beachmat::lin_SparseArraySeed<V, TIT>::get_row(size_t, int*, int*, size_t, size_t) [with V = Rcpp::Vector<10, Rcpp::PreserveStorage>; TIT = const int*; size_t = long long unsigned int]'
596 | return reader.template get_row<const int*>(r, work_x, work_i, first, last);
| ~~~~~~~~~~~~~~~~~~~~~~~~~~~~~~~~~~~^~~~~~~~~~~~~~~~~~~~~~~~~~~~~~~~
F:/biocbuild/bbs-3.22-bioc/R/library/beachmat/include/beachmat3/lin_matrix.h:595:35: required from here
595 | sparse_index<const int*, int> get_row(size_t r, int* work_x, int* work_i, size_t first, size_t last) {
| ^~~~~~~
F:/biocbuild/bbs-3.22-bioc/R/library/beachmat/include/beachmat3/Csparse_reader.h:250:22: warning: comparison of integer expressions of different signedness: 'const int' and 'const long long unsigned int' [-Wsign-compare]
250 | if (idex != *pIt && static_cast<size_t>(i[idex]) == r) {
| ~~~~~^~~~~~~
F:/biocbuild/bbs-3.22-bioc/R/library/beachmat/include/beachmat3/Csparse_reader.h: In instantiation of 'beachmat::sparse_index<OUT, I> beachmat::Csparse_core<TIT, I, P>::get_row(size_t, ALT, I*, size_t, size_t) [with OUT = const double*; ALT = double*; TIT = const int*; I = int; P = long long unsigned int; size_t = long long unsigned int]':
F:/biocbuild/bbs-3.22-bioc/R/library/beachmat/include/beachmat3/Csparse_reader.h:650:42: required from 'beachmat::sparse_index<OUT, int> beachmat::SparseArraySeed_reader<V, TIT>::get_row(size_t, ALT, int*, size_t, size_t) [with OUT = const double*; ALT = double*; V = Rcpp::Vector<10, Rcpp::PreserveStorage>; TIT = const int*; size_t = long long unsigned int]'
650 | return core.template get_row<OUT>(r, work_x, work_i, first, last);
| ~~~~~~~~~~~~~~~~~~~~~~~~~~^~~~~~~~~~~~~~~~~~~~~~~~~~~~~~~~
F:/biocbuild/bbs-3.22-bioc/R/library/beachmat/include/beachmat3/lin_matrix.h:602:54: required from 'beachmat::sparse_index<const double*, int> beachmat::lin_SparseArraySeed<V, TIT>::get_row(size_t, double*, int*, size_t, size_t) [with V = Rcpp::Vector<10, Rcpp::PreserveStorage>; TIT = const int*; size_t = long long unsigned int]'
602 | return reader.template get_row<const double*>(r, work_x, work_i, first, last);
| ~~~~~~~~~~~~~~~~~~~~~~~~~~~~~~~~~~~~~~^~~~~~~~~~~~~~~~~~~~~~~~~~~~~~~~
F:/biocbuild/bbs-3.22-bioc/R/library/beachmat/include/beachmat3/lin_matrix.h:601:38: required from here
601 | sparse_index<const double*, int> get_row(size_t r, double* work_x, int* work_i, size_t first, size_t last) {
| ^~~~~~~
F:/biocbuild/bbs-3.22-bioc/R/library/beachmat/include/beachmat3/Csparse_reader.h:250:22: warning: comparison of integer expressions of different signedness: 'const int' and 'const long long unsigned int' [-Wsign-compare]
250 | if (idex != *pIt && static_cast<size_t>(i[idex]) == r) {
| ~~~~~^~~~~~~
g++ -std=gnu++11 -I"F:/biocbuild/bbs-3.22-bioc/R/include" -DNDEBUG -I../inst/include/ -I'F:/biocbuild/bbs-3.22-bioc/R/library/Rcpp/include' -I'F:/biocbuild/bbs-3.22-bioc/R/library/beachmat/include' -I"C:/rtools45/x86_64-w64-mingw32.static.posix/include" -O2 -Wall -mfpmath=sse -msse2 -mstackrealign -c downsample_counts.cpp -o downsample_counts.o
In file included from F:/biocbuild/bbs-3.22-bioc/R/library/beachmat/include/beachmat3/read_lin_block.h:11,
from F:/biocbuild/bbs-3.22-bioc/R/library/beachmat/include/beachmat3/beachmat.h:24,
from downsample_counts.cpp:2:
F:/biocbuild/bbs-3.22-bioc/R/library/beachmat/include/beachmat3/lin_matrix.h:95:27: warning: 'virtual const double* beachmat::lin_matrix::get_row(size_t, double*, size_t, size_t)' was hidden [-Woverloaded-virtual=]
95 | virtual const double* get_row(size_t r, double* work, size_t first, size_t last) = 0;
| ^~~~~~~
F:/biocbuild/bbs-3.22-bioc/R/library/beachmat/include/beachmat3/lin_matrix.h:338:38: note: by 'beachmat::lin_sparse_matrix::get_row'
338 | sparse_index<const double*, int> get_row(size_t r, double* work_x, int* work_i) {
| ^~~~~~~
F:/biocbuild/bbs-3.22-bioc/R/library/beachmat/include/beachmat3/lin_matrix.h:66:24: warning: 'virtual const int* beachmat::lin_matrix::get_row(size_t, int*, size_t, size_t)' was hidden [-Woverloaded-virtual=]
66 | virtual const int* get_row(size_t r, int* work, size_t first, size_t last) = 0;
| ^~~~~~~
F:/biocbuild/bbs-3.22-bioc/R/library/beachmat/include/beachmat3/lin_matrix.h:338:38: note: by 'beachmat::lin_sparse_matrix::get_row'
338 | sparse_index<const double*, int> get_row(size_t r, double* work_x, int* work_i) {
| ^~~~~~~
F:/biocbuild/bbs-3.22-bioc/R/library/beachmat/include/beachmat3/lin_matrix.h:81:27: warning: 'virtual const double* beachmat::lin_matrix::get_col(size_t, double*, size_t, size_t)' was hidden [-Woverloaded-virtual=]
81 | virtual const double* get_col(size_t c, double* work, size_t first, size_t last) = 0;
| ^~~~~~~
F:/biocbuild/bbs-3.22-bioc/R/library/beachmat/include/beachmat3/lin_matrix.h:321:38: note: by 'beachmat::lin_sparse_matrix::get_col'
321 | sparse_index<const double*, int> get_col(size_t c, double* work_x, int* work_i) {
| ^~~~~~~
F:/biocbuild/bbs-3.22-bioc/R/library/beachmat/include/beachmat3/lin_matrix.h:52:24: warning: 'virtual const int* beachmat::lin_matrix::get_col(size_t, int*, size_t, size_t)' was hidden [-Woverloaded-virtual=]
52 | virtual const int* get_col(size_t c, int* work, size_t first, size_t last) = 0;
| ^~~~~~~
F:/biocbuild/bbs-3.22-bioc/R/library/beachmat/include/beachmat3/lin_matrix.h:321:38: note: by 'beachmat::lin_sparse_matrix::get_col'
321 | sparse_index<const double*, int> get_col(size_t c, double* work_x, int* work_i) {
| ^~~~~~~
In file included from F:/biocbuild/bbs-3.22-bioc/R/library/beachmat/include/beachmat3/lin_matrix.h:12:
F:/biocbuild/bbs-3.22-bioc/R/library/beachmat/include/beachmat3/Csparse_reader.h: In instantiation of 'beachmat::SparseArraySeed_reader<V, TIT>::SparseArraySeed_reader(Rcpp::RObject) [with V = Rcpp::Vector<13>; TIT = const int*; Rcpp::RObject = Rcpp::RObject_Impl<Rcpp::PreserveStorage>]':
F:/biocbuild/bbs-3.22-bioc/R/library/beachmat/include/beachmat3/lin_matrix.h:561:46: required from 'beachmat::lin_SparseArraySeed<V, TIT>::lin_SparseArraySeed(Rcpp::RObject) [with V = Rcpp::Vector<13>; TIT = const int*; Rcpp::RObject = Rcpp::RObject_Impl<Rcpp::PreserveStorage>]'
561 | lin_SparseArraySeed(Rcpp::RObject mat) : reader(mat) {
| ^~~~~~~~~~~
F:/biocbuild/bbs-3.22-bioc/R/library/beachmat/include/beachmat3/read_lin_block.h:36:39: required from 'std::unique_ptr<M> beachmat::read_lin_sparse_block_raw(Rcpp::RObject) [with M = lin_matrix; Rcpp::RObject = Rcpp::RObject_Impl<Rcpp::PreserveStorage>]'
36 | return std::unique_ptr<M>(new integer_SparseArraySeed(block));
| ^~~~~~~~~~~~~~~~~~~~~~~~~~~~~~~~~~
F:/biocbuild/bbs-3.22-bioc/R/library/beachmat/include/beachmat3/read_lin_block.h:65:57: required from here
65 | auto ptr = read_lin_sparse_block_raw<lin_matrix>(block);
| ~~~~~~~~~~~~~~~~~~~~~~~~~~~~~~~~~~~~~^~~~~~~
F:/biocbuild/bbs-3.22-bioc/R/library/beachmat/include/beachmat3/Csparse_reader.h:535:17: warning: comparison of integer expressions of different signedness: 'const size_t' {aka 'const long long unsigned int'} and 'R_xlen_t' {aka 'long long int'} [-Wsign-compare]
535 | if (nnz != x.size()) {
| ~~~~^~~~~~~~~~~
F:/biocbuild/bbs-3.22-bioc/R/library/beachmat/include/beachmat3/Csparse_reader.h:551:45: warning: comparison of integer expressions of different signedness: 'int' and 'const size_t' {aka 'const long long unsigned int'} [-Wsign-compare]
551 | if (lastR <= 0 || lastR > NR || lastC <= 0 || lastC > NC) {
| ~~~~~~^~~~
F:/biocbuild/bbs-3.22-bioc/R/library/beachmat/include/beachmat3/Csparse_reader.h:551:73: warning: comparison of integer expressions of different signedness: 'int' and 'const size_t' {aka 'const long long unsigned int'} [-Wsign-compare]
551 | if (lastR <= 0 || lastR > NR || lastC <= 0 || lastC > NC) {
| ~~~~~~^~~~
F:/biocbuild/bbs-3.22-bioc/R/library/beachmat/include/beachmat3/Csparse_reader.h:593:35: warning: comparison of integer expressions of different signedness: 'int' and 'const size_t' {aka 'const long long unsigned int'} [-Wsign-compare]
593 | for (int v = 0; v < nnz; ++v, ++rowIt, ++colIt, ++xIt) {
| ~~^~~~~
F:/biocbuild/bbs-3.22-bioc/R/library/beachmat/include/beachmat3/Csparse_reader.h: In instantiation of 'beachmat::SparseArraySeed_reader<V, TIT>::SparseArraySeed_reader(Rcpp::RObject) [with V = Rcpp::Vector<14, Rcpp::PreserveStorage>; TIT = const double*; Rcpp::RObject = Rcpp::RObject_Impl<Rcpp::PreserveStorage>]':
F:/biocbuild/bbs-3.22-bioc/R/library/beachmat/include/beachmat3/lin_matrix.h:561:46: required from 'beachmat::lin_SparseArraySeed<V, TIT>::lin_SparseArraySeed(Rcpp::RObject) [with V = Rcpp::Vector<14, Rcpp::PreserveStorage>; TIT = const double*; Rcpp::RObject = Rcpp::RObject_Impl<Rcpp::PreserveStorage>]'
561 | lin_SparseArraySeed(Rcpp::RObject mat) : reader(mat) {
| ^~~~~~~~~~~
F:/biocbuild/bbs-3.22-bioc/R/library/beachmat/include/beachmat3/read_lin_block.h:38:39: required from 'std::unique_ptr<M> beachmat::read_lin_sparse_block_raw(Rcpp::RObject) [with M = lin_matrix; Rcpp::RObject = Rcpp::RObject_Impl<Rcpp::PreserveStorage>]'
38 | return std::unique_ptr<M>(new double_SparseArraySeed(block));
| ^~~~~~~~~~~~~~~~~~~~~~~~~~~~~~~~~
F:/biocbuild/bbs-3.22-bioc/R/library/beachmat/include/beachmat3/read_lin_block.h:65:57: required from here
65 | auto ptr = read_lin_sparse_block_raw<lin_matrix>(block);
| ~~~~~~~~~~~~~~~~~~~~~~~~~~~~~~~~~~~~~^~~~~~~
F:/biocbuild/bbs-3.22-bioc/R/library/beachmat/include/beachmat3/Csparse_reader.h:535:17: warning: comparison of integer expressions of different signedness: 'const size_t' {aka 'const long long unsigned int'} and 'R_xlen_t' {aka 'long long int'} [-Wsign-compare]
535 | if (nnz != x.size()) {
| ~~~~^~~~~~~~~~~
F:/biocbuild/bbs-3.22-bioc/R/library/beachmat/include/beachmat3/Csparse_reader.h:551:45: warning: comparison of integer expressions of different signedness: 'int' and 'const size_t' {aka 'const long long unsigned int'} [-Wsign-compare]
551 | if (lastR <= 0 || lastR > NR || lastC <= 0 || lastC > NC) {
| ~~~~~~^~~~
F:/biocbuild/bbs-3.22-bioc/R/library/beachmat/include/beachmat3/Csparse_reader.h:551:73: warning: comparison of integer expressions of different signedness: 'int' and 'const size_t' {aka 'const long long unsigned int'} [-Wsign-compare]
551 | if (lastR <= 0 || lastR > NR || lastC <= 0 || lastC > NC) {
| ~~~~~~^~~~
F:/biocbuild/bbs-3.22-bioc/R/library/beachmat/include/beachmat3/Csparse_reader.h:593:35: warning: comparison of integer expressions of different signedness: 'int' and 'const size_t' {aka 'const long long unsigned int'} [-Wsign-compare]
593 | for (int v = 0; v < nnz; ++v, ++rowIt, ++colIt, ++xIt) {
| ~~^~~~~
F:/biocbuild/bbs-3.22-bioc/R/library/beachmat/include/beachmat3/Csparse_reader.h: In instantiation of 'beachmat::SparseArraySeed_reader<V, TIT>::SparseArraySeed_reader(Rcpp::RObject) [with V = Rcpp::Vector<10, Rcpp::PreserveStorage>; TIT = const int*; Rcpp::RObject = Rcpp::RObject_Impl<Rcpp::PreserveStorage>]':
F:/biocbuild/bbs-3.22-bioc/R/library/beachmat/include/beachmat3/lin_matrix.h:561:46: required from 'beachmat::lin_SparseArraySeed<V, TIT>::lin_SparseArraySeed(Rcpp::RObject) [with V = Rcpp::Vector<10, Rcpp::PreserveStorage>; TIT = const int*; Rcpp::RObject = Rcpp::RObject_Impl<Rcpp::PreserveStorage>]'
561 | lin_SparseArraySeed(Rcpp::RObject mat) : reader(mat) {
| ^~~~~~~~~~~
F:/biocbuild/bbs-3.22-bioc/R/library/beachmat/include/beachmat3/read_lin_block.h:40:39: required from 'std::unique_ptr<M> beachmat::read_lin_sparse_block_raw(Rcpp::RObject) [with M = lin_matrix; Rcpp::RObject = Rcpp::RObject_Impl<Rcpp::PreserveStorage>]'
40 | return std::unique_ptr<M>(new logical_SparseArraySeed(block));
| ^~~~~~~~~~~~~~~~~~~~~~~~~~~~~~~~~~
F:/biocbuild/bbs-3.22-bioc/R/library/beachmat/include/beachmat3/read_lin_block.h:65:57: required from here
65 | auto ptr = read_lin_sparse_block_raw<lin_matrix>(block);
| ~~~~~~~~~~~~~~~~~~~~~~~~~~~~~~~~~~~~~^~~~~~~
F:/biocbuild/bbs-3.22-bioc/R/library/beachmat/include/beachmat3/Csparse_reader.h:535:17: warning: comparison of integer expressions of different signedness: 'const size_t' {aka 'const long long unsigned int'} and 'R_xlen_t' {aka 'long long int'} [-Wsign-compare]
535 | if (nnz != x.size()) {
| ~~~~^~~~~~~~~~~
F:/biocbuild/bbs-3.22-bioc/R/library/beachmat/include/beachmat3/Csparse_reader.h:551:45: warning: comparison of integer expressions of different signedness: 'int' and 'const size_t' {aka 'const long long unsigned int'} [-Wsign-compare]
551 | if (lastR <= 0 || lastR > NR || lastC <= 0 || lastC > NC) {
| ~~~~~~^~~~
F:/biocbuild/bbs-3.22-bioc/R/library/beachmat/include/beachmat3/Csparse_reader.h:551:73: warning: comparison of integer expressions of different signedness: 'int' and 'const size_t' {aka 'const long long unsigned int'} [-Wsign-compare]
551 | if (lastR <= 0 || lastR > NR || lastC <= 0 || lastC > NC) {
| ~~~~~~^~~~
F:/biocbuild/bbs-3.22-bioc/R/library/beachmat/include/beachmat3/Csparse_reader.h:593:35: warning: comparison of integer expressions of different signedness: 'int' and 'const size_t' {aka 'const long long unsigned int'} [-Wsign-compare]
593 | for (int v = 0; v < nnz; ++v, ++rowIt, ++colIt, ++xIt) {
| ~~^~~~~
F:/biocbuild/bbs-3.22-bioc/R/library/beachmat/include/beachmat3/Csparse_reader.h: In instantiation of 'beachmat::sparse_index<OUT, I> beachmat::Csparse_core<TIT, I, P>::get_row(size_t, ALT, I*, size_t, size_t) [with OUT = const int*; ALT = int*; TIT = const double*; I = int; P = long long unsigned int; size_t = long long unsigned int]':
F:/biocbuild/bbs-3.22-bioc/R/library/beachmat/include/beachmat3/Csparse_reader.h:650:42: required from 'beachmat::sparse_index<OUT, int> beachmat::SparseArraySeed_reader<V, TIT>::get_row(size_t, ALT, int*, size_t, size_t) [with OUT = const int*; ALT = int*; V = Rcpp::Vector<14, Rcpp::PreserveStorage>; TIT = const double*; size_t = long long unsigned int]'
650 | return core.template get_row<OUT>(r, work_x, work_i, first, last);
| ~~~~~~~~~~~~~~~~~~~~~~~~~~^~~~~~~~~~~~~~~~~~~~~~~~~~~~~~~~
F:/biocbuild/bbs-3.22-bioc/R/library/beachmat/include/beachmat3/lin_matrix.h:596:51: required from 'beachmat::sparse_index<const int*, int> beachmat::lin_SparseArraySeed<V, TIT>::get_row(size_t, int*, int*, size_t, size_t) [with V = Rcpp::Vector<14, Rcpp::PreserveStorage>; TIT = const double*; size_t = long long unsigned int]'
596 | return reader.template get_row<const int*>(r, work_x, work_i, first, last);
| ~~~~~~~~~~~~~~~~~~~~~~~~~~~~~~~~~~~^~~~~~~~~~~~~~~~~~~~~~~~~~~~~~~~
F:/biocbuild/bbs-3.22-bioc/R/library/beachmat/include/beachmat3/lin_matrix.h:595:35: required from here
595 | sparse_index<const int*, int> get_row(size_t r, int* work_x, int* work_i, size_t first, size_t last) {
| ^~~~~~~
F:/biocbuild/bbs-3.22-bioc/R/library/beachmat/include/beachmat3/Csparse_reader.h:250:22: warning: comparison of integer expressions of different signedness: 'const int' and 'const long long unsigned int' [-Wsign-compare]
250 | if (idex != *pIt && static_cast<size_t>(i[idex]) == r) {
| ~~~~~^~~~~~~
F:/biocbuild/bbs-3.22-bioc/R/library/beachmat/include/beachmat3/Csparse_reader.h: In instantiation of 'beachmat::sparse_index<OUT, I> beachmat::Csparse_core<TIT, I, P>::get_row(size_t, ALT, I*, size_t, size_t) [with OUT = const double*; ALT = double*; TIT = const double*; I = int; P = long long unsigned int; size_t = long long unsigned int]':
F:/biocbuild/bbs-3.22-bioc/R/library/beachmat/include/beachmat3/Csparse_reader.h:650:42: required from 'beachmat::sparse_index<OUT, int> beachmat::SparseArraySeed_reader<V, TIT>::get_row(size_t, ALT, int*, size_t, size_t) [with OUT = const double*; ALT = double*; V = Rcpp::Vector<14, Rcpp::PreserveStorage>; TIT = const double*; size_t = long long unsigned int]'
650 | return core.template get_row<OUT>(r, work_x, work_i, first, last);
| ~~~~~~~~~~~~~~~~~~~~~~~~~~^~~~~~~~~~~~~~~~~~~~~~~~~~~~~~~~
F:/biocbuild/bbs-3.22-bioc/R/library/beachmat/include/beachmat3/lin_matrix.h:602:54: required from 'beachmat::sparse_index<const double*, int> beachmat::lin_SparseArraySeed<V, TIT>::get_row(size_t, double*, int*, size_t, size_t) [with V = Rcpp::Vector<14, Rcpp::PreserveStorage>; TIT = const double*; size_t = long long unsigned int]'
602 | return reader.template get_row<const double*>(r, work_x, work_i, first, last);
| ~~~~~~~~~~~~~~~~~~~~~~~~~~~~~~~~~~~~~~^~~~~~~~~~~~~~~~~~~~~~~~~~~~~~~~
F:/biocbuild/bbs-3.22-bioc/R/library/beachmat/include/beachmat3/lin_matrix.h:601:38: required from here
601 | sparse_index<const double*, int> get_row(size_t r, double* work_x, int* work_i, size_t first, size_t last) {
| ^~~~~~~
F:/biocbuild/bbs-3.22-bioc/R/library/beachmat/include/beachmat3/Csparse_reader.h:250:22: warning: comparison of integer expressions of different signedness: 'const int' and 'const long long unsigned int' [-Wsign-compare]
250 | if (idex != *pIt && static_cast<size_t>(i[idex]) == r) {
| ~~~~~^~~~~~~
F:/biocbuild/bbs-3.22-bioc/R/library/beachmat/include/beachmat3/Csparse_reader.h: In instantiation of 'beachmat::sparse_index<OUT, I> beachmat::Csparse_core<TIT, I, P>::get_row(size_t, ALT, I*, size_t, size_t) [with OUT = const int*; ALT = int*; TIT = const int*; I = int; P = long long unsigned int; size_t = long long unsigned int]':
F:/biocbuild/bbs-3.22-bioc/R/library/beachmat/include/beachmat3/Csparse_reader.h:650:42: required from 'beachmat::sparse_index<OUT, int> beachmat::SparseArraySeed_reader<V, TIT>::get_row(size_t, ALT, int*, size_t, size_t) [with OUT = const int*; ALT = int*; V = Rcpp::Vector<10, Rcpp::PreserveStorage>; TIT = const int*; size_t = long long unsigned int]'
650 | return core.template get_row<OUT>(r, work_x, work_i, first, last);
| ~~~~~~~~~~~~~~~~~~~~~~~~~~^~~~~~~~~~~~~~~~~~~~~~~~~~~~~~~~
F:/biocbuild/bbs-3.22-bioc/R/library/beachmat/include/beachmat3/lin_matrix.h:596:51: required from 'beachmat::sparse_index<const int*, int> beachmat::lin_SparseArraySeed<V, TIT>::get_row(size_t, int*, int*, size_t, size_t) [with V = Rcpp::Vector<10, Rcpp::PreserveStorage>; TIT = const int*; size_t = long long unsigned int]'
596 | return reader.template get_row<const int*>(r, work_x, work_i, first, last);
| ~~~~~~~~~~~~~~~~~~~~~~~~~~~~~~~~~~~^~~~~~~~~~~~~~~~~~~~~~~~~~~~~~~~
F:/biocbuild/bbs-3.22-bioc/R/library/beachmat/include/beachmat3/lin_matrix.h:595:35: required from here
595 | sparse_index<const int*, int> get_row(size_t r, int* work_x, int* work_i, size_t first, size_t last) {
| ^~~~~~~
F:/biocbuild/bbs-3.22-bioc/R/library/beachmat/include/beachmat3/Csparse_reader.h:250:22: warning: comparison of integer expressions of different signedness: 'const int' and 'const long long unsigned int' [-Wsign-compare]
250 | if (idex != *pIt && static_cast<size_t>(i[idex]) == r) {
| ~~~~~^~~~~~~
F:/biocbuild/bbs-3.22-bioc/R/library/beachmat/include/beachmat3/Csparse_reader.h: In instantiation of 'beachmat::sparse_index<OUT, I> beachmat::Csparse_core<TIT, I, P>::get_row(size_t, ALT, I*, size_t, size_t) [with OUT = const double*; ALT = double*; TIT = const int*; I = int; P = long long unsigned int; size_t = long long unsigned int]':
F:/biocbuild/bbs-3.22-bioc/R/library/beachmat/include/beachmat3/Csparse_reader.h:650:42: required from 'beachmat::sparse_index<OUT, int> beachmat::SparseArraySeed_reader<V, TIT>::get_row(size_t, ALT, int*, size_t, size_t) [with OUT = const double*; ALT = double*; V = Rcpp::Vector<10, Rcpp::PreserveStorage>; TIT = const int*; size_t = long long unsigned int]'
650 | return core.template get_row<OUT>(r, work_x, work_i, first, last);
| ~~~~~~~~~~~~~~~~~~~~~~~~~~^~~~~~~~~~~~~~~~~~~~~~~~~~~~~~~~
F:/biocbuild/bbs-3.22-bioc/R/library/beachmat/include/beachmat3/lin_matrix.h:602:54: required from 'beachmat::sparse_index<const double*, int> beachmat::lin_SparseArraySeed<V, TIT>::get_row(size_t, double*, int*, size_t, size_t) [with V = Rcpp::Vector<10, Rcpp::PreserveStorage>; TIT = const int*; size_t = long long unsigned int]'
602 | return reader.template get_row<const double*>(r, work_x, work_i, first, last);
| ~~~~~~~~~~~~~~~~~~~~~~~~~~~~~~~~~~~~~~^~~~~~~~~~~~~~~~~~~~~~~~~~~~~~~~
F:/biocbuild/bbs-3.22-bioc/R/library/beachmat/include/beachmat3/lin_matrix.h:601:38: required from here
601 | sparse_index<const double*, int> get_row(size_t r, double* work_x, int* work_i, size_t first, size_t last) {
| ^~~~~~~
F:/biocbuild/bbs-3.22-bioc/R/library/beachmat/include/beachmat3/Csparse_reader.h:250:22: warning: comparison of integer expressions of different signedness: 'const int' and 'const long long unsigned int' [-Wsign-compare]
250 | if (idex != *pIt && static_cast<size_t>(i[idex]) == r) {
| ~~~~~^~~~~~~
g++ -std=gnu++11 -I"F:/biocbuild/bbs-3.22-bioc/R/include" -DNDEBUG -I../inst/include/ -I'F:/biocbuild/bbs-3.22-bioc/R/library/Rcpp/include' -I'F:/biocbuild/bbs-3.22-bioc/R/library/beachmat/include' -I"C:/rtools45/x86_64-w64-mingw32.static.posix/include" -O2 -Wall -mfpmath=sse -msse2 -mstackrealign -c fit_linear_model.cpp -o fit_linear_model.o
In file included from F:/biocbuild/bbs-3.22-bioc/R/library/beachmat/include/beachmat3/read_lin_block.h:11,
from F:/biocbuild/bbs-3.22-bioc/R/library/beachmat/include/beachmat3/beachmat.h:24,
from fit_linear_model.cpp:2:
F:/biocbuild/bbs-3.22-bioc/R/library/beachmat/include/beachmat3/lin_matrix.h:95:27: warning: 'virtual const double* beachmat::lin_matrix::get_row(size_t, double*, size_t, size_t)' was hidden [-Woverloaded-virtual=]
95 | virtual const double* get_row(size_t r, double* work, size_t first, size_t last) = 0;
| ^~~~~~~
F:/biocbuild/bbs-3.22-bioc/R/library/beachmat/include/beachmat3/lin_matrix.h:338:38: note: by 'beachmat::lin_sparse_matrix::get_row'
338 | sparse_index<const double*, int> get_row(size_t r, double* work_x, int* work_i) {
| ^~~~~~~
F:/biocbuild/bbs-3.22-bioc/R/library/beachmat/include/beachmat3/lin_matrix.h:66:24: warning: 'virtual const int* beachmat::lin_matrix::get_row(size_t, int*, size_t, size_t)' was hidden [-Woverloaded-virtual=]
66 | virtual const int* get_row(size_t r, int* work, size_t first, size_t last) = 0;
| ^~~~~~~
F:/biocbuild/bbs-3.22-bioc/R/library/beachmat/include/beachmat3/lin_matrix.h:338:38: note: by 'beachmat::lin_sparse_matrix::get_row'
338 | sparse_index<const double*, int> get_row(size_t r, double* work_x, int* work_i) {
| ^~~~~~~
F:/biocbuild/bbs-3.22-bioc/R/library/beachmat/include/beachmat3/lin_matrix.h:81:27: warning: 'virtual const double* beachmat::lin_matrix::get_col(size_t, double*, size_t, size_t)' was hidden [-Woverloaded-virtual=]
81 | virtual const double* get_col(size_t c, double* work, size_t first, size_t last) = 0;
| ^~~~~~~
F:/biocbuild/bbs-3.22-bioc/R/library/beachmat/include/beachmat3/lin_matrix.h:321:38: note: by 'beachmat::lin_sparse_matrix::get_col'
321 | sparse_index<const double*, int> get_col(size_t c, double* work_x, int* work_i) {
| ^~~~~~~
F:/biocbuild/bbs-3.22-bioc/R/library/beachmat/include/beachmat3/lin_matrix.h:52:24: warning: 'virtual const int* beachmat::lin_matrix::get_col(size_t, int*, size_t, size_t)' was hidden [-Woverloaded-virtual=]
52 | virtual const int* get_col(size_t c, int* work, size_t first, size_t last) = 0;
| ^~~~~~~
F:/biocbuild/bbs-3.22-bioc/R/library/beachmat/include/beachmat3/lin_matrix.h:321:38: note: by 'beachmat::lin_sparse_matrix::get_col'
321 | sparse_index<const double*, int> get_col(size_t c, double* work_x, int* work_i) {
| ^~~~~~~
In file included from F:/biocbuild/bbs-3.22-bioc/R/library/beachmat/include/beachmat3/lin_matrix.h:12:
F:/biocbuild/bbs-3.22-bioc/R/library/beachmat/include/beachmat3/Csparse_reader.h: In instantiation of 'beachmat::SparseArraySeed_reader<V, TIT>::SparseArraySeed_reader(Rcpp::RObject) [with V = Rcpp::Vector<13>; TIT = const int*; Rcpp::RObject = Rcpp::RObject_Impl<Rcpp::PreserveStorage>]':
F:/biocbuild/bbs-3.22-bioc/R/library/beachmat/include/beachmat3/lin_matrix.h:561:46: required from 'beachmat::lin_SparseArraySeed<V, TIT>::lin_SparseArraySeed(Rcpp::RObject) [with V = Rcpp::Vector<13>; TIT = const int*; Rcpp::RObject = Rcpp::RObject_Impl<Rcpp::PreserveStorage>]'
561 | lin_SparseArraySeed(Rcpp::RObject mat) : reader(mat) {
| ^~~~~~~~~~~
F:/biocbuild/bbs-3.22-bioc/R/library/beachmat/include/beachmat3/read_lin_block.h:36:39: required from 'std::unique_ptr<M> beachmat::read_lin_sparse_block_raw(Rcpp::RObject) [with M = lin_matrix; Rcpp::RObject = Rcpp::RObject_Impl<Rcpp::PreserveStorage>]'
36 | return std::unique_ptr<M>(new integer_SparseArraySeed(block));
| ^~~~~~~~~~~~~~~~~~~~~~~~~~~~~~~~~~
F:/biocbuild/bbs-3.22-bioc/R/library/beachmat/include/beachmat3/read_lin_block.h:65:57: required from here
65 | auto ptr = read_lin_sparse_block_raw<lin_matrix>(block);
| ~~~~~~~~~~~~~~~~~~~~~~~~~~~~~~~~~~~~~^~~~~~~
F:/biocbuild/bbs-3.22-bioc/R/library/beachmat/include/beachmat3/Csparse_reader.h:535:17: warning: comparison of integer expressions of different signedness: 'const size_t' {aka 'const long long unsigned int'} and 'R_xlen_t' {aka 'long long int'} [-Wsign-compare]
535 | if (nnz != x.size()) {
| ~~~~^~~~~~~~~~~
F:/biocbuild/bbs-3.22-bioc/R/library/beachmat/include/beachmat3/Csparse_reader.h:551:45: warning: comparison of integer expressions of different signedness: 'int' and 'const size_t' {aka 'const long long unsigned int'} [-Wsign-compare]
551 | if (lastR <= 0 || lastR > NR || lastC <= 0 || lastC > NC) {
| ~~~~~~^~~~
F:/biocbuild/bbs-3.22-bioc/R/library/beachmat/include/beachmat3/Csparse_reader.h:551:73: warning: comparison of integer expressions of different signedness: 'int' and 'const size_t' {aka 'const long long unsigned int'} [-Wsign-compare]
551 | if (lastR <= 0 || lastR > NR || lastC <= 0 || lastC > NC) {
| ~~~~~~^~~~
F:/biocbuild/bbs-3.22-bioc/R/library/beachmat/include/beachmat3/Csparse_reader.h:593:35: warning: comparison of integer expressions of different signedness: 'int' and 'const size_t' {aka 'const long long unsigned int'} [-Wsign-compare]
593 | for (int v = 0; v < nnz; ++v, ++rowIt, ++colIt, ++xIt) {
| ~~^~~~~
F:/biocbuild/bbs-3.22-bioc/R/library/beachmat/include/beachmat3/Csparse_reader.h: In instantiation of 'beachmat::SparseArraySeed_reader<V, TIT>::SparseArraySeed_reader(Rcpp::RObject) [with V = Rcpp::Vector<14, Rcpp::PreserveStorage>; TIT = const double*; Rcpp::RObject = Rcpp::RObject_Impl<Rcpp::PreserveStorage>]':
F:/biocbuild/bbs-3.22-bioc/R/library/beachmat/include/beachmat3/lin_matrix.h:561:46: required from 'beachmat::lin_SparseArraySeed<V, TIT>::lin_SparseArraySeed(Rcpp::RObject) [with V = Rcpp::Vector<14, Rcpp::PreserveStorage>; TIT = const double*; Rcpp::RObject = Rcpp::RObject_Impl<Rcpp::PreserveStorage>]'
561 | lin_SparseArraySeed(Rcpp::RObject mat) : reader(mat) {
| ^~~~~~~~~~~
F:/biocbuild/bbs-3.22-bioc/R/library/beachmat/include/beachmat3/read_lin_block.h:38:39: required from 'std::unique_ptr<M> beachmat::read_lin_sparse_block_raw(Rcpp::RObject) [with M = lin_matrix; Rcpp::RObject = Rcpp::RObject_Impl<Rcpp::PreserveStorage>]'
38 | return std::unique_ptr<M>(new double_SparseArraySeed(block));
| ^~~~~~~~~~~~~~~~~~~~~~~~~~~~~~~~~
F:/biocbuild/bbs-3.22-bioc/R/library/beachmat/include/beachmat3/read_lin_block.h:65:57: required from here
65 | auto ptr = read_lin_sparse_block_raw<lin_matrix>(block);
| ~~~~~~~~~~~~~~~~~~~~~~~~~~~~~~~~~~~~~^~~~~~~
F:/biocbuild/bbs-3.22-bioc/R/library/beachmat/include/beachmat3/Csparse_reader.h:535:17: warning: comparison of integer expressions of different signedness: 'const size_t' {aka 'const long long unsigned int'} and 'R_xlen_t' {aka 'long long int'} [-Wsign-compare]
535 | if (nnz != x.size()) {
| ~~~~^~~~~~~~~~~
F:/biocbuild/bbs-3.22-bioc/R/library/beachmat/include/beachmat3/Csparse_reader.h:551:45: warning: comparison of integer expressions of different signedness: 'int' and 'const size_t' {aka 'const long long unsigned int'} [-Wsign-compare]
551 | if (lastR <= 0 || lastR > NR || lastC <= 0 || lastC > NC) {
| ~~~~~~^~~~
F:/biocbuild/bbs-3.22-bioc/R/library/beachmat/include/beachmat3/Csparse_reader.h:551:73: warning: comparison of integer expressions of different signedness: 'int' and 'const size_t' {aka 'const long long unsigned int'} [-Wsign-compare]
551 | if (lastR <= 0 || lastR > NR || lastC <= 0 || lastC > NC) {
| ~~~~~~^~~~
F:/biocbuild/bbs-3.22-bioc/R/library/beachmat/include/beachmat3/Csparse_reader.h:593:35: warning: comparison of integer expressions of different signedness: 'int' and 'const size_t' {aka 'const long long unsigned int'} [-Wsign-compare]
593 | for (int v = 0; v < nnz; ++v, ++rowIt, ++colIt, ++xIt) {
| ~~^~~~~
F:/biocbuild/bbs-3.22-bioc/R/library/beachmat/include/beachmat3/Csparse_reader.h: In instantiation of 'beachmat::SparseArraySeed_reader<V, TIT>::SparseArraySeed_reader(Rcpp::RObject) [with V = Rcpp::Vector<10, Rcpp::PreserveStorage>; TIT = const int*; Rcpp::RObject = Rcpp::RObject_Impl<Rcpp::PreserveStorage>]':
F:/biocbuild/bbs-3.22-bioc/R/library/beachmat/include/beachmat3/lin_matrix.h:561:46: required from 'beachmat::lin_SparseArraySeed<V, TIT>::lin_SparseArraySeed(Rcpp::RObject) [with V = Rcpp::Vector<10, Rcpp::PreserveStorage>; TIT = const int*; Rcpp::RObject = Rcpp::RObject_Impl<Rcpp::PreserveStorage>]'
561 | lin_SparseArraySeed(Rcpp::RObject mat) : reader(mat) {
| ^~~~~~~~~~~
F:/biocbuild/bbs-3.22-bioc/R/library/beachmat/include/beachmat3/read_lin_block.h:40:39: required from 'std::unique_ptr<M> beachmat::read_lin_sparse_block_raw(Rcpp::RObject) [with M = lin_matrix; Rcpp::RObject = Rcpp::RObject_Impl<Rcpp::PreserveStorage>]'
40 | return std::unique_ptr<M>(new logical_SparseArraySeed(block));
| ^~~~~~~~~~~~~~~~~~~~~~~~~~~~~~~~~~
F:/biocbuild/bbs-3.22-bioc/R/library/beachmat/include/beachmat3/read_lin_block.h:65:57: required from here
65 | auto ptr = read_lin_sparse_block_raw<lin_matrix>(block);
| ~~~~~~~~~~~~~~~~~~~~~~~~~~~~~~~~~~~~~^~~~~~~
F:/biocbuild/bbs-3.22-bioc/R/library/beachmat/include/beachmat3/Csparse_reader.h:535:17: warning: comparison of integer expressions of different signedness: 'const size_t' {aka 'const long long unsigned int'} and 'R_xlen_t' {aka 'long long int'} [-Wsign-compare]
535 | if (nnz != x.size()) {
| ~~~~^~~~~~~~~~~
F:/biocbuild/bbs-3.22-bioc/R/library/beachmat/include/beachmat3/Csparse_reader.h:551:45: warning: comparison of integer expressions of different signedness: 'int' and 'const size_t' {aka 'const long long unsigned int'} [-Wsign-compare]
551 | if (lastR <= 0 || lastR > NR || lastC <= 0 || lastC > NC) {
| ~~~~~~^~~~
F:/biocbuild/bbs-3.22-bioc/R/library/beachmat/include/beachmat3/Csparse_reader.h:551:73: warning: comparison of integer expressions of different signedness: 'int' and 'const size_t' {aka 'const long long unsigned int'} [-Wsign-compare]
551 | if (lastR <= 0 || lastR > NR || lastC <= 0 || lastC > NC) {
| ~~~~~~^~~~
F:/biocbuild/bbs-3.22-bioc/R/library/beachmat/include/beachmat3/Csparse_reader.h:593:35: warning: comparison of integer expressions of different signedness: 'int' and 'const size_t' {aka 'const long long unsigned int'} [-Wsign-compare]
593 | for (int v = 0; v < nnz; ++v, ++rowIt, ++colIt, ++xIt) {
| ~~^~~~~
F:/biocbuild/bbs-3.22-bioc/R/library/beachmat/include/beachmat3/Csparse_reader.h: In instantiation of 'beachmat::sparse_index<OUT, I> beachmat::Csparse_core<TIT, I, P>::get_row(size_t, ALT, I*, size_t, size_t) [with OUT = const int*; ALT = int*; TIT = const double*; I = int; P = long long unsigned int; size_t = long long unsigned int]':
F:/biocbuild/bbs-3.22-bioc/R/library/beachmat/include/beachmat3/Csparse_reader.h:650:42: required from 'beachmat::sparse_index<OUT, int> beachmat::SparseArraySeed_reader<V, TIT>::get_row(size_t, ALT, int*, size_t, size_t) [with OUT = const int*; ALT = int*; V = Rcpp::Vector<14, Rcpp::PreserveStorage>; TIT = const double*; size_t = long long unsigned int]'
650 | return core.template get_row<OUT>(r, work_x, work_i, first, last);
| ~~~~~~~~~~~~~~~~~~~~~~~~~~^~~~~~~~~~~~~~~~~~~~~~~~~~~~~~~~
F:/biocbuild/bbs-3.22-bioc/R/library/beachmat/include/beachmat3/lin_matrix.h:596:51: required from 'beachmat::sparse_index<const int*, int> beachmat::lin_SparseArraySeed<V, TIT>::get_row(size_t, int*, int*, size_t, size_t) [with V = Rcpp::Vector<14, Rcpp::PreserveStorage>; TIT = const double*; size_t = long long unsigned int]'
596 | return reader.template get_row<const int*>(r, work_x, work_i, first, last);
| ~~~~~~~~~~~~~~~~~~~~~~~~~~~~~~~~~~~^~~~~~~~~~~~~~~~~~~~~~~~~~~~~~~~
F:/biocbuild/bbs-3.22-bioc/R/library/beachmat/include/beachmat3/lin_matrix.h:595:35: required from here
595 | sparse_index<const int*, int> get_row(size_t r, int* work_x, int* work_i, size_t first, size_t last) {
| ^~~~~~~
F:/biocbuild/bbs-3.22-bioc/R/library/beachmat/include/beachmat3/Csparse_reader.h:250:22: warning: comparison of integer expressions of different signedness: 'const int' and 'const long long unsigned int' [-Wsign-compare]
250 | if (idex != *pIt && static_cast<size_t>(i[idex]) == r) {
| ~~~~~^~~~~~~
F:/biocbuild/bbs-3.22-bioc/R/library/beachmat/include/beachmat3/Csparse_reader.h: In instantiation of 'beachmat::sparse_index<OUT, I> beachmat::Csparse_core<TIT, I, P>::get_row(size_t, ALT, I*, size_t, size_t) [with OUT = const double*; ALT = double*; TIT = const double*; I = int; P = long long unsigned int; size_t = long long unsigned int]':
F:/biocbuild/bbs-3.22-bioc/R/library/beachmat/include/beachmat3/Csparse_reader.h:650:42: required from 'beachmat::sparse_index<OUT, int> beachmat::SparseArraySeed_reader<V, TIT>::get_row(size_t, ALT, int*, size_t, size_t) [with OUT = const double*; ALT = double*; V = Rcpp::Vector<14, Rcpp::PreserveStorage>; TIT = const double*; size_t = long long unsigned int]'
650 | return core.template get_row<OUT>(r, work_x, work_i, first, last);
| ~~~~~~~~~~~~~~~~~~~~~~~~~~^~~~~~~~~~~~~~~~~~~~~~~~~~~~~~~~
F:/biocbuild/bbs-3.22-bioc/R/library/beachmat/include/beachmat3/lin_matrix.h:602:54: required from 'beachmat::sparse_index<const double*, int> beachmat::lin_SparseArraySeed<V, TIT>::get_row(size_t, double*, int*, size_t, size_t) [with V = Rcpp::Vector<14, Rcpp::PreserveStorage>; TIT = const double*; size_t = long long unsigned int]'
602 | return reader.template get_row<const double*>(r, work_x, work_i, first, last);
| ~~~~~~~~~~~~~~~~~~~~~~~~~~~~~~~~~~~~~~^~~~~~~~~~~~~~~~~~~~~~~~~~~~~~~~
F:/biocbuild/bbs-3.22-bioc/R/library/beachmat/include/beachmat3/lin_matrix.h:601:38: required from here
601 | sparse_index<const double*, int> get_row(size_t r, double* work_x, int* work_i, size_t first, size_t last) {
| ^~~~~~~
F:/biocbuild/bbs-3.22-bioc/R/library/beachmat/include/beachmat3/Csparse_reader.h:250:22: warning: comparison of integer expressions of different signedness: 'const int' and 'const long long unsigned int' [-Wsign-compare]
250 | if (idex != *pIt && static_cast<size_t>(i[idex]) == r) {
| ~~~~~^~~~~~~
F:/biocbuild/bbs-3.22-bioc/R/library/beachmat/include/beachmat3/Csparse_reader.h: In instantiation of 'beachmat::sparse_index<OUT, I> beachmat::Csparse_core<TIT, I, P>::get_row(size_t, ALT, I*, size_t, size_t) [with OUT = const int*; ALT = int*; TIT = const int*; I = int; P = long long unsigned int; size_t = long long unsigned int]':
F:/biocbuild/bbs-3.22-bioc/R/library/beachmat/include/beachmat3/Csparse_reader.h:650:42: required from 'beachmat::sparse_index<OUT, int> beachmat::SparseArraySeed_reader<V, TIT>::get_row(size_t, ALT, int*, size_t, size_t) [with OUT = const int*; ALT = int*; V = Rcpp::Vector<10, Rcpp::PreserveStorage>; TIT = const int*; size_t = long long unsigned int]'
650 | return core.template get_row<OUT>(r, work_x, work_i, first, last);
| ~~~~~~~~~~~~~~~~~~~~~~~~~~^~~~~~~~~~~~~~~~~~~~~~~~~~~~~~~~
F:/biocbuild/bbs-3.22-bioc/R/library/beachmat/include/beachmat3/lin_matrix.h:596:51: required from 'beachmat::sparse_index<const int*, int> beachmat::lin_SparseArraySeed<V, TIT>::get_row(size_t, int*, int*, size_t, size_t) [with V = Rcpp::Vector<10, Rcpp::PreserveStorage>; TIT = const int*; size_t = long long unsigned int]'
596 | return reader.template get_row<const int*>(r, work_x, work_i, first, last);
| ~~~~~~~~~~~~~~~~~~~~~~~~~~~~~~~~~~~^~~~~~~~~~~~~~~~~~~~~~~~~~~~~~~~
F:/biocbuild/bbs-3.22-bioc/R/library/beachmat/include/beachmat3/lin_matrix.h:595:35: required from here
595 | sparse_index<const int*, int> get_row(size_t r, int* work_x, int* work_i, size_t first, size_t last) {
| ^~~~~~~
F:/biocbuild/bbs-3.22-bioc/R/library/beachmat/include/beachmat3/Csparse_reader.h:250:22: warning: comparison of integer expressions of different signedness: 'const int' and 'const long long unsigned int' [-Wsign-compare]
250 | if (idex != *pIt && static_cast<size_t>(i[idex]) == r) {
| ~~~~~^~~~~~~
F:/biocbuild/bbs-3.22-bioc/R/library/beachmat/include/beachmat3/Csparse_reader.h: In instantiation of 'beachmat::sparse_index<OUT, I> beachmat::Csparse_core<TIT, I, P>::get_row(size_t, ALT, I*, size_t, size_t) [with OUT = const double*; ALT = double*; TIT = const int*; I = int; P = long long unsigned int; size_t = long long unsigned int]':
F:/biocbuild/bbs-3.22-bioc/R/library/beachmat/include/beachmat3/Csparse_reader.h:650:42: required from 'beachmat::sparse_index<OUT, int> beachmat::SparseArraySeed_reader<V, TIT>::get_row(size_t, ALT, int*, size_t, size_t) [with OUT = const double*; ALT = double*; V = Rcpp::Vector<10, Rcpp::PreserveStorage>; TIT = const int*; size_t = long long unsigned int]'
650 | return core.template get_row<OUT>(r, work_x, work_i, first, last);
| ~~~~~~~~~~~~~~~~~~~~~~~~~~^~~~~~~~~~~~~~~~~~~~~~~~~~~~~~~~
F:/biocbuild/bbs-3.22-bioc/R/library/beachmat/include/beachmat3/lin_matrix.h:602:54: required from 'beachmat::sparse_index<const double*, int> beachmat::lin_SparseArraySeed<V, TIT>::get_row(size_t, double*, int*, size_t, size_t) [with V = Rcpp::Vector<10, Rcpp::PreserveStorage>; TIT = const int*; size_t = long long unsigned int]'
602 | return reader.template get_row<const double*>(r, work_x, work_i, first, last);
| ~~~~~~~~~~~~~~~~~~~~~~~~~~~~~~~~~~~~~~^~~~~~~~~~~~~~~~~~~~~~~~~~~~~~~~
F:/biocbuild/bbs-3.22-bioc/R/library/beachmat/include/beachmat3/lin_matrix.h:601:38: required from here
601 | sparse_index<const double*, int> get_row(size_t r, double* work_x, int* work_i, size_t first, size_t last) {
| ^~~~~~~
F:/biocbuild/bbs-3.22-bioc/R/library/beachmat/include/beachmat3/Csparse_reader.h:250:22: warning: comparison of integer expressions of different signedness: 'const int' and 'const long long unsigned int' [-Wsign-compare]
250 | if (idex != *pIt && static_cast<size_t>(i[idex]) == r) {
| ~~~~~^~~~~~~
g++ -std=gnu++11 -I"F:/biocbuild/bbs-3.22-bioc/R/include" -DNDEBUG -I../inst/include/ -I'F:/biocbuild/bbs-3.22-bioc/R/library/Rcpp/include' -I'F:/biocbuild/bbs-3.22-bioc/R/library/beachmat/include' -I"C:/rtools45/x86_64-w64-mingw32.static.posix/include" -O2 -Wall -mfpmath=sse -msse2 -mstackrealign -c pool_size_factors.cpp -o pool_size_factors.o
In file included from F:/biocbuild/bbs-3.22-bioc/R/library/beachmat/include/beachmat3/read_lin_block.h:11,
from F:/biocbuild/bbs-3.22-bioc/R/library/beachmat/include/beachmat3/beachmat.h:24,
from pool_size_factors.cpp:2:
F:/biocbuild/bbs-3.22-bioc/R/library/beachmat/include/beachmat3/lin_matrix.h:95:27: warning: 'virtual const double* beachmat::lin_matrix::get_row(size_t, double*, size_t, size_t)' was hidden [-Woverloaded-virtual=]
95 | virtual const double* get_row(size_t r, double* work, size_t first, size_t last) = 0;
| ^~~~~~~
F:/biocbuild/bbs-3.22-bioc/R/library/beachmat/include/beachmat3/lin_matrix.h:338:38: note: by 'beachmat::lin_sparse_matrix::get_row'
338 | sparse_index<const double*, int> get_row(size_t r, double* work_x, int* work_i) {
| ^~~~~~~
F:/biocbuild/bbs-3.22-bioc/R/library/beachmat/include/beachmat3/lin_matrix.h:66:24: warning: 'virtual const int* beachmat::lin_matrix::get_row(size_t, int*, size_t, size_t)' was hidden [-Woverloaded-virtual=]
66 | virtual const int* get_row(size_t r, int* work, size_t first, size_t last) = 0;
| ^~~~~~~
F:/biocbuild/bbs-3.22-bioc/R/library/beachmat/include/beachmat3/lin_matrix.h:338:38: note: by 'beachmat::lin_sparse_matrix::get_row'
338 | sparse_index<const double*, int> get_row(size_t r, double* work_x, int* work_i) {
| ^~~~~~~
F:/biocbuild/bbs-3.22-bioc/R/library/beachmat/include/beachmat3/lin_matrix.h:81:27: warning: 'virtual const double* beachmat::lin_matrix::get_col(size_t, double*, size_t, size_t)' was hidden [-Woverloaded-virtual=]
81 | virtual const double* get_col(size_t c, double* work, size_t first, size_t last) = 0;
| ^~~~~~~
F:/biocbuild/bbs-3.22-bioc/R/library/beachmat/include/beachmat3/lin_matrix.h:321:38: note: by 'beachmat::lin_sparse_matrix::get_col'
321 | sparse_index<const double*, int> get_col(size_t c, double* work_x, int* work_i) {
| ^~~~~~~
F:/biocbuild/bbs-3.22-bioc/R/library/beachmat/include/beachmat3/lin_matrix.h:52:24: warning: 'virtual const int* beachmat::lin_matrix::get_col(size_t, int*, size_t, size_t)' was hidden [-Woverloaded-virtual=]
52 | virtual const int* get_col(size_t c, int* work, size_t first, size_t last) = 0;
| ^~~~~~~
F:/biocbuild/bbs-3.22-bioc/R/library/beachmat/include/beachmat3/lin_matrix.h:321:38: note: by 'beachmat::lin_sparse_matrix::get_col'
321 | sparse_index<const double*, int> get_col(size_t c, double* work_x, int* work_i) {
| ^~~~~~~
pool_size_factors.cpp: In function 'Rcpp::List pool_size_factors(Rcpp::RObject, Rcpp::NumericVector, Rcpp::IntegerVector, Rcpp::IntegerVector)':
pool_size_factors.cpp:56:15: warning: comparison of integer expressions of different signedness: 'const size_t' {aka 'const long long unsigned int'} and 'R_xlen_t' {aka 'long long int'} [-Wsign-compare]
56 | if (ngenes!=pseudo_cell.size()) {
| ~~~~~~^~~~~~~~~~~~~~~~~~~~
pool_size_factors.cpp:61:22: warning: comparison of integer expressions of different signedness: 'R_xlen_t' {aka 'long long int'} and 'long long unsigned int' [-Wsign-compare]
61 | if (order.size() < ncells*2-1) {
| ~~~~~~~~~~~~~^~~~~~~~~~~~
pool_size_factors.cpp:170:37: warning: comparison of integer expressions of different signedness: 'int' and 'long long unsigned int' [-Wsign-compare]
170 | for (auto i=0; i<n; ++i, ++val, ++rows) {
| ~^~
In file included from F:/biocbuild/bbs-3.22-bioc/R/library/beachmat/include/beachmat3/lin_matrix.h:12:
F:/biocbuild/bbs-3.22-bioc/R/library/beachmat/include/beachmat3/Csparse_reader.h: In instantiation of 'beachmat::SparseArraySeed_reader<V, TIT>::SparseArraySeed_reader(Rcpp::RObject) [with V = Rcpp::Vector<13>; TIT = const int*; Rcpp::RObject = Rcpp::RObject_Impl<Rcpp::PreserveStorage>]':
F:/biocbuild/bbs-3.22-bioc/R/library/beachmat/include/beachmat3/lin_matrix.h:561:46: required from 'beachmat::lin_SparseArraySeed<V, TIT>::lin_SparseArraySeed(Rcpp::RObject) [with V = Rcpp::Vector<13>; TIT = const int*; Rcpp::RObject = Rcpp::RObject_Impl<Rcpp::PreserveStorage>]'
561 | lin_SparseArraySeed(Rcpp::RObject mat) : reader(mat) {
| ^~~~~~~~~~~
F:/biocbuild/bbs-3.22-bioc/R/library/beachmat/include/beachmat3/read_lin_block.h:36:39: required from 'std::unique_ptr<M> beachmat::read_lin_sparse_block_raw(Rcpp::RObject) [with M = lin_matrix; Rcpp::RObject = Rcpp::RObject_Impl<Rcpp::PreserveStorage>]'
36 | return std::unique_ptr<M>(new integer_SparseArraySeed(block));
| ^~~~~~~~~~~~~~~~~~~~~~~~~~~~~~~~~~
F:/biocbuild/bbs-3.22-bioc/R/library/beachmat/include/beachmat3/read_lin_block.h:65:57: required from here
65 | auto ptr = read_lin_sparse_block_raw<lin_matrix>(block);
| ~~~~~~~~~~~~~~~~~~~~~~~~~~~~~~~~~~~~~^~~~~~~
F:/biocbuild/bbs-3.22-bioc/R/library/beachmat/include/beachmat3/Csparse_reader.h:535:17: warning: comparison of integer expressions of different signedness: 'const size_t' {aka 'const long long unsigned int'} and 'R_xlen_t' {aka 'long long int'} [-Wsign-compare]
535 | if (nnz != x.size()) {
| ~~~~^~~~~~~~~~~
F:/biocbuild/bbs-3.22-bioc/R/library/beachmat/include/beachmat3/Csparse_reader.h:551:45: warning: comparison of integer expressions of different signedness: 'int' and 'const size_t' {aka 'const long long unsigned int'} [-Wsign-compare]
551 | if (lastR <= 0 || lastR > NR || lastC <= 0 || lastC > NC) {
| ~~~~~~^~~~
F:/biocbuild/bbs-3.22-bioc/R/library/beachmat/include/beachmat3/Csparse_reader.h:551:73: warning: comparison of integer expressions of different signedness: 'int' and 'const size_t' {aka 'const long long unsigned int'} [-Wsign-compare]
551 | if (lastR <= 0 || lastR > NR || lastC <= 0 || lastC > NC) {
| ~~~~~~^~~~
F:/biocbuild/bbs-3.22-bioc/R/library/beachmat/include/beachmat3/Csparse_reader.h:593:35: warning: comparison of integer expressions of different signedness: 'int' and 'const size_t' {aka 'const long long unsigned int'} [-Wsign-compare]
593 | for (int v = 0; v < nnz; ++v, ++rowIt, ++colIt, ++xIt) {
| ~~^~~~~
F:/biocbuild/bbs-3.22-bioc/R/library/beachmat/include/beachmat3/Csparse_reader.h: In instantiation of 'beachmat::SparseArraySeed_reader<V, TIT>::SparseArraySeed_reader(Rcpp::RObject) [with V = Rcpp::Vector<14, Rcpp::PreserveStorage>; TIT = const double*; Rcpp::RObject = Rcpp::RObject_Impl<Rcpp::PreserveStorage>]':
F:/biocbuild/bbs-3.22-bioc/R/library/beachmat/include/beachmat3/lin_matrix.h:561:46: required from 'beachmat::lin_SparseArraySeed<V, TIT>::lin_SparseArraySeed(Rcpp::RObject) [with V = Rcpp::Vector<14, Rcpp::PreserveStorage>; TIT = const double*; Rcpp::RObject = Rcpp::RObject_Impl<Rcpp::PreserveStorage>]'
561 | lin_SparseArraySeed(Rcpp::RObject mat) : reader(mat) {
| ^~~~~~~~~~~
F:/biocbuild/bbs-3.22-bioc/R/library/beachmat/include/beachmat3/read_lin_block.h:38:39: required from 'std::unique_ptr<M> beachmat::read_lin_sparse_block_raw(Rcpp::RObject) [with M = lin_matrix; Rcpp::RObject = Rcpp::RObject_Impl<Rcpp::PreserveStorage>]'
38 | return std::unique_ptr<M>(new double_SparseArraySeed(block));
| ^~~~~~~~~~~~~~~~~~~~~~~~~~~~~~~~~
F:/biocbuild/bbs-3.22-bioc/R/library/beachmat/include/beachmat3/read_lin_block.h:65:57: required from here
65 | auto ptr = read_lin_sparse_block_raw<lin_matrix>(block);
| ~~~~~~~~~~~~~~~~~~~~~~~~~~~~~~~~~~~~~^~~~~~~
F:/biocbuild/bbs-3.22-bioc/R/library/beachmat/include/beachmat3/Csparse_reader.h:535:17: warning: comparison of integer expressions of different signedness: 'const size_t' {aka 'const long long unsigned int'} and 'R_xlen_t' {aka 'long long int'} [-Wsign-compare]
535 | if (nnz != x.size()) {
| ~~~~^~~~~~~~~~~
F:/biocbuild/bbs-3.22-bioc/R/library/beachmat/include/beachmat3/Csparse_reader.h:551:45: warning: comparison of integer expressions of different signedness: 'int' and 'const size_t' {aka 'const long long unsigned int'} [-Wsign-compare]
551 | if (lastR <= 0 || lastR > NR || lastC <= 0 || lastC > NC) {
| ~~~~~~^~~~
F:/biocbuild/bbs-3.22-bioc/R/library/beachmat/include/beachmat3/Csparse_reader.h:551:73: warning: comparison of integer expressions of different signedness: 'int' and 'const size_t' {aka 'const long long unsigned int'} [-Wsign-compare]
551 | if (lastR <= 0 || lastR > NR || lastC <= 0 || lastC > NC) {
| ~~~~~~^~~~
F:/biocbuild/bbs-3.22-bioc/R/library/beachmat/include/beachmat3/Csparse_reader.h:593:35: warning: comparison of integer expressions of different signedness: 'int' and 'const size_t' {aka 'const long long unsigned int'} [-Wsign-compare]
593 | for (int v = 0; v < nnz; ++v, ++rowIt, ++colIt, ++xIt) {
| ~~^~~~~
F:/biocbuild/bbs-3.22-bioc/R/library/beachmat/include/beachmat3/Csparse_reader.h: In instantiation of 'beachmat::SparseArraySeed_reader<V, TIT>::SparseArraySeed_reader(Rcpp::RObject) [with V = Rcpp::Vector<10, Rcpp::PreserveStorage>; TIT = const int*; Rcpp::RObject = Rcpp::RObject_Impl<Rcpp::PreserveStorage>]':
F:/biocbuild/bbs-3.22-bioc/R/library/beachmat/include/beachmat3/lin_matrix.h:561:46: required from 'beachmat::lin_SparseArraySeed<V, TIT>::lin_SparseArraySeed(Rcpp::RObject) [with V = Rcpp::Vector<10, Rcpp::PreserveStorage>; TIT = const int*; Rcpp::RObject = Rcpp::RObject_Impl<Rcpp::PreserveStorage>]'
561 | lin_SparseArraySeed(Rcpp::RObject mat) : reader(mat) {
| ^~~~~~~~~~~
F:/biocbuild/bbs-3.22-bioc/R/library/beachmat/include/beachmat3/read_lin_block.h:40:39: required from 'std::unique_ptr<M> beachmat::read_lin_sparse_block_raw(Rcpp::RObject) [with M = lin_matrix; Rcpp::RObject = Rcpp::RObject_Impl<Rcpp::PreserveStorage>]'
40 | return std::unique_ptr<M>(new logical_SparseArraySeed(block));
| ^~~~~~~~~~~~~~~~~~~~~~~~~~~~~~~~~~
F:/biocbuild/bbs-3.22-bioc/R/library/beachmat/include/beachmat3/read_lin_block.h:65:57: required from here
65 | auto ptr = read_lin_sparse_block_raw<lin_matrix>(block);
| ~~~~~~~~~~~~~~~~~~~~~~~~~~~~~~~~~~~~~^~~~~~~
F:/biocbuild/bbs-3.22-bioc/R/library/beachmat/include/beachmat3/Csparse_reader.h:535:17: warning: comparison of integer expressions of different signedness: 'const size_t' {aka 'const long long unsigned int'} and 'R_xlen_t' {aka 'long long int'} [-Wsign-compare]
535 | if (nnz != x.size()) {
| ~~~~^~~~~~~~~~~
F:/biocbuild/bbs-3.22-bioc/R/library/beachmat/include/beachmat3/Csparse_reader.h:551:45: warning: comparison of integer expressions of different signedness: 'int' and 'const size_t' {aka 'const long long unsigned int'} [-Wsign-compare]
551 | if (lastR <= 0 || lastR > NR || lastC <= 0 || lastC > NC) {
| ~~~~~~^~~~
F:/biocbuild/bbs-3.22-bioc/R/library/beachmat/include/beachmat3/Csparse_reader.h:551:73: warning: comparison of integer expressions of different signedness: 'int' and 'const size_t' {aka 'const long long unsigned int'} [-Wsign-compare]
551 | if (lastR <= 0 || lastR > NR || lastC <= 0 || lastC > NC) {
| ~~~~~~^~~~
F:/biocbuild/bbs-3.22-bioc/R/library/beachmat/include/beachmat3/Csparse_reader.h:593:35: warning: comparison of integer expressions of different signedness: 'int' and 'const size_t' {aka 'const long long unsigned int'} [-Wsign-compare]
593 | for (int v = 0; v < nnz; ++v, ++rowIt, ++colIt, ++xIt) {
| ~~^~~~~
F:/biocbuild/bbs-3.22-bioc/R/library/beachmat/include/beachmat3/Csparse_reader.h: In instantiation of 'beachmat::sparse_index<OUT, I> beachmat::Csparse_core<TIT, I, P>::get_row(size_t, ALT, I*, size_t, size_t) [with OUT = const int*; ALT = int*; TIT = const double*; I = int; P = long long unsigned int; size_t = long long unsigned int]':
F:/biocbuild/bbs-3.22-bioc/R/library/beachmat/include/beachmat3/Csparse_reader.h:650:42: required from 'beachmat::sparse_index<OUT, int> beachmat::SparseArraySeed_reader<V, TIT>::get_row(size_t, ALT, int*, size_t, size_t) [with OUT = const int*; ALT = int*; V = Rcpp::Vector<14, Rcpp::PreserveStorage>; TIT = const double*; size_t = long long unsigned int]'
650 | return core.template get_row<OUT>(r, work_x, work_i, first, last);
| ~~~~~~~~~~~~~~~~~~~~~~~~~~^~~~~~~~~~~~~~~~~~~~~~~~~~~~~~~~
F:/biocbuild/bbs-3.22-bioc/R/library/beachmat/include/beachmat3/lin_matrix.h:596:51: required from 'beachmat::sparse_index<const int*, int> beachmat::lin_SparseArraySeed<V, TIT>::get_row(size_t, int*, int*, size_t, size_t) [with V = Rcpp::Vector<14, Rcpp::PreserveStorage>; TIT = const double*; size_t = long long unsigned int]'
596 | return reader.template get_row<const int*>(r, work_x, work_i, first, last);
| ~~~~~~~~~~~~~~~~~~~~~~~~~~~~~~~~~~~^~~~~~~~~~~~~~~~~~~~~~~~~~~~~~~~
F:/biocbuild/bbs-3.22-bioc/R/library/beachmat/include/beachmat3/lin_matrix.h:595:35: required from here
595 | sparse_index<const int*, int> get_row(size_t r, int* work_x, int* work_i, size_t first, size_t last) {
| ^~~~~~~
F:/biocbuild/bbs-3.22-bioc/R/library/beachmat/include/beachmat3/Csparse_reader.h:250:22: warning: comparison of integer expressions of different signedness: 'const int' and 'const long long unsigned int' [-Wsign-compare]
250 | if (idex != *pIt && static_cast<size_t>(i[idex]) == r) {
| ~~~~~^~~~~~~
F:/biocbuild/bbs-3.22-bioc/R/library/beachmat/include/beachmat3/Csparse_reader.h: In instantiation of 'beachmat::sparse_index<OUT, I> beachmat::Csparse_core<TIT, I, P>::get_row(size_t, ALT, I*, size_t, size_t) [with OUT = const double*; ALT = double*; TIT = const double*; I = int; P = long long unsigned int; size_t = long long unsigned int]':
F:/biocbuild/bbs-3.22-bioc/R/library/beachmat/include/beachmat3/Csparse_reader.h:650:42: required from 'beachmat::sparse_index<OUT, int> beachmat::SparseArraySeed_reader<V, TIT>::get_row(size_t, ALT, int*, size_t, size_t) [with OUT = const double*; ALT = double*; V = Rcpp::Vector<14, Rcpp::PreserveStorage>; TIT = const double*; size_t = long long unsigned int]'
650 | return core.template get_row<OUT>(r, work_x, work_i, first, last);
| ~~~~~~~~~~~~~~~~~~~~~~~~~~^~~~~~~~~~~~~~~~~~~~~~~~~~~~~~~~
F:/biocbuild/bbs-3.22-bioc/R/library/beachmat/include/beachmat3/lin_matrix.h:602:54: required from 'beachmat::sparse_index<const double*, int> beachmat::lin_SparseArraySeed<V, TIT>::get_row(size_t, double*, int*, size_t, size_t) [with V = Rcpp::Vector<14, Rcpp::PreserveStorage>; TIT = const double*; size_t = long long unsigned int]'
602 | return reader.template get_row<const double*>(r, work_x, work_i, first, last);
| ~~~~~~~~~~~~~~~~~~~~~~~~~~~~~~~~~~~~~~^~~~~~~~~~~~~~~~~~~~~~~~~~~~~~~~
F:/biocbuild/bbs-3.22-bioc/R/library/beachmat/include/beachmat3/lin_matrix.h:601:38: required from here
601 | sparse_index<const double*, int> get_row(size_t r, double* work_x, int* work_i, size_t first, size_t last) {
| ^~~~~~~
F:/biocbuild/bbs-3.22-bioc/R/library/beachmat/include/beachmat3/Csparse_reader.h:250:22: warning: comparison of integer expressions of different signedness: 'const int' and 'const long long unsigned int' [-Wsign-compare]
250 | if (idex != *pIt && static_cast<size_t>(i[idex]) == r) {
| ~~~~~^~~~~~~
F:/biocbuild/bbs-3.22-bioc/R/library/beachmat/include/beachmat3/Csparse_reader.h: In instantiation of 'beachmat::sparse_index<OUT, I> beachmat::Csparse_core<TIT, I, P>::get_row(size_t, ALT, I*, size_t, size_t) [with OUT = const int*; ALT = int*; TIT = const int*; I = int; P = long long unsigned int; size_t = long long unsigned int]':
F:/biocbuild/bbs-3.22-bioc/R/library/beachmat/include/beachmat3/Csparse_reader.h:650:42: required from 'beachmat::sparse_index<OUT, int> beachmat::SparseArraySeed_reader<V, TIT>::get_row(size_t, ALT, int*, size_t, size_t) [with OUT = const int*; ALT = int*; V = Rcpp::Vector<10, Rcpp::PreserveStorage>; TIT = const int*; size_t = long long unsigned int]'
650 | return core.template get_row<OUT>(r, work_x, work_i, first, last);
| ~~~~~~~~~~~~~~~~~~~~~~~~~~^~~~~~~~~~~~~~~~~~~~~~~~~~~~~~~~
F:/biocbuild/bbs-3.22-bioc/R/library/beachmat/include/beachmat3/lin_matrix.h:596:51: required from 'beachmat::sparse_index<const int*, int> beachmat::lin_SparseArraySeed<V, TIT>::get_row(size_t, int*, int*, size_t, size_t) [with V = Rcpp::Vector<10, Rcpp::PreserveStorage>; TIT = const int*; size_t = long long unsigned int]'
596 | return reader.template get_row<const int*>(r, work_x, work_i, first, last);
| ~~~~~~~~~~~~~~~~~~~~~~~~~~~~~~~~~~~^~~~~~~~~~~~~~~~~~~~~~~~~~~~~~~~
F:/biocbuild/bbs-3.22-bioc/R/library/beachmat/include/beachmat3/lin_matrix.h:595:35: required from here
595 | sparse_index<const int*, int> get_row(size_t r, int* work_x, int* work_i, size_t first, size_t last) {
| ^~~~~~~
F:/biocbuild/bbs-3.22-bioc/R/library/beachmat/include/beachmat3/Csparse_reader.h:250:22: warning: comparison of integer expressions of different signedness: 'const int' and 'const long long unsigned int' [-Wsign-compare]
250 | if (idex != *pIt && static_cast<size_t>(i[idex]) == r) {
| ~~~~~^~~~~~~
F:/biocbuild/bbs-3.22-bioc/R/library/beachmat/include/beachmat3/Csparse_reader.h: In instantiation of 'beachmat::sparse_index<OUT, I> beachmat::Csparse_core<TIT, I, P>::get_row(size_t, ALT, I*, size_t, size_t) [with OUT = const double*; ALT = double*; TIT = const int*; I = int; P = long long unsigned int; size_t = long long unsigned int]':
F:/biocbuild/bbs-3.22-bioc/R/library/beachmat/include/beachmat3/Csparse_reader.h:650:42: required from 'beachmat::sparse_index<OUT, int> beachmat::SparseArraySeed_reader<V, TIT>::get_row(size_t, ALT, int*, size_t, size_t) [with OUT = const double*; ALT = double*; V = Rcpp::Vector<10, Rcpp::PreserveStorage>; TIT = const int*; size_t = long long unsigned int]'
650 | return core.template get_row<OUT>(r, work_x, work_i, first, last);
| ~~~~~~~~~~~~~~~~~~~~~~~~~~^~~~~~~~~~~~~~~~~~~~~~~~~~~~~~~~
F:/biocbuild/bbs-3.22-bioc/R/library/beachmat/include/beachmat3/lin_matrix.h:602:54: required from 'beachmat::sparse_index<const double*, int> beachmat::lin_SparseArraySeed<V, TIT>::get_row(size_t, double*, int*, size_t, size_t) [with V = Rcpp::Vector<10, Rcpp::PreserveStorage>; TIT = const int*; size_t = long long unsigned int]'
602 | return reader.template get_row<const double*>(r, work_x, work_i, first, last);
| ~~~~~~~~~~~~~~~~~~~~~~~~~~~~~~~~~~~~~~^~~~~~~~~~~~~~~~~~~~~~~~~~~~~~~~
F:/biocbuild/bbs-3.22-bioc/R/library/beachmat/include/beachmat3/lin_matrix.h:601:38: required from here
601 | sparse_index<const double*, int> get_row(size_t r, double* work_x, int* work_i, size_t first, size_t last) {
| ^~~~~~~
F:/biocbuild/bbs-3.22-bioc/R/library/beachmat/include/beachmat3/Csparse_reader.h:250:22: warning: comparison of integer expressions of different signedness: 'const int' and 'const long long unsigned int' [-Wsign-compare]
250 | if (idex != *pIt && static_cast<size_t>(i[idex]) == r) {
| ~~~~~^~~~~~~
g++ -std=gnu++11 -I"F:/biocbuild/bbs-3.22-bioc/R/include" -DNDEBUG -I../inst/include/ -I'F:/biocbuild/bbs-3.22-bioc/R/library/Rcpp/include' -I'F:/biocbuild/bbs-3.22-bioc/R/library/beachmat/include' -I"C:/rtools45/x86_64-w64-mingw32.static.posix/include" -O2 -Wall -mfpmath=sse -msse2 -mstackrealign -c sparse_summarize.cpp -o sparse_summarize.o
g++ -std=gnu++11 -I"F:/biocbuild/bbs-3.22-bioc/R/include" -DNDEBUG -I../inst/include/ -I'F:/biocbuild/bbs-3.22-bioc/R/library/Rcpp/include' -I'F:/biocbuild/bbs-3.22-bioc/R/library/beachmat/include' -I"C:/rtools45/x86_64-w64-mingw32.static.posix/include" -O2 -Wall -mfpmath=sse -msse2 -mstackrealign -c sum_counts.cpp -o sum_counts.o
In file included from F:/biocbuild/bbs-3.22-bioc/R/library/beachmat/include/beachmat3/read_lin_block.h:11,
from F:/biocbuild/bbs-3.22-bioc/R/library/beachmat/include/beachmat3/beachmat.h:24,
from sum_counts.cpp:2:
F:/biocbuild/bbs-3.22-bioc/R/library/beachmat/include/beachmat3/lin_matrix.h:95:27: warning: 'virtual const double* beachmat::lin_matrix::get_row(size_t, double*, size_t, size_t)' was hidden [-Woverloaded-virtual=]
95 | virtual const double* get_row(size_t r, double* work, size_t first, size_t last) = 0;
| ^~~~~~~
F:/biocbuild/bbs-3.22-bioc/R/library/beachmat/include/beachmat3/lin_matrix.h:338:38: note: by 'beachmat::lin_sparse_matrix::get_row'
338 | sparse_index<const double*, int> get_row(size_t r, double* work_x, int* work_i) {
| ^~~~~~~
F:/biocbuild/bbs-3.22-bioc/R/library/beachmat/include/beachmat3/lin_matrix.h:66:24: warning: 'virtual const int* beachmat::lin_matrix::get_row(size_t, int*, size_t, size_t)' was hidden [-Woverloaded-virtual=]
66 | virtual const int* get_row(size_t r, int* work, size_t first, size_t last) = 0;
| ^~~~~~~
F:/biocbuild/bbs-3.22-bioc/R/library/beachmat/include/beachmat3/lin_matrix.h:338:38: note: by 'beachmat::lin_sparse_matrix::get_row'
338 | sparse_index<const double*, int> get_row(size_t r, double* work_x, int* work_i) {
| ^~~~~~~
F:/biocbuild/bbs-3.22-bioc/R/library/beachmat/include/beachmat3/lin_matrix.h:81:27: warning: 'virtual const double* beachmat::lin_matrix::get_col(size_t, double*, size_t, size_t)' was hidden [-Woverloaded-virtual=]
81 | virtual const double* get_col(size_t c, double* work, size_t first, size_t last) = 0;
| ^~~~~~~
F:/biocbuild/bbs-3.22-bioc/R/library/beachmat/include/beachmat3/lin_matrix.h:321:38: note: by 'beachmat::lin_sparse_matrix::get_col'
321 | sparse_index<const double*, int> get_col(size_t c, double* work_x, int* work_i) {
| ^~~~~~~
F:/biocbuild/bbs-3.22-bioc/R/library/beachmat/include/beachmat3/lin_matrix.h:52:24: warning: 'virtual const int* beachmat::lin_matrix::get_col(size_t, int*, size_t, size_t)' was hidden [-Woverloaded-virtual=]
52 | virtual const int* get_col(size_t c, int* work, size_t first, size_t last) = 0;
| ^~~~~~~
F:/biocbuild/bbs-3.22-bioc/R/library/beachmat/include/beachmat3/lin_matrix.h:321:38: note: by 'beachmat::lin_sparse_matrix::get_col'
321 | sparse_index<const double*, int> get_col(size_t c, double* work_x, int* work_i) {
| ^~~~~~~
In file included from F:/biocbuild/bbs-3.22-bioc/R/library/beachmat/include/beachmat3/lin_matrix.h:12:
F:/biocbuild/bbs-3.22-bioc/R/library/beachmat/include/beachmat3/Csparse_reader.h: In instantiation of 'beachmat::SparseArraySeed_reader<V, TIT>::SparseArraySeed_reader(Rcpp::RObject) [with V = Rcpp::Vector<13>; TIT = const int*; Rcpp::RObject = Rcpp::RObject_Impl<Rcpp::PreserveStorage>]':
F:/biocbuild/bbs-3.22-bioc/R/library/beachmat/include/beachmat3/lin_matrix.h:561:46: required from 'beachmat::lin_SparseArraySeed<V, TIT>::lin_SparseArraySeed(Rcpp::RObject) [with V = Rcpp::Vector<13>; TIT = const int*; Rcpp::RObject = Rcpp::RObject_Impl<Rcpp::PreserveStorage>]'
561 | lin_SparseArraySeed(Rcpp::RObject mat) : reader(mat) {
| ^~~~~~~~~~~
F:/biocbuild/bbs-3.22-bioc/R/library/beachmat/include/beachmat3/read_lin_block.h:36:39: required from 'std::unique_ptr<M> beachmat::read_lin_sparse_block_raw(Rcpp::RObject) [with M = lin_matrix; Rcpp::RObject = Rcpp::RObject_Impl<Rcpp::PreserveStorage>]'
36 | return std::unique_ptr<M>(new integer_SparseArraySeed(block));
| ^~~~~~~~~~~~~~~~~~~~~~~~~~~~~~~~~~
F:/biocbuild/bbs-3.22-bioc/R/library/beachmat/include/beachmat3/read_lin_block.h:65:57: required from here
65 | auto ptr = read_lin_sparse_block_raw<lin_matrix>(block);
| ~~~~~~~~~~~~~~~~~~~~~~~~~~~~~~~~~~~~~^~~~~~~
F:/biocbuild/bbs-3.22-bioc/R/library/beachmat/include/beachmat3/Csparse_reader.h:535:17: warning: comparison of integer expressions of different signedness: 'const size_t' {aka 'const long long unsigned int'} and 'R_xlen_t' {aka 'long long int'} [-Wsign-compare]
535 | if (nnz != x.size()) {
| ~~~~^~~~~~~~~~~
F:/biocbuild/bbs-3.22-bioc/R/library/beachmat/include/beachmat3/Csparse_reader.h:551:45: warning: comparison of integer expressions of different signedness: 'int' and 'const size_t' {aka 'const long long unsigned int'} [-Wsign-compare]
551 | if (lastR <= 0 || lastR > NR || lastC <= 0 || lastC > NC) {
| ~~~~~~^~~~
F:/biocbuild/bbs-3.22-bioc/R/library/beachmat/include/beachmat3/Csparse_reader.h:551:73: warning: comparison of integer expressions of different signedness: 'int' and 'const size_t' {aka 'const long long unsigned int'} [-Wsign-compare]
551 | if (lastR <= 0 || lastR > NR || lastC <= 0 || lastC > NC) {
| ~~~~~~^~~~
F:/biocbuild/bbs-3.22-bioc/R/library/beachmat/include/beachmat3/Csparse_reader.h:593:35: warning: comparison of integer expressions of different signedness: 'int' and 'const size_t' {aka 'const long long unsigned int'} [-Wsign-compare]
593 | for (int v = 0; v < nnz; ++v, ++rowIt, ++colIt, ++xIt) {
| ~~^~~~~
F:/biocbuild/bbs-3.22-bioc/R/library/beachmat/include/beachmat3/Csparse_reader.h: In instantiation of 'beachmat::SparseArraySeed_reader<V, TIT>::SparseArraySeed_reader(Rcpp::RObject) [with V = Rcpp::Vector<14, Rcpp::PreserveStorage>; TIT = const double*; Rcpp::RObject = Rcpp::RObject_Impl<Rcpp::PreserveStorage>]':
F:/biocbuild/bbs-3.22-bioc/R/library/beachmat/include/beachmat3/lin_matrix.h:561:46: required from 'beachmat::lin_SparseArraySeed<V, TIT>::lin_SparseArraySeed(Rcpp::RObject) [with V = Rcpp::Vector<14, Rcpp::PreserveStorage>; TIT = const double*; Rcpp::RObject = Rcpp::RObject_Impl<Rcpp::PreserveStorage>]'
561 | lin_SparseArraySeed(Rcpp::RObject mat) : reader(mat) {
| ^~~~~~~~~~~
F:/biocbuild/bbs-3.22-bioc/R/library/beachmat/include/beachmat3/read_lin_block.h:38:39: required from 'std::unique_ptr<M> beachmat::read_lin_sparse_block_raw(Rcpp::RObject) [with M = lin_matrix; Rcpp::RObject = Rcpp::RObject_Impl<Rcpp::PreserveStorage>]'
38 | return std::unique_ptr<M>(new double_SparseArraySeed(block));
| ^~~~~~~~~~~~~~~~~~~~~~~~~~~~~~~~~
F:/biocbuild/bbs-3.22-bioc/R/library/beachmat/include/beachmat3/read_lin_block.h:65:57: required from here
65 | auto ptr = read_lin_sparse_block_raw<lin_matrix>(block);
| ~~~~~~~~~~~~~~~~~~~~~~~~~~~~~~~~~~~~~^~~~~~~
F:/biocbuild/bbs-3.22-bioc/R/library/beachmat/include/beachmat3/Csparse_reader.h:535:17: warning: comparison of integer expressions of different signedness: 'const size_t' {aka 'const long long unsigned int'} and 'R_xlen_t' {aka 'long long int'} [-Wsign-compare]
535 | if (nnz != x.size()) {
| ~~~~^~~~~~~~~~~
F:/biocbuild/bbs-3.22-bioc/R/library/beachmat/include/beachmat3/Csparse_reader.h:551:45: warning: comparison of integer expressions of different signedness: 'int' and 'const size_t' {aka 'const long long unsigned int'} [-Wsign-compare]
551 | if (lastR <= 0 || lastR > NR || lastC <= 0 || lastC > NC) {
| ~~~~~~^~~~
F:/biocbuild/bbs-3.22-bioc/R/library/beachmat/include/beachmat3/Csparse_reader.h:551:73: warning: comparison of integer expressions of different signedness: 'int' and 'const size_t' {aka 'const long long unsigned int'} [-Wsign-compare]
551 | if (lastR <= 0 || lastR > NR || lastC <= 0 || lastC > NC) {
| ~~~~~~^~~~
F:/biocbuild/bbs-3.22-bioc/R/library/beachmat/include/beachmat3/Csparse_reader.h:593:35: warning: comparison of integer expressions of different signedness: 'int' and 'const size_t' {aka 'const long long unsigned int'} [-Wsign-compare]
593 | for (int v = 0; v < nnz; ++v, ++rowIt, ++colIt, ++xIt) {
| ~~^~~~~
F:/biocbuild/bbs-3.22-bioc/R/library/beachmat/include/beachmat3/Csparse_reader.h: In instantiation of 'beachmat::SparseArraySeed_reader<V, TIT>::SparseArraySeed_reader(Rcpp::RObject) [with V = Rcpp::Vector<10, Rcpp::PreserveStorage>; TIT = const int*; Rcpp::RObject = Rcpp::RObject_Impl<Rcpp::PreserveStorage>]':
F:/biocbuild/bbs-3.22-bioc/R/library/beachmat/include/beachmat3/lin_matrix.h:561:46: required from 'beachmat::lin_SparseArraySeed<V, TIT>::lin_SparseArraySeed(Rcpp::RObject) [with V = Rcpp::Vector<10, Rcpp::PreserveStorage>; TIT = const int*; Rcpp::RObject = Rcpp::RObject_Impl<Rcpp::PreserveStorage>]'
561 | lin_SparseArraySeed(Rcpp::RObject mat) : reader(mat) {
| ^~~~~~~~~~~
F:/biocbuild/bbs-3.22-bioc/R/library/beachmat/include/beachmat3/read_lin_block.h:40:39: required from 'std::unique_ptr<M> beachmat::read_lin_sparse_block_raw(Rcpp::RObject) [with M = lin_matrix; Rcpp::RObject = Rcpp::RObject_Impl<Rcpp::PreserveStorage>]'
40 | return std::unique_ptr<M>(new logical_SparseArraySeed(block));
| ^~~~~~~~~~~~~~~~~~~~~~~~~~~~~~~~~~
F:/biocbuild/bbs-3.22-bioc/R/library/beachmat/include/beachmat3/read_lin_block.h:65:57: required from here
65 | auto ptr = read_lin_sparse_block_raw<lin_matrix>(block);
| ~~~~~~~~~~~~~~~~~~~~~~~~~~~~~~~~~~~~~^~~~~~~
F:/biocbuild/bbs-3.22-bioc/R/library/beachmat/include/beachmat3/Csparse_reader.h:535:17: warning: comparison of integer expressions of different signedness: 'const size_t' {aka 'const long long unsigned int'} and 'R_xlen_t' {aka 'long long int'} [-Wsign-compare]
535 | if (nnz != x.size()) {
| ~~~~^~~~~~~~~~~
F:/biocbuild/bbs-3.22-bioc/R/library/beachmat/include/beachmat3/Csparse_reader.h:551:45: warning: comparison of integer expressions of different signedness: 'int' and 'const size_t' {aka 'const long long unsigned int'} [-Wsign-compare]
551 | if (lastR <= 0 || lastR > NR || lastC <= 0 || lastC > NC) {
| ~~~~~~^~~~
F:/biocbuild/bbs-3.22-bioc/R/library/beachmat/include/beachmat3/Csparse_reader.h:551:73: warning: comparison of integer expressions of different signedness: 'int' and 'const size_t' {aka 'const long long unsigned int'} [-Wsign-compare]
551 | if (lastR <= 0 || lastR > NR || lastC <= 0 || lastC > NC) {
| ~~~~~~^~~~
F:/biocbuild/bbs-3.22-bioc/R/library/beachmat/include/beachmat3/Csparse_reader.h:593:35: warning: comparison of integer expressions of different signedness: 'int' and 'const size_t' {aka 'const long long unsigned int'} [-Wsign-compare]
593 | for (int v = 0; v < nnz; ++v, ++rowIt, ++colIt, ++xIt) {
| ~~^~~~~
F:/biocbuild/bbs-3.22-bioc/R/library/beachmat/include/beachmat3/Csparse_reader.h: In instantiation of 'beachmat::sparse_index<OUT, I> beachmat::Csparse_core<TIT, I, P>::get_row(size_t, ALT, I*, size_t, size_t) [with OUT = const int*; ALT = int*; TIT = const double*; I = int; P = long long unsigned int; size_t = long long unsigned int]':
F:/biocbuild/bbs-3.22-bioc/R/library/beachmat/include/beachmat3/Csparse_reader.h:650:42: required from 'beachmat::sparse_index<OUT, int> beachmat::SparseArraySeed_reader<V, TIT>::get_row(size_t, ALT, int*, size_t, size_t) [with OUT = const int*; ALT = int*; V = Rcpp::Vector<14, Rcpp::PreserveStorage>; TIT = const double*; size_t = long long unsigned int]'
650 | return core.template get_row<OUT>(r, work_x, work_i, first, last);
| ~~~~~~~~~~~~~~~~~~~~~~~~~~^~~~~~~~~~~~~~~~~~~~~~~~~~~~~~~~
F:/biocbuild/bbs-3.22-bioc/R/library/beachmat/include/beachmat3/lin_matrix.h:596:51: required from 'beachmat::sparse_index<const int*, int> beachmat::lin_SparseArraySeed<V, TIT>::get_row(size_t, int*, int*, size_t, size_t) [with V = Rcpp::Vector<14, Rcpp::PreserveStorage>; TIT = const double*; size_t = long long unsigned int]'
596 | return reader.template get_row<const int*>(r, work_x, work_i, first, last);
| ~~~~~~~~~~~~~~~~~~~~~~~~~~~~~~~~~~~^~~~~~~~~~~~~~~~~~~~~~~~~~~~~~~~
F:/biocbuild/bbs-3.22-bioc/R/library/beachmat/include/beachmat3/lin_matrix.h:595:35: required from here
595 | sparse_index<const int*, int> get_row(size_t r, int* work_x, int* work_i, size_t first, size_t last) {
| ^~~~~~~
F:/biocbuild/bbs-3.22-bioc/R/library/beachmat/include/beachmat3/Csparse_reader.h:250:22: warning: comparison of integer expressions of different signedness: 'const int' and 'const long long unsigned int' [-Wsign-compare]
250 | if (idex != *pIt && static_cast<size_t>(i[idex]) == r) {
| ~~~~~^~~~~~~
F:/biocbuild/bbs-3.22-bioc/R/library/beachmat/include/beachmat3/Csparse_reader.h: In instantiation of 'beachmat::sparse_index<OUT, I> beachmat::Csparse_core<TIT, I, P>::get_row(size_t, ALT, I*, size_t, size_t) [with OUT = const double*; ALT = double*; TIT = const double*; I = int; P = long long unsigned int; size_t = long long unsigned int]':
F:/biocbuild/bbs-3.22-bioc/R/library/beachmat/include/beachmat3/Csparse_reader.h:650:42: required from 'beachmat::sparse_index<OUT, int> beachmat::SparseArraySeed_reader<V, TIT>::get_row(size_t, ALT, int*, size_t, size_t) [with OUT = const double*; ALT = double*; V = Rcpp::Vector<14, Rcpp::PreserveStorage>; TIT = const double*; size_t = long long unsigned int]'
650 | return core.template get_row<OUT>(r, work_x, work_i, first, last);
| ~~~~~~~~~~~~~~~~~~~~~~~~~~^~~~~~~~~~~~~~~~~~~~~~~~~~~~~~~~
F:/biocbuild/bbs-3.22-bioc/R/library/beachmat/include/beachmat3/lin_matrix.h:602:54: required from 'beachmat::sparse_index<const double*, int> beachmat::lin_SparseArraySeed<V, TIT>::get_row(size_t, double*, int*, size_t, size_t) [with V = Rcpp::Vector<14, Rcpp::PreserveStorage>; TIT = const double*; size_t = long long unsigned int]'
602 | return reader.template get_row<const double*>(r, work_x, work_i, first, last);
| ~~~~~~~~~~~~~~~~~~~~~~~~~~~~~~~~~~~~~~^~~~~~~~~~~~~~~~~~~~~~~~~~~~~~~~
F:/biocbuild/bbs-3.22-bioc/R/library/beachmat/include/beachmat3/lin_matrix.h:601:38: required from here
601 | sparse_index<const double*, int> get_row(size_t r, double* work_x, int* work_i, size_t first, size_t last) {
| ^~~~~~~
F:/biocbuild/bbs-3.22-bioc/R/library/beachmat/include/beachmat3/Csparse_reader.h:250:22: warning: comparison of integer expressions of different signedness: 'const int' and 'const long long unsigned int' [-Wsign-compare]
250 | if (idex != *pIt && static_cast<size_t>(i[idex]) == r) {
| ~~~~~^~~~~~~
F:/biocbuild/bbs-3.22-bioc/R/library/beachmat/include/beachmat3/Csparse_reader.h: In instantiation of 'beachmat::sparse_index<OUT, I> beachmat::Csparse_core<TIT, I, P>::get_row(size_t, ALT, I*, size_t, size_t) [with OUT = const int*; ALT = int*; TIT = const int*; I = int; P = long long unsigned int; size_t = long long unsigned int]':
F:/biocbuild/bbs-3.22-bioc/R/library/beachmat/include/beachmat3/Csparse_reader.h:650:42: required from 'beachmat::sparse_index<OUT, int> beachmat::SparseArraySeed_reader<V, TIT>::get_row(size_t, ALT, int*, size_t, size_t) [with OUT = const int*; ALT = int*; V = Rcpp::Vector<10, Rcpp::PreserveStorage>; TIT = const int*; size_t = long long unsigned int]'
650 | return core.template get_row<OUT>(r, work_x, work_i, first, last);
| ~~~~~~~~~~~~~~~~~~~~~~~~~~^~~~~~~~~~~~~~~~~~~~~~~~~~~~~~~~
F:/biocbuild/bbs-3.22-bioc/R/library/beachmat/include/beachmat3/lin_matrix.h:596:51: required from 'beachmat::sparse_index<const int*, int> beachmat::lin_SparseArraySeed<V, TIT>::get_row(size_t, int*, int*, size_t, size_t) [with V = Rcpp::Vector<10, Rcpp::PreserveStorage>; TIT = const int*; size_t = long long unsigned int]'
596 | return reader.template get_row<const int*>(r, work_x, work_i, first, last);
| ~~~~~~~~~~~~~~~~~~~~~~~~~~~~~~~~~~~^~~~~~~~~~~~~~~~~~~~~~~~~~~~~~~~
F:/biocbuild/bbs-3.22-bioc/R/library/beachmat/include/beachmat3/lin_matrix.h:595:35: required from here
595 | sparse_index<const int*, int> get_row(size_t r, int* work_x, int* work_i, size_t first, size_t last) {
| ^~~~~~~
F:/biocbuild/bbs-3.22-bioc/R/library/beachmat/include/beachmat3/Csparse_reader.h:250:22: warning: comparison of integer expressions of different signedness: 'const int' and 'const long long unsigned int' [-Wsign-compare]
250 | if (idex != *pIt && static_cast<size_t>(i[idex]) == r) {
| ~~~~~^~~~~~~
F:/biocbuild/bbs-3.22-bioc/R/library/beachmat/include/beachmat3/Csparse_reader.h: In instantiation of 'beachmat::sparse_index<OUT, I> beachmat::Csparse_core<TIT, I, P>::get_row(size_t, ALT, I*, size_t, size_t) [with OUT = const double*; ALT = double*; TIT = const int*; I = int; P = long long unsigned int; size_t = long long unsigned int]':
F:/biocbuild/bbs-3.22-bioc/R/library/beachmat/include/beachmat3/Csparse_reader.h:650:42: required from 'beachmat::sparse_index<OUT, int> beachmat::SparseArraySeed_reader<V, TIT>::get_row(size_t, ALT, int*, size_t, size_t) [with OUT = const double*; ALT = double*; V = Rcpp::Vector<10, Rcpp::PreserveStorage>; TIT = const int*; size_t = long long unsigned int]'
650 | return core.template get_row<OUT>(r, work_x, work_i, first, last);
| ~~~~~~~~~~~~~~~~~~~~~~~~~~^~~~~~~~~~~~~~~~~~~~~~~~~~~~~~~~
F:/biocbuild/bbs-3.22-bioc/R/library/beachmat/include/beachmat3/lin_matrix.h:602:54: required from 'beachmat::sparse_index<const double*, int> beachmat::lin_SparseArraySeed<V, TIT>::get_row(size_t, double*, int*, size_t, size_t) [with V = Rcpp::Vector<10, Rcpp::PreserveStorage>; TIT = const int*; size_t = long long unsigned int]'
602 | return reader.template get_row<const double*>(r, work_x, work_i, first, last);
| ~~~~~~~~~~~~~~~~~~~~~~~~~~~~~~~~~~~~~~^~~~~~~~~~~~~~~~~~~~~~~~~~~~~~~~
F:/biocbuild/bbs-3.22-bioc/R/library/beachmat/include/beachmat3/lin_matrix.h:601:38: required from here
601 | sparse_index<const double*, int> get_row(size_t r, double* work_x, int* work_i, size_t first, size_t last) {
| ^~~~~~~
F:/biocbuild/bbs-3.22-bioc/R/library/beachmat/include/beachmat3/Csparse_reader.h:250:22: warning: comparison of integer expressions of different signedness: 'const int' and 'const long long unsigned int' [-Wsign-compare]
250 | if (idex != *pIt && static_cast<size_t>(i[idex]) == r) {
| ~~~~~^~~~~~~
g++ -std=gnu++11 -I"F:/biocbuild/bbs-3.22-bioc/R/include" -DNDEBUG -I../inst/include/ -I'F:/biocbuild/bbs-3.22-bioc/R/library/Rcpp/include' -I'F:/biocbuild/bbs-3.22-bioc/R/library/beachmat/include' -I"C:/rtools45/x86_64-w64-mingw32.static.posix/include" -O2 -Wall -mfpmath=sse -msse2 -mstackrealign -c utils.cpp -o utils.o
g++ -shared -s -static-libgcc -o scuttle.dll tmp.def RcppExports.o cumulative_prop.o downsample_counts.o fit_linear_model.o pool_size_factors.o sparse_summarize.o sum_counts.o utils.o -LF:/biocbuild/bbs-3.22-bioc/R/bin/x64 -lRlapack -LF:/biocbuild/bbs-3.22-bioc/R/bin/x64 -lRblas -lgfortran -lquadmath -LC:/rtools45/x86_64-w64-mingw32.static.posix/lib/x64 -LC:/rtools45/x86_64-w64-mingw32.static.posix/lib -LF:/biocbuild/bbs-3.22-bioc/R/bin/x64 -lR
installing to F:/biocbuild/bbs-3.22-bioc/R/library/00LOCK-scuttle/00new/scuttle/libs/x64
** R
** inst
** byte-compile and prepare package for lazy loading
** help
*** installing help indices
** building package indices
** installing vignettes
** testing if installed package can be loaded from temporary location
** testing if installed package can be loaded from final location
** testing if installed package keeps a record of temporary installation path
* DONE (scuttle)
scuttle.Rcheck/tests/testthat.Rout
R version 4.5.1 (2025-06-13 ucrt) -- "Great Square Root"
Copyright (C) 2025 The R Foundation for Statistical Computing
Platform: x86_64-w64-mingw32/x64
R is free software and comes with ABSOLUTELY NO WARRANTY.
You are welcome to redistribute it under certain conditions.
Type 'license()' or 'licence()' for distribution details.
R is a collaborative project with many contributors.
Type 'contributors()' for more information and
'citation()' on how to cite R or R packages in publications.
Type 'demo()' for some demos, 'help()' for on-line help, or
'help.start()' for an HTML browser interface to help.
Type 'q()' to quit R.
> library(testthat)
> library(scuttle)
Loading required package: SingleCellExperiment
Loading required package: SummarizedExperiment
Loading required package: MatrixGenerics
Loading required package: matrixStats
Attaching package: 'MatrixGenerics'
The following objects are masked from 'package:matrixStats':
colAlls, colAnyNAs, colAnys, colAvgsPerRowSet, colCollapse,
colCounts, colCummaxs, colCummins, colCumprods, colCumsums,
colDiffs, colIQRDiffs, colIQRs, colLogSumExps, colMadDiffs,
colMads, colMaxs, colMeans2, colMedians, colMins, colOrderStats,
colProds, colQuantiles, colRanges, colRanks, colSdDiffs, colSds,
colSums2, colTabulates, colVarDiffs, colVars, colWeightedMads,
colWeightedMeans, colWeightedMedians, colWeightedSds,
colWeightedVars, rowAlls, rowAnyNAs, rowAnys, rowAvgsPerColSet,
rowCollapse, rowCounts, rowCummaxs, rowCummins, rowCumprods,
rowCumsums, rowDiffs, rowIQRDiffs, rowIQRs, rowLogSumExps,
rowMadDiffs, rowMads, rowMaxs, rowMeans2, rowMedians, rowMins,
rowOrderStats, rowProds, rowQuantiles, rowRanges, rowRanks,
rowSdDiffs, rowSds, rowSums2, rowTabulates, rowVarDiffs, rowVars,
rowWeightedMads, rowWeightedMeans, rowWeightedMedians,
rowWeightedSds, rowWeightedVars
Loading required package: GenomicRanges
Loading required package: stats4
Loading required package: BiocGenerics
Loading required package: generics
Attaching package: 'generics'
The following objects are masked from 'package:base':
as.difftime, as.factor, as.ordered, intersect, is.element, setdiff,
setequal, union
Attaching package: 'BiocGenerics'
The following objects are masked from 'package:stats':
IQR, mad, sd, var, xtabs
The following objects are masked from 'package:base':
Filter, Find, Map, Position, Reduce, anyDuplicated, aperm, append,
as.data.frame, basename, cbind, colnames, dirname, do.call,
duplicated, eval, evalq, get, grep, grepl, is.unsorted, lapply,
mapply, match, mget, order, paste, pmax, pmax.int, pmin, pmin.int,
rank, rbind, rownames, sapply, saveRDS, table, tapply, unique,
unsplit, which.max, which.min
Loading required package: S4Vectors
Attaching package: 'S4Vectors'
The following object is masked from 'package:utils':
findMatches
The following objects are masked from 'package:base':
I, expand.grid, unname
Loading required package: IRanges
Attaching package: 'IRanges'
The following object is masked from 'package:grDevices':
windows
Loading required package: Seqinfo
Loading required package: Biobase
Welcome to Bioconductor
Vignettes contain introductory material; view with
'browseVignettes()'. To cite Bioconductor, see
'citation("Biobase")', and for packages 'citation("pkgname")'.
Attaching package: 'Biobase'
The following object is masked from 'package:MatrixGenerics':
rowMedians
The following objects are masked from 'package:matrixStats':
anyMissing, rowMedians
> test_check("scuttle")
Loading required package: Matrix
Attaching package: 'Matrix'
The following object is masked from 'package:S4Vectors':
expand
Loading required package: S4Arrays
Loading required package: abind
Attaching package: 'S4Arrays'
The following object is masked from 'package:abind':
abind
The following object is masked from 'package:base':
rowsum
Loading required package: SparseArray
Attaching package: 'DelayedArray'
The following objects are masked from 'package:base':
apply, scale, sweep
[ FAIL 0 | WARN 13 | SKIP 0 | PASS 1707 ]
[ FAIL 0 | WARN 13 | SKIP 0 | PASS 1707 ]
>
> proc.time()
user system elapsed
140.95 4.70 417.04
scuttle.Rcheck/scuttle-Ex.timings
| name | user | system | elapsed | |
| addPerCellQCMetrics | 1.17 | 0.14 | 1.31 | |
| aggregateAcrossCells | 1.53 | 0.04 | 1.57 | |
| aggregateAcrossFeatures | 1.21 | 0.00 | 1.20 | |
| calculateAverage | 0.39 | 0.00 | 0.41 | |
| calculateCPM | 0.35 | 0.03 | 0.37 | |
| calculateFPKM | 1.00 | 0.04 | 1.04 | |
| calculateTPM | 0.37 | 0.00 | 0.37 | |
| cleanSizeFactors | 0.03 | 0.00 | 0.03 | |
| computePooledFactors | 5.72 | 0.18 | 5.94 | |
| computeSpikeFactors | 0.30 | 0.02 | 0.31 | |
| correctGroupSummary | 0.05 | 0.00 | 0.05 | |
| downsampleBatches | 4.78 | 0.00 | 4.78 | |
| downsampleMatrix | 2.98 | 0.01 | 3.00 | |
| fitLinearModel | 0.08 | 0.00 | 0.07 | |
| geometricSizeFactors | 0.39 | 0.02 | 0.41 | |
| isOutlier | 0.7 | 0.0 | 0.7 | |
| librarySizeFactors | 0.34 | 0.00 | 0.35 | |
| logNormCounts | 0.92 | 0.11 | 1.03 | |
| makePerCellDF | 0.49 | 0.02 | 0.50 | |
| makePerFeatureDF | 1.30 | 0.00 | 1.29 | |
| medianSizeFactors | 0.26 | 0.01 | 0.29 | |
| mockSCE | 0.39 | 0.00 | 0.39 | |
| normalizeCounts | 1.58 | 0.06 | 1.64 | |
| numDetectedAcrossCells | 0.42 | 0.00 | 0.42 | |
| numDetectedAcrossFeatures | 0.33 | 0.00 | 0.33 | |
| perCellQCFilters | 0.70 | 0.00 | 0.71 | |
| perCellQCMetrics | 1.19 | 0.00 | 1.18 | |
| perFeatureQCMetrics | 0.34 | 0.02 | 0.36 | |
| quickPerCellQC | 0.94 | 0.01 | 0.96 | |
| readSparseCounts | 0.01 | 0.00 | 0.03 | |
| sumCountsAcrossCells | 0.36 | 0.00 | 0.36 | |
| sumCountsAcrossFeatures | 0.33 | 0.02 | 0.35 | |
| summarizeAssayByGroup | 0.47 | 0.02 | 0.48 | |
| uniquifyDataFrameByGroup | 0.03 | 0.00 | 0.03 | |
| uniquifyFeatureNames | 0.01 | 0.00 | 0.02 | |