| Back to Multiple platform build/check report for BioC 3.22: simplified long |
|
This page was generated on 2025-10-25 12:05 -0400 (Sat, 25 Oct 2025).
| Hostname | OS | Arch (*) | R version | Installed pkgs |
|---|---|---|---|---|
| nebbiolo2 | Linux (Ubuntu 24.04.3 LTS) | x86_64 | 4.5.1 Patched (2025-08-23 r88802) -- "Great Square Root" | 4901 |
| lconway | macOS 12.7.6 Monterey | x86_64 | 4.5.1 Patched (2025-09-10 r88807) -- "Great Square Root" | 4691 |
| kjohnson3 | macOS 13.7.7 Ventura | arm64 | 4.5.1 Patched (2025-09-10 r88807) -- "Great Square Root" | 4637 |
| taishan | Linux (openEuler 24.03 LTS) | aarch64 | 4.5.0 (2025-04-11) -- "How About a Twenty-Six" | 4658 |
| Click on any hostname to see more info about the system (e.g. compilers) (*) as reported by 'uname -p', except on Windows and Mac OS X | ||||
| Package 1930/2361 | Hostname | OS / Arch | INSTALL | BUILD | CHECK | BUILD BIN | ||||||||
| scider 1.7.3 (landing page) Yunshun Chen
| nebbiolo2 | Linux (Ubuntu 24.04.3 LTS) / x86_64 | OK | OK | OK | |||||||||
| lconway | macOS 12.7.6 Monterey / x86_64 | OK | OK | OK | OK | |||||||||
| kjohnson3 | macOS 13.7.7 Ventura / arm64 | OK | OK | OK | OK | |||||||||
| taishan | Linux (openEuler 24.03 LTS) / aarch64 | OK | NA | NA | ||||||||||
|
To the developers/maintainers of the scider package: - Allow up to 24 hours (and sometimes 48 hours) for your latest push to git@git.bioconductor.org:packages/scider.git to reflect on this report. See Troubleshooting Build Report for more information. - Use the following Renviron settings to reproduce errors and warnings. - If 'R CMD check' started to fail recently on the Linux builder(s) over a missing dependency, add the missing dependency to 'Suggests:' in your DESCRIPTION file. See Renviron.bioc for more information. |
| Package: scider |
| Version: 1.7.3 |
| Command: /Library/Frameworks/R.framework/Resources/bin/R CMD check --install=check:scider.install-out.txt --library=/Library/Frameworks/R.framework/Resources/library --no-vignettes --timings scider_1.7.3.tar.gz |
| StartedAt: 2025-10-25 00:05:28 -0400 (Sat, 25 Oct 2025) |
| EndedAt: 2025-10-25 00:12:08 -0400 (Sat, 25 Oct 2025) |
| EllapsedTime: 399.9 seconds |
| RetCode: 0 |
| Status: OK |
| CheckDir: scider.Rcheck |
| Warnings: 0 |
##############################################################################
##############################################################################
###
### Running command:
###
### /Library/Frameworks/R.framework/Resources/bin/R CMD check --install=check:scider.install-out.txt --library=/Library/Frameworks/R.framework/Resources/library --no-vignettes --timings scider_1.7.3.tar.gz
###
##############################################################################
##############################################################################
* using log directory ‘/Users/biocbuild/bbs-3.22-bioc/meat/scider.Rcheck’
* using R version 4.5.1 Patched (2025-09-10 r88807)
* using platform: x86_64-apple-darwin20
* R was compiled by
Apple clang version 14.0.0 (clang-1400.0.29.202)
GNU Fortran (GCC) 14.2.0
* running under: macOS Monterey 12.7.6
* using session charset: UTF-8
* using option ‘--no-vignettes’
* checking for file ‘scider/DESCRIPTION’ ... OK
* checking extension type ... Package
* this is package ‘scider’ version ‘1.7.3’
* package encoding: UTF-8
* checking package namespace information ... OK
* checking package dependencies ... INFO
Imports includes 23 non-default packages.
Importing from so many packages makes the package vulnerable to any of
them becoming unavailable. Move as many as possible to Suggests and
use conditionally.
* checking if this is a source package ... OK
* checking if there is a namespace ... OK
* checking for hidden files and directories ... OK
* checking for portable file names ... OK
* checking for sufficient/correct file permissions ... OK
* checking whether package ‘scider’ can be installed ... OK
* used C++ compiler: ‘Apple clang version 14.0.0 (clang-1400.0.29.202)’
* used SDK: ‘MacOSX11.3.1.sdk’
* checking installed package size ... OK
* checking package directory ... OK
* checking ‘build’ directory ... OK
* checking DESCRIPTION meta-information ... OK
* checking top-level files ... OK
* checking for left-over files ... OK
* checking index information ... OK
* checking package subdirectories ... OK
* checking code files for non-ASCII characters ... OK
* checking R files for syntax errors ... OK
* checking whether the package can be loaded ... OK
* checking whether the package can be loaded with stated dependencies ... OK
* checking whether the package can be unloaded cleanly ... OK
* checking whether the namespace can be loaded with stated dependencies ... OK
* checking whether the namespace can be unloaded cleanly ... OK
* checking dependencies in R code ... OK
* checking S3 generic/method consistency ... OK
* checking replacement functions ... OK
* checking foreign function calls ... OK
* checking R code for possible problems ... OK
* checking Rd files ... OK
* checking Rd metadata ... OK
* checking Rd cross-references ... OK
* checking for missing documentation entries ... OK
* checking for code/documentation mismatches ... OK
* checking Rd \usage sections ... OK
* checking Rd contents ... OK
* checking for unstated dependencies in examples ... OK
* checking contents of ‘data’ directory ... OK
* checking data for non-ASCII characters ... OK
* checking data for ASCII and uncompressed saves ... OK
* checking line endings in C/C++/Fortran sources/headers ... OK
* checking compiled code ... NOTE
Note: information on .o files is not available
* checking files in ‘vignettes’ ... OK
* checking examples ... OK
Examples with CPU (user + system) or elapsed time > 5s
user system elapsed
plotDR 39.495 1.198 28.466
runUMAP 30.624 0.438 27.150
getClusters 15.406 0.289 14.177
findNbrsSNN 9.724 0.161 8.325
runPCA 6.253 0.089 6.384
* checking for unstated dependencies in ‘tests’ ... OK
* checking tests ...
Running ‘testthat.R’
OK
* checking for unstated dependencies in vignettes ... OK
* checking package vignettes ... OK
* checking running R code from vignettes ... SKIPPED
* checking re-building of vignette outputs ... SKIPPED
* checking PDF version of manual ... OK
* DONE
Status: 1 NOTE
See
‘/Users/biocbuild/bbs-3.22-bioc/meat/scider.Rcheck/00check.log’
for details.
scider.Rcheck/00install.out
############################################################################## ############################################################################## ### ### Running command: ### ### /Library/Frameworks/R.framework/Resources/bin/R CMD INSTALL scider ### ############################################################################## ############################################################################## * installing to library ‘/Library/Frameworks/R.framework/Versions/4.5-x86_64/Resources/library’ * installing *source* package ‘scider’ ... ** this is package ‘scider’ version ‘1.7.3’ ** using staged installation ** libs using C++ compiler: ‘Apple clang version 14.0.0 (clang-1400.0.29.202)’ using SDK: ‘MacOSX11.3.1.sdk’ clang++ -arch x86_64 -std=gnu++17 -I"/Library/Frameworks/R.framework/Resources/include" -DNDEBUG -I/opt/R/x86_64/include -fPIC -falign-functions=64 -Wall -g -O2 -c C_findSNN.cpp -o C_findSNN.o clang++ -arch x86_64 -std=gnu++17 -I"/Library/Frameworks/R.framework/Resources/include" -DNDEBUG -I/opt/R/x86_64/include -fPIC -falign-functions=64 -Wall -g -O2 -c C_globalMoran.cpp -o C_globalMoran.o clang++ -arch x86_64 -std=gnu++17 -I"/Library/Frameworks/R.framework/Resources/include" -DNDEBUG -I/opt/R/x86_64/include -fPIC -falign-functions=64 -Wall -g -O2 -c C_localMoran.cpp -o C_localMoran.o clang++ -arch x86_64 -std=gnu++17 -I"/Library/Frameworks/R.framework/Resources/include" -DNDEBUG -I/opt/R/x86_64/include -fPIC -falign-functions=64 -Wall -g -O2 -c utils.cpp -o utils.o clang++ -arch x86_64 -std=gnu++17 -dynamiclib -Wl,-headerpad_max_install_names -undefined dynamic_lookup -L/Library/Frameworks/R.framework/Resources/lib -L/opt/R/x86_64/lib -o scider.so C_findSNN.o C_globalMoran.o C_localMoran.o utils.o -F/Library/Frameworks/R.framework/.. -framework R installing to /Library/Frameworks/R.framework/Versions/4.5-x86_64/Resources/library/00LOCK-scider/00new/scider/libs ** R ** data ** byte-compile and prepare package for lazy loading ** help *** installing help indices *** copying figures ** building package indices ** installing vignettes ** testing if installed package can be loaded from temporary location ** checking absolute paths in shared objects and dynamic libraries ** testing if installed package can be loaded from final location ** testing if installed package keeps a record of temporary installation path * DONE (scider)
scider.Rcheck/tests/testthat.Rout
R version 4.5.1 Patched (2025-09-10 r88807) -- "Great Square Root"
Copyright (C) 2025 The R Foundation for Statistical Computing
Platform: x86_64-apple-darwin20
R is free software and comes with ABSOLUTELY NO WARRANTY.
You are welcome to redistribute it under certain conditions.
Type 'license()' or 'licence()' for distribution details.
R is a collaborative project with many contributors.
Type 'contributors()' for more information and
'citation()' on how to cite R or R packages in publications.
Type 'demo()' for some demos, 'help()' for on-line help, or
'help.start()' for an HTML browser interface to help.
Type 'q()' to quit R.
> # This file is part of the standard setup for testthat.
> # It is recommended that you do not modify it.
> #
> # Where should you do additional test configuration?
> # Learn more about the roles of various files in:
> # * https://r-pkgs.org/testing-design.html#sec-tests-files-overview
> # * https://testthat.r-lib.org/articles/special-files.html
>
> library(testthat)
> library(scider)
>
> test_check("scider")
Assigning cells to ROIs defined by Breast cancer
No contour detected. Proceed without contour.
Using bins = 10 to draw contours with equal cell numbers.
Assigning cells to ROIs defined by Breast cancer
Assigning cells to contour levels of Breast cancer
Linking to GEOS 3.13.0, GDAL 3.8.5, PROJ 9.5.1; sf_use_s2() is TRUE
Using bins = 10 to draw contours with equal cell numbers.
cell_typess is not a column of the colData. Skipping cell_typess
Using bins = 10 to draw contours with equal cell numbers.
Assigning cells to ROIs defined by Breast cancer fibroblasts
Assigning cells to contour levels of Breast cancer
Using bins = 10 to draw contours with equal cell numbers.
Assigning cells to ROIs defined by Breast cancer
No contour detected. Proceed without contour.
[ FAIL 0 | WARN 0 | SKIP 0 | PASS 71 ]
>
> proc.time()
user system elapsed
38.701 2.013 41.038
scider.Rcheck/scider-Ex.timings
| name | user | system | elapsed | |
| allocateCells | 4.402 | 0.204 | 4.671 | |
| corDensity | 1.310 | 0.096 | 1.412 | |
| findNbrsGrid | 0.932 | 0.111 | 1.053 | |
| findNbrsSNN | 9.724 | 0.161 | 8.325 | |
| findNbrsSpatial | 0.312 | 0.017 | 0.251 | |
| findROI | 1.520 | 0.057 | 1.586 | |
| getClusters | 15.406 | 0.289 | 14.177 | |
| getContour | 0.896 | 0.073 | 0.975 | |
| getNiche | 0.508 | 0.033 | 0.447 | |
| globalMoran | 2.237 | 0.152 | 1.725 | |
| gridDensity | 0.772 | 0.055 | 0.832 | |
| gridSPE | 2.842 | 0.255 | 3.114 | |
| localMoran | 4.117 | 0.064 | 1.416 | |
| mergeROI | 1.572 | 0.111 | 1.693 | |
| normalizeAssay | 0.304 | 0.009 | 0.314 | |
| plotCellCompo | 3.068 | 0.164 | 3.272 | |
| plotContour | 1.479 | 0.044 | 1.536 | |
| plotCorHeatmap | 1.371 | 0.080 | 1.474 | |
| plotDR | 39.495 | 1.198 | 28.466 | |
| plotDensCor | 4.441 | 0.097 | 4.567 | |
| plotDensity | 1.641 | 0.082 | 1.733 | |
| plotGrid | 1.360 | 0.118 | 1.487 | |
| plotLISA | 3.098 | 0.148 | 2.442 | |
| plotROI | 1.568 | 0.032 | 1.613 | |
| plotSpatial | 0.710 | 0.068 | 0.785 | |
| postSelRegion | 0.766 | 0.028 | 0.800 | |
| runPCA | 6.253 | 0.089 | 6.384 | |
| runUMAP | 30.624 | 0.438 | 27.150 | |
| selectRegion | 0.127 | 0.009 | 0.137 | |
| spe2PB | 1.642 | 0.106 | 1.759 | |
| xenium_bc_spe | 0.112 | 0.009 | 0.123 | |