| Back to Multiple platform build/check report for BioC 3.22: simplified long |
|
This page was generated on 2025-10-24 12:05 -0400 (Fri, 24 Oct 2025).
| Hostname | OS | Arch (*) | R version | Installed pkgs |
|---|---|---|---|---|
| nebbiolo2 | Linux (Ubuntu 24.04.3 LTS) | x86_64 | 4.5.1 Patched (2025-08-23 r88802) -- "Great Square Root" | 4898 |
| lconway | macOS 12.7.6 Monterey | x86_64 | 4.5.1 Patched (2025-09-10 r88807) -- "Great Square Root" | 4688 |
| kjohnson3 | macOS 13.7.7 Ventura | arm64 | 4.5.1 Patched (2025-09-10 r88807) -- "Great Square Root" | 4634 |
| taishan | Linux (openEuler 24.03 LTS) | aarch64 | 4.5.0 (2025-04-11) -- "How About a Twenty-Six" | 4658 |
| Click on any hostname to see more info about the system (e.g. compilers) (*) as reported by 'uname -p', except on Windows and Mac OS X | ||||
| Package 1698/2359 | Hostname | OS / Arch | INSTALL | BUILD | CHECK | BUILD BIN | ||||||||
| raer 1.7.2 (landing page) Kent Riemondy
| nebbiolo2 | Linux (Ubuntu 24.04.3 LTS) / x86_64 | OK | OK | OK | |||||||||
| lconway | macOS 12.7.6 Monterey / x86_64 | OK | OK | OK | OK | |||||||||
| kjohnson3 | macOS 13.7.7 Ventura / arm64 | OK | OK | OK | OK | |||||||||
| taishan | Linux (openEuler 24.03 LTS) / aarch64 | OK | OK | NA | ||||||||||
|
To the developers/maintainers of the raer package: - Allow up to 24 hours (and sometimes 48 hours) for your latest push to git@git.bioconductor.org:packages/raer.git to reflect on this report. See Troubleshooting Build Report for more information. - Use the following Renviron settings to reproduce errors and warnings. - If 'R CMD check' started to fail recently on the Linux builder(s) over a missing dependency, add the missing dependency to 'Suggests:' in your DESCRIPTION file. See Renviron.bioc for more information. |
| Package: raer |
| Version: 1.7.2 |
| Command: /Library/Frameworks/R.framework/Resources/bin/R CMD check --install=check:raer.install-out.txt --library=/Library/Frameworks/R.framework/Resources/library --no-vignettes --timings raer_1.7.2.tar.gz |
| StartedAt: 2025-10-23 23:28:53 -0400 (Thu, 23 Oct 2025) |
| EndedAt: 2025-10-23 23:36:43 -0400 (Thu, 23 Oct 2025) |
| EllapsedTime: 469.5 seconds |
| RetCode: 0 |
| Status: OK |
| CheckDir: raer.Rcheck |
| Warnings: 0 |
##############################################################################
##############################################################################
###
### Running command:
###
### /Library/Frameworks/R.framework/Resources/bin/R CMD check --install=check:raer.install-out.txt --library=/Library/Frameworks/R.framework/Resources/library --no-vignettes --timings raer_1.7.2.tar.gz
###
##############################################################################
##############################################################################
* using log directory ‘/Users/biocbuild/bbs-3.22-bioc/meat/raer.Rcheck’
* using R version 4.5.1 Patched (2025-09-10 r88807)
* using platform: x86_64-apple-darwin20
* R was compiled by
Apple clang version 14.0.0 (clang-1400.0.29.202)
GNU Fortran (GCC) 14.2.0
* running under: macOS Monterey 12.7.6
* using session charset: UTF-8
* using option ‘--no-vignettes’
* checking for file ‘raer/DESCRIPTION’ ... OK
* checking extension type ... Package
* this is package ‘raer’ version ‘1.7.2’
* package encoding: UTF-8
* checking package namespace information ... OK
* checking package dependencies ... OK
* checking if this is a source package ... OK
* checking if there is a namespace ... OK
* checking for hidden files and directories ... OK
* checking for portable file names ... OK
* checking for sufficient/correct file permissions ... OK
* checking whether package ‘raer’ can be installed ... OK
* used C compiler: ‘Apple clang version 14.0.0 (clang-1400.0.29.202)’
* used SDK: ‘MacOSX11.3.1.sdk’
* checking installed package size ... OK
* checking package directory ... OK
* checking ‘build’ directory ... OK
* checking DESCRIPTION meta-information ... OK
* checking top-level files ... OK
* checking for left-over files ... OK
* checking index information ... OK
* checking package subdirectories ... OK
* checking code files for non-ASCII characters ... OK
* checking R files for syntax errors ... OK
* checking whether the package can be loaded ... OK
* checking whether the package can be loaded with stated dependencies ... OK
* checking whether the package can be unloaded cleanly ... OK
* checking whether the namespace can be loaded with stated dependencies ... OK
* checking whether the namespace can be unloaded cleanly ... OK
* checking dependencies in R code ... OK
* checking S3 generic/method consistency ... OK
* checking replacement functions ... OK
* checking foreign function calls ... OK
* checking R code for possible problems ... OK
* checking Rd files ... OK
* checking Rd metadata ... OK
* checking Rd cross-references ... NOTE
Found the following Rd file(s) with Rd \link{} targets missing package
anchors:
annot_snps.Rd: GRanges, SummarizedExperiment
calc_AEI.Rd: GRanges, TxDb, SNPlocs, GPos, BiocParallelParam
calc_edit_frequency.Rd: RangedSummarizedExperiment
find_de_sites.Rd: RangedSummarizedExperiment
find_scde_sites.Rd: SingleCellExperiment, rowData, DataFrame
make_de_object.Rd: RangedSummarizedExperiment
pileup_cells.Rd: GRanges, BamFile, BamFileList, SingleCellExperiment,
rowRanges
pileup_sites.Rd: RangedSummarizedExperiment, BamFile, BamFileList,
colData, GRanges, BiocParallel, rowRanges
Please provide package anchors for all Rd \link{} targets not in the
package itself and the base packages.
* checking for missing documentation entries ... OK
* checking for code/documentation mismatches ... OK
* checking Rd \usage sections ... OK
* checking Rd contents ... OK
* checking for unstated dependencies in examples ... OK
* checking line endings in C/C++/Fortran sources/headers ... OK
* checking line endings in Makefiles ... OK
* checking compilation flags in Makevars ... OK
* checking for GNU extensions in Makefiles ... INFO
GNU make is a SystemRequirements.
* checking for portable use of $(BLAS_LIBS) and $(LAPACK_LIBS) ... OK
* checking use of PKG_*FLAGS in Makefiles ... OK
* checking compiled code ... NOTE
Note: information on .o files is not available
File ‘/Library/Frameworks/R.framework/Versions/4.5-x86_64/Resources/library/raer/libs/raer.so’:
Found ‘___assert_rtn’, possibly from ‘assert’ (C)
Found ‘___stderrp’, possibly from ‘stderr’ (C)
Found ‘___stdoutp’, possibly from ‘stdout’ (C)
Found ‘_abort’, possibly from ‘abort’ (C)
Found ‘_exit’, possibly from ‘exit’ (C)
Compiled code should not call entry points which might terminate R nor
write to stdout/stderr instead of to the console, nor use Fortran I/O
nor system RNGs nor [v]sprintf. The detected symbols are linked into
the code but might come from libraries and not actually be called.
See ‘Writing portable packages’ in the ‘Writing R Extensions’ manual.
* checking files in ‘vignettes’ ... OK
* checking examples ... OK
Examples with CPU (user + system) or elapsed time > 5s
user system elapsed
annot_snps 23.897 0.931 25.062
get_splice_sites 14.026 0.840 14.990
* checking for unstated dependencies in ‘tests’ ... OK
* checking tests ...
Running ‘testthat.R’
OK
* checking for unstated dependencies in vignettes ... OK
* checking package vignettes ... OK
* checking running R code from vignettes ... SKIPPED
* checking re-building of vignette outputs ... SKIPPED
* checking PDF version of manual ... OK
* DONE
Status: 2 NOTEs
See
‘/Users/biocbuild/bbs-3.22-bioc/meat/raer.Rcheck/00check.log’
for details.
raer.Rcheck/00install.out
############################################################################## ############################################################################## ### ### Running command: ### ### /Library/Frameworks/R.framework/Resources/bin/R CMD INSTALL raer ### ############################################################################## ############################################################################## * installing to library ‘/Library/Frameworks/R.framework/Versions/4.5-x86_64/Resources/library’ * installing *source* package ‘raer’ ... ** this is package ‘raer’ version ‘1.7.2’ ** using staged installation ** libs using C compiler: ‘Apple clang version 14.0.0 (clang-1400.0.29.202)’ using SDK: ‘MacOSX11.3.1.sdk’ clang -arch x86_64 -I"/Library/Frameworks/R.framework/Resources/include" -DNDEBUG -D_FILE_OFFSET_BITS=64 -I'/Library/Frameworks/R.framework/Versions/4.5-x86_64/Resources/library/Rhtslib/include' -I/opt/R/x86_64/include -fPIC -falign-functions=64 -Wall -g -O2 -c init.c -o init.o clang -arch x86_64 -I"/Library/Frameworks/R.framework/Resources/include" -DNDEBUG -D_FILE_OFFSET_BITS=64 -I'/Library/Frameworks/R.framework/Versions/4.5-x86_64/Resources/library/Rhtslib/include' -I/opt/R/x86_64/include -fPIC -falign-functions=64 -Wall -g -O2 -c plp.c -o plp.o clang -arch x86_64 -I"/Library/Frameworks/R.framework/Resources/include" -DNDEBUG -D_FILE_OFFSET_BITS=64 -I'/Library/Frameworks/R.framework/Versions/4.5-x86_64/Resources/library/Rhtslib/include' -I/opt/R/x86_64/include -fPIC -falign-functions=64 -Wall -g -O2 -c plp_data.c -o plp_data.o clang -arch x86_64 -I"/Library/Frameworks/R.framework/Resources/include" -DNDEBUG -D_FILE_OFFSET_BITS=64 -I'/Library/Frameworks/R.framework/Versions/4.5-x86_64/Resources/library/Rhtslib/include' -I/opt/R/x86_64/include -fPIC -falign-functions=64 -Wall -g -O2 -c plp_utils.c -o plp_utils.o clang -arch x86_64 -I"/Library/Frameworks/R.framework/Resources/include" -DNDEBUG -D_FILE_OFFSET_BITS=64 -I'/Library/Frameworks/R.framework/Versions/4.5-x86_64/Resources/library/Rhtslib/include' -I/opt/R/x86_64/include -fPIC -falign-functions=64 -Wall -g -O2 -c regfile.c -o regfile.o clang -arch x86_64 -I"/Library/Frameworks/R.framework/Resources/include" -DNDEBUG -D_FILE_OFFSET_BITS=64 -I'/Library/Frameworks/R.framework/Versions/4.5-x86_64/Resources/library/Rhtslib/include' -I/opt/R/x86_64/include -fPIC -falign-functions=64 -Wall -g -O2 -c sc-plp.c -o sc-plp.o clang -arch x86_64 -I"/Library/Frameworks/R.framework/Resources/include" -DNDEBUG -D_FILE_OFFSET_BITS=64 -I'/Library/Frameworks/R.framework/Versions/4.5-x86_64/Resources/library/Rhtslib/include' -I/opt/R/x86_64/include -fPIC -falign-functions=64 -Wall -g -O2 -c utils.c -o utils.o clang -arch x86_64 -I"/Library/Frameworks/R.framework/Resources/include" -DNDEBUG -D_FILE_OFFSET_BITS=64 -I'/Library/Frameworks/R.framework/Versions/4.5-x86_64/Resources/library/Rhtslib/include' -I/opt/R/x86_64/include -fPIC -falign-functions=64 -Wall -g -O2 -c ext/bcftools/bcftools-ext.c -o ext/bcftools/bcftools-ext.o clang -arch x86_64 -I"/Library/Frameworks/R.framework/Resources/include" -DNDEBUG -D_FILE_OFFSET_BITS=64 -I'/Library/Frameworks/R.framework/Versions/4.5-x86_64/Resources/library/Rhtslib/include' -I/opt/R/x86_64/include -fPIC -falign-functions=64 -Wall -g -O2 -c ext/htsbox/htsbox-ext.c -o ext/htsbox/htsbox-ext.o clang -arch x86_64 -I"/Library/Frameworks/R.framework/Resources/include" -DNDEBUG -D_FILE_OFFSET_BITS=64 -I'/Library/Frameworks/R.framework/Versions/4.5-x86_64/Resources/library/Rhtslib/include' -I/opt/R/x86_64/include -fPIC -falign-functions=64 -Wall -g -O2 -c ext/samtools/samtools-ext.c -o ext/samtools/samtools-ext.o clang -arch x86_64 -dynamiclib -Wl,-headerpad_max_install_names -undefined dynamic_lookup -L/Library/Frameworks/R.framework/Resources/lib -L/opt/R/x86_64/lib -o raer.so init.o plp.o plp_data.o plp_utils.o regfile.o sc-plp.o utils.o ext/bcftools/bcftools-ext.o ext/htsbox/htsbox-ext.o ext/samtools/samtools-ext.o /Library/Frameworks/R.framework/Versions/4.5-x86_64/Resources/library/Rhtslib/usrlib/libhts.a -lcurl -lbz2 -llzma -lz -F/Library/Frameworks/R.framework/.. -framework R installing to /Library/Frameworks/R.framework/Versions/4.5-x86_64/Resources/library/00LOCK-raer/00new/raer/libs ** R ** inst ** byte-compile and prepare package for lazy loading ** help *** installing help indices *** copying figures ** building package indices ** installing vignettes ** testing if installed package can be loaded from temporary location ** checking absolute paths in shared objects and dynamic libraries ** testing if installed package can be loaded from final location ** testing if installed package keeps a record of temporary installation path * DONE (raer)
raer.Rcheck/tests/testthat.Rout
R version 4.5.1 Patched (2025-09-10 r88807) -- "Great Square Root"
Copyright (C) 2025 The R Foundation for Statistical Computing
Platform: x86_64-apple-darwin20
R is free software and comes with ABSOLUTELY NO WARRANTY.
You are welcome to redistribute it under certain conditions.
Type 'license()' or 'licence()' for distribution details.
R is a collaborative project with many contributors.
Type 'contributors()' for more information and
'citation()' on how to cite R or R packages in publications.
Type 'demo()' for some demos, 'help()' for on-line help, or
'help.start()' for an HTML browser interface to help.
Type 'q()' to quit R.
> # This file is part of the standard setup for testthat.
> # It is recommended that you do not modify it.
> #
> # Where should you do additional test configuration?
> # Learn more about the roles of various files in:
> # * https://r-pkgs.org/tests.html
> # * https://testthat.r-lib.org/reference/test_package.html#special-files
>
> library(testthat)
> library(raer)
>
> test_check("raer")
Using classic mode.
[raer internal] fail to parse region 'chr1' with /Library/Frameworks/R.framework/Versions/4.5-x86_64/Resources/library/raer/extdata/SRR5564269_Aligned.sortedByCoord.out.md.bam
[raer internal] fail to parse region 'chrHello' with /Library/Frameworks/R.framework/Versions/4.5-x86_64/Resources/library/raer/extdata/SRR5564269_Aligned.sortedByCoord.out.md.bam
Loading required package: SNPlocs.Hsapiens.dbSNP144.GRCh38
Loading required package: BSgenome
Loading required package: BiocIO
Loading required package: BSgenome.Hsapiens.NCBI.GRCh38
i `filter_clustered_variants()`: removed 70 sites from 72 (2 remain)
i `filter_clustered_variants()`: removed 3 sites from 9 (6 remain)
i `filter_clustered_variants()`: removed 6 sites from 9 (3 remain)
[ FAIL 0 | WARN 3 | SKIP 0 | PASS 262 ]
[ FAIL 0 | WARN 3 | SKIP 0 | PASS 262 ]
>
> proc.time()
user system elapsed
106.481 6.395 113.495
raer.Rcheck/raer-Ex.timings
| name | user | system | elapsed | |
| annot_from_gr | 1.106 | 0.089 | 1.212 | |
| annot_snps | 23.897 | 0.931 | 25.062 | |
| calc_AEI | 2.287 | 0.187 | 2.498 | |
| calc_confidence | 0.343 | 0.010 | 0.355 | |
| calc_edit_frequency | 0.604 | 0.027 | 0.637 | |
| calc_scAEI | 1.368 | 0.034 | 1.413 | |
| correct_strand | 0.816 | 0.026 | 0.849 | |
| filter_clustered_variants | 2.778 | 0.087 | 2.890 | |
| filter_multiallelic | 0.365 | 0.013 | 0.381 | |
| filter_splice_variants | 1.635 | 0.039 | 1.687 | |
| find_de_sites | 1.497 | 0.048 | 1.556 | |
| find_mispriming_sites | 0.672 | 0.013 | 0.690 | |
| find_scde_sites | 2.189 | 0.096 | 2.304 | |
| get_overlapping_snps | 2.814 | 0.041 | 2.871 | |
| get_splice_sites | 14.026 | 0.840 | 14.990 | |
| make_de_object | 0.927 | 0.223 | 1.157 | |
| mock_rse | 0.288 | 0.012 | 0.302 | |
| pileup_cells | 1.305 | 0.068 | 1.390 | |
| pileup_sites | 3.260 | 0.207 | 3.506 | |
| raer_example | 0.002 | 0.001 | 0.002 | |
| read_sparray | 0.818 | 0.038 | 0.884 | |