| Back to Multiple platform build/check report for BioC 3.22: simplified long |
|
This page was generated on 2025-10-24 12:05 -0400 (Fri, 24 Oct 2025).
| Hostname | OS | Arch (*) | R version | Installed pkgs |
|---|---|---|---|---|
| nebbiolo2 | Linux (Ubuntu 24.04.3 LTS) | x86_64 | 4.5.1 Patched (2025-08-23 r88802) -- "Great Square Root" | 4898 |
| lconway | macOS 12.7.6 Monterey | x86_64 | 4.5.1 Patched (2025-09-10 r88807) -- "Great Square Root" | 4688 |
| kjohnson3 | macOS 13.7.7 Ventura | arm64 | 4.5.1 Patched (2025-09-10 r88807) -- "Great Square Root" | 4634 |
| taishan | Linux (openEuler 24.03 LTS) | aarch64 | 4.5.0 (2025-04-11) -- "How About a Twenty-Six" | 4658 |
| Click on any hostname to see more info about the system (e.g. compilers) (*) as reported by 'uname -p', except on Windows and Mac OS X | ||||
| Package 1621/2359 | Hostname | OS / Arch | INSTALL | BUILD | CHECK | BUILD BIN | ||||||||
| podkat 1.41.1 (landing page) Ulrich Bodenhofer
| nebbiolo2 | Linux (Ubuntu 24.04.3 LTS) / x86_64 | OK | OK | OK | |||||||||
| lconway | macOS 12.7.6 Monterey / x86_64 | OK | OK | OK | OK | |||||||||
| kjohnson3 | macOS 13.7.7 Ventura / arm64 | OK | OK | OK | OK | |||||||||
| taishan | Linux (openEuler 24.03 LTS) / aarch64 | OK | ERROR | skipped | ||||||||||
|
To the developers/maintainers of the podkat package: - Allow up to 24 hours (and sometimes 48 hours) for your latest push to git@git.bioconductor.org:packages/podkat.git to reflect on this report. See Troubleshooting Build Report for more information. - Use the following Renviron settings to reproduce errors and warnings. - If 'R CMD check' started to fail recently on the Linux builder(s) over a missing dependency, add the missing dependency to 'Suggests:' in your DESCRIPTION file. See Renviron.bioc for more information. |
| Package: podkat |
| Version: 1.41.1 |
| Command: /Library/Frameworks/R.framework/Resources/bin/R CMD check --install=check:podkat.install-out.txt --library=/Library/Frameworks/R.framework/Resources/library --no-vignettes --timings podkat_1.41.1.tar.gz |
| StartedAt: 2025-10-23 23:17:11 -0400 (Thu, 23 Oct 2025) |
| EndedAt: 2025-10-23 23:22:58 -0400 (Thu, 23 Oct 2025) |
| EllapsedTime: 346.5 seconds |
| RetCode: 0 |
| Status: OK |
| CheckDir: podkat.Rcheck |
| Warnings: 0 |
##############################################################################
##############################################################################
###
### Running command:
###
### /Library/Frameworks/R.framework/Resources/bin/R CMD check --install=check:podkat.install-out.txt --library=/Library/Frameworks/R.framework/Resources/library --no-vignettes --timings podkat_1.41.1.tar.gz
###
##############################################################################
##############################################################################
* using log directory ‘/Users/biocbuild/bbs-3.22-bioc/meat/podkat.Rcheck’
* using R version 4.5.1 Patched (2025-09-10 r88807)
* using platform: x86_64-apple-darwin20
* R was compiled by
Apple clang version 14.0.0 (clang-1400.0.29.202)
GNU Fortran (GCC) 14.2.0
* running under: macOS Monterey 12.7.6
* using session charset: UTF-8
* using option ‘--no-vignettes’
* checking for file ‘podkat/DESCRIPTION’ ... OK
* checking extension type ... Package
* this is package ‘podkat’ version ‘1.41.1’
* checking package namespace information ... OK
* checking package dependencies ... OK
* checking if this is a source package ... OK
* checking if there is a namespace ... OK
* checking for hidden files and directories ... OK
* checking for portable file names ... OK
* checking for sufficient/correct file permissions ... OK
* checking whether package ‘podkat’ can be installed ... OK
* used C++ compiler: ‘Apple clang version 14.0.0 (clang-1400.0.29.202)’
* used SDK: ‘MacOSX11.3.1.sdk’
* checking installed package size ... OK
* checking package directory ... OK
* checking ‘build’ directory ... OK
* checking DESCRIPTION meta-information ... OK
* checking top-level files ... OK
* checking for left-over files ... OK
* checking index information ... OK
* checking package subdirectories ... OK
* checking code files for non-ASCII characters ... OK
* checking R files for syntax errors ... OK
* checking whether the package can be loaded ... OK
* checking whether the package can be loaded with stated dependencies ... OK
* checking whether the package can be unloaded cleanly ... OK
* checking whether the namespace can be loaded with stated dependencies ... OK
* checking whether the namespace can be unloaded cleanly ... OK
* checking dependencies in R code ... OK
* checking S3 generic/method consistency ... OK
* checking replacement functions ... OK
* checking foreign function calls ... OK
* checking R code for possible problems ... OK
* checking Rd files ... OK
* checking Rd metadata ... OK
* checking Rd cross-references ... NOTE
Found the following Rd file(s) with Rd \link{} targets missing package
anchors:
AssocTestResultRanges-class.Rd: GRanges-class
GenotypeMatrix-class.Rd: dgCMatrix-class
VariantInfo-class.Rd: GRanges-class
assocTest-methods.Rd: GRanges-class, GRangesList-class
computeKernel.Rd: Matrix-class
filterResult-methods.Rd: GRanges-class, GRangesList-class
genotypeMatrix-methods.Rd: dgCMatrix-class, GRanges-class
hgA.Rd: GRanges-class
partitionRegions-methods.Rd: GRanges-class, GRangesList-class
plot-methods.Rd: GRanges-class
readGenotypeMatrix-methods.Rd: TabixFile-class, GRanges-class
readRegionsFromBedFile.Rd: GRanges-class, Seqinfo-class
readSampleNamesFromVcfHeader.Rd: TabixFile-class, scanBcfHeader
readVariantInfo-methods.Rd: TabixFile-class, GRanges-class
sort-methods.Rd: GRanges-class
split-methods.Rd: GRanges-class, GRangesList-class
unmasked-datasets.Rd: GRangesList-class, GRanges-class
unmaskedRegions.Rd: GRangesList-class, GRanges-class
weights-methods.Rd: GRanges-class, GRangesList-class
Please provide package anchors for all Rd \link{} targets not in the
package itself and the base packages.
* checking for missing documentation entries ... OK
* checking for code/documentation mismatches ... OK
* checking Rd \usage sections ... OK
* checking Rd contents ... OK
* checking for unstated dependencies in examples ... OK
* checking contents of ‘data’ directory ... OK
* checking data for non-ASCII characters ... OK
* checking data for ASCII and uncompressed saves ... OK
* checking line endings in C/C++/Fortran sources/headers ... OK
* checking line endings in Makefiles ... OK
* checking compilation flags in Makevars ... OK
* checking for GNU extensions in Makefiles ... INFO
GNU make is a SystemRequirements.
* checking for portable use of $(BLAS_LIBS) and $(LAPACK_LIBS) ... OK
* checking use of PKG_*FLAGS in Makefiles ... OK
* checking compiled code ... NOTE
Note: information on .o files is not available
File ‘/Library/Frameworks/R.framework/Versions/4.5-x86_64/Resources/library/podkat/libs/podkat.so’:
Found ‘___assert_rtn’, possibly from ‘assert’ (C)
Found ‘___stderrp’, possibly from ‘stderr’ (C)
Found ‘___stdoutp’, possibly from ‘stdout’ (C)
Found ‘_abort’, possibly from ‘abort’ (C)
Found ‘_exit’, possibly from ‘exit’ (C)
Compiled code should not call entry points which might terminate R nor
write to stdout/stderr instead of to the console, nor use Fortran I/O
nor system RNGs nor [v]sprintf. The detected symbols are linked into
the code but might come from libraries and not actually be called.
See ‘Writing portable packages’ in the ‘Writing R Extensions’ manual.
* checking sizes of PDF files under ‘inst/doc’ ... OK
* checking files in ‘vignettes’ ... OK
* checking examples ... OK
Examples with CPU (user + system) or elapsed time > 5s
user system elapsed
unmaskedRegions 30.804 2.582 33.688
assocTest-methods 11.603 0.468 12.156
plot-methods 8.329 0.370 8.777
split-methods 5.668 0.238 5.936
* checking for unstated dependencies in vignettes ... OK
* checking package vignettes ... OK
* checking running R code from vignettes ... SKIPPED
* checking re-building of vignette outputs ... SKIPPED
* checking PDF version of manual ... OK
* DONE
Status: 2 NOTEs
See
‘/Users/biocbuild/bbs-3.22-bioc/meat/podkat.Rcheck/00check.log’
for details.
podkat.Rcheck/00install.out
############################################################################## ############################################################################## ### ### Running command: ### ### /Library/Frameworks/R.framework/Resources/bin/R CMD INSTALL podkat ### ############################################################################## ############################################################################## * installing to library ‘/Library/Frameworks/R.framework/Versions/4.5-x86_64/Resources/library’ * installing *source* package ‘podkat’ ... ** this is package ‘podkat’ version ‘1.41.1’ ** using staged installation ** libs using C++ compiler: ‘Apple clang version 14.0.0 (clang-1400.0.29.202)’ using SDK: ‘MacOSX11.3.1.sdk’ clang++ -arch x86_64 -std=gnu++17 -I"/Library/Frameworks/R.framework/Resources/include" -DNDEBUG -D_FILE_OFFSET_BITS=64 -I'/Library/Frameworks/R.framework/Versions/4.5-x86_64/Resources/library/Rcpp/include' -I'/Library/Frameworks/R.framework/Versions/4.5-x86_64/Resources/library/Rhtslib/include' -I/opt/R/x86_64/include -fPIC -falign-functions=64 -Wall -g -O2 -c R_init_podkat.cpp -o R_init_podkat.o clang++ -arch x86_64 -std=gnu++17 -I"/Library/Frameworks/R.framework/Resources/include" -DNDEBUG -D_FILE_OFFSET_BITS=64 -I'/Library/Frameworks/R.framework/Versions/4.5-x86_64/Resources/library/Rcpp/include' -I'/Library/Frameworks/R.framework/Versions/4.5-x86_64/Resources/library/Rhtslib/include' -I/opt/R/x86_64/include -fPIC -falign-functions=64 -Wall -g -O2 -c bernoulliExact.cpp -o bernoulliExact.o clang++ -arch x86_64 -std=gnu++17 -I"/Library/Frameworks/R.framework/Resources/include" -DNDEBUG -D_FILE_OFFSET_BITS=64 -I'/Library/Frameworks/R.framework/Versions/4.5-x86_64/Resources/library/Rcpp/include' -I'/Library/Frameworks/R.framework/Versions/4.5-x86_64/Resources/library/Rhtslib/include' -I/opt/R/x86_64/include -fPIC -falign-functions=64 -Wall -g -O2 -c checkAndFixGenotype.cpp -o checkAndFixGenotype.o clang++ -arch x86_64 -std=gnu++17 -I"/Library/Frameworks/R.framework/Resources/include" -DNDEBUG -D_FILE_OFFSET_BITS=64 -I'/Library/Frameworks/R.framework/Versions/4.5-x86_64/Resources/library/Rcpp/include' -I'/Library/Frameworks/R.framework/Versions/4.5-x86_64/Resources/library/Rhtslib/include' -I/opt/R/x86_64/include -fPIC -falign-functions=64 -Wall -g -O2 -c cumMax.cpp -o cumMax.o clang++ -arch x86_64 -std=gnu++17 -I"/Library/Frameworks/R.framework/Resources/include" -DNDEBUG -D_FILE_OFFSET_BITS=64 -I'/Library/Frameworks/R.framework/Versions/4.5-x86_64/Resources/library/Rcpp/include' -I'/Library/Frameworks/R.framework/Versions/4.5-x86_64/Resources/library/Rhtslib/include' -I/opt/R/x86_64/include -fPIC -falign-functions=64 -Wall -g -O2 -c doubleMale.cpp -o doubleMale.o clang++ -arch x86_64 -std=gnu++17 -I"/Library/Frameworks/R.framework/Resources/include" -DNDEBUG -D_FILE_OFFSET_BITS=64 -I'/Library/Frameworks/R.framework/Versions/4.5-x86_64/Resources/library/Rcpp/include' -I'/Library/Frameworks/R.framework/Versions/4.5-x86_64/Resources/library/Rhtslib/include' -I/opt/R/x86_64/include -fPIC -falign-functions=64 -Wall -g -O2 -c kernels.cpp -o kernels.o clang++ -arch x86_64 -std=gnu++17 -I"/Library/Frameworks/R.framework/Resources/include" -DNDEBUG -D_FILE_OFFSET_BITS=64 -I'/Library/Frameworks/R.framework/Versions/4.5-x86_64/Resources/library/Rcpp/include' -I'/Library/Frameworks/R.framework/Versions/4.5-x86_64/Resources/library/Rhtslib/include' -I/opt/R/x86_64/include -fPIC -falign-functions=64 -Wall -g -O2 -c pValues.cpp -o pValues.o clang++ -arch x86_64 -std=gnu++17 -I"/Library/Frameworks/R.framework/Resources/include" -DNDEBUG -D_FILE_OFFSET_BITS=64 -I'/Library/Frameworks/R.framework/Versions/4.5-x86_64/Resources/library/Rcpp/include' -I'/Library/Frameworks/R.framework/Versions/4.5-x86_64/Resources/library/Rhtslib/include' -I/opt/R/x86_64/include -fPIC -falign-functions=64 -Wall -g -O2 -c partitionRegions.cpp -o partitionRegions.o clang++ -arch x86_64 -std=gnu++17 -I"/Library/Frameworks/R.framework/Resources/include" -DNDEBUG -D_FILE_OFFSET_BITS=64 -I'/Library/Frameworks/R.framework/Versions/4.5-x86_64/Resources/library/Rcpp/include' -I'/Library/Frameworks/R.framework/Versions/4.5-x86_64/Resources/library/Rhtslib/include' -I/opt/R/x86_64/include -fPIC -falign-functions=64 -Wall -g -O2 -c qfc.cpp -o qfc.o clang++ -arch x86_64 -std=gnu++17 -I"/Library/Frameworks/R.framework/Resources/include" -DNDEBUG -D_FILE_OFFSET_BITS=64 -I'/Library/Frameworks/R.framework/Versions/4.5-x86_64/Resources/library/Rcpp/include' -I'/Library/Frameworks/R.framework/Versions/4.5-x86_64/Resources/library/Rhtslib/include' -I/opt/R/x86_64/include -fPIC -falign-functions=64 -Wall -g -O2 -c readGenotypeMatrix.cpp -o readGenotypeMatrix.o clang++ -arch x86_64 -std=gnu++17 -I"/Library/Frameworks/R.framework/Resources/include" -DNDEBUG -D_FILE_OFFSET_BITS=64 -I'/Library/Frameworks/R.framework/Versions/4.5-x86_64/Resources/library/Rcpp/include' -I'/Library/Frameworks/R.framework/Versions/4.5-x86_64/Resources/library/Rhtslib/include' -I/opt/R/x86_64/include -fPIC -falign-functions=64 -Wall -g -O2 -c readVariantInfo.cpp -o readVariantInfo.o clang++ -arch x86_64 -std=gnu++17 -dynamiclib -Wl,-headerpad_max_install_names -undefined dynamic_lookup -L/Library/Frameworks/R.framework/Resources/lib -L/opt/R/x86_64/lib -o podkat.so R_init_podkat.o bernoulliExact.o checkAndFixGenotype.o cumMax.o doubleMale.o kernels.o pValues.o partitionRegions.o qfc.o readGenotypeMatrix.o readVariantInfo.o /Library/Frameworks/R.framework/Versions/4.5-x86_64/Resources/library/Rhtslib/usrlib/libhts.a -lcurl -lbz2 -llzma -lz -F/Library/Frameworks/R.framework/.. -framework R installing to /Library/Frameworks/R.framework/Versions/4.5-x86_64/Resources/library/00LOCK-podkat/00new/podkat/libs ** R ** data ** inst ** byte-compile and prepare package for lazy loading Creating a generic function for ‘p.adjust’ from package ‘stats’ in package ‘podkat’ ** help *** installing help indices ** building package indices ** installing vignettes ** testing if installed package can be loaded from temporary location ** checking absolute paths in shared objects and dynamic libraries ** testing if installed package can be loaded from final location ** testing if installed package keeps a record of temporary installation path * DONE (podkat)
podkat.Rcheck/podkat-Ex.timings
| name | user | system | elapsed | |
| AssocTestResult-class | 0.536 | 0.045 | 0.589 | |
| AssocTestResultRanges-class | 1.690 | 0.084 | 1.787 | |
| GenotypeMatrix-class | 3.512 | 0.092 | 3.624 | |
| NullModel-class | 1.723 | 0.094 | 1.828 | |
| VariantInfo-class | 0.360 | 0.007 | 0.371 | |
| assocTest-methods | 11.603 | 0.468 | 12.156 | |
| computeKernel | 0.002 | 0.001 | 0.004 | |
| filterResult-methods | 1.391 | 0.031 | 1.433 | |
| genotypeMatrix-methods | 0.797 | 0.048 | 0.852 | |
| hgA | 0.027 | 0.003 | 0.030 | |
| nullModel-methods | 0.606 | 0.059 | 0.671 | |
| p.adjust-methods | 1.139 | 0.026 | 1.172 | |
| partitionRegions-methods | 0.830 | 0.010 | 0.844 | |
| plot-methods | 8.329 | 0.370 | 8.777 | |
| podkat-package | 1.112 | 0.017 | 1.137 | |
| print-methods | 1.160 | 0.036 | 1.204 | |
| qqplot-methods | 1.803 | 0.021 | 1.838 | |
| readGenotypeMatrix-methods | 0.284 | 0.005 | 0.289 | |
| readRegionsFromBedFile | 0.134 | 0.008 | 0.142 | |
| readSampleNamesFromVcfHeader | 0.041 | 0.002 | 0.043 | |
| readVariantInfo-methods | 0.359 | 0.005 | 0.367 | |
| sort-methods | 1.045 | 0.011 | 1.064 | |
| split-methods | 5.668 | 0.238 | 5.936 | |
| unmasked-datasets | 0.398 | 0.006 | 0.405 | |
| unmaskedRegions | 30.804 | 2.582 | 33.688 | |
| weightFuncs | 0.007 | 0.003 | 0.011 | |
| weights-methods | 1.328 | 0.035 | 1.371 | |