| Back to Multiple platform build/check report for BioC 3.22: simplified long |
|
This page was generated on 2025-10-24 12:05 -0400 (Fri, 24 Oct 2025).
| Hostname | OS | Arch (*) | R version | Installed pkgs |
|---|---|---|---|---|
| nebbiolo2 | Linux (Ubuntu 24.04.3 LTS) | x86_64 | 4.5.1 Patched (2025-08-23 r88802) -- "Great Square Root" | 4898 |
| lconway | macOS 12.7.6 Monterey | x86_64 | 4.5.1 Patched (2025-09-10 r88807) -- "Great Square Root" | 4688 |
| kjohnson3 | macOS 13.7.7 Ventura | arm64 | 4.5.1 Patched (2025-09-10 r88807) -- "Great Square Root" | 4634 |
| taishan | Linux (openEuler 24.03 LTS) | aarch64 | 4.5.0 (2025-04-11) -- "How About a Twenty-Six" | 4658 |
| Click on any hostname to see more info about the system (e.g. compilers) (*) as reported by 'uname -p', except on Windows and Mac OS X | ||||
| Package 1511/2359 | Hostname | OS / Arch | INSTALL | BUILD | CHECK | BUILD BIN | ||||||||
| ontoProc 2.3.11 (landing page) Vincent Carey
| nebbiolo2 | Linux (Ubuntu 24.04.3 LTS) / x86_64 | OK | OK | OK | |||||||||
| lconway | macOS 12.7.6 Monterey / x86_64 | OK | OK | OK | OK | |||||||||
| kjohnson3 | macOS 13.7.7 Ventura / arm64 | OK | OK | OK | OK | |||||||||
| taishan | Linux (openEuler 24.03 LTS) / aarch64 | OK | ERROR | skipped | ||||||||||
|
To the developers/maintainers of the ontoProc package: - Allow up to 24 hours (and sometimes 48 hours) for your latest push to git@git.bioconductor.org:packages/ontoProc.git to reflect on this report. See Troubleshooting Build Report for more information. - Use the following Renviron settings to reproduce errors and warnings. - If 'R CMD check' started to fail recently on the Linux builder(s) over a missing dependency, add the missing dependency to 'Suggests:' in your DESCRIPTION file. See Renviron.bioc for more information. |
| Package: ontoProc |
| Version: 2.3.11 |
| Command: /Library/Frameworks/R.framework/Resources/bin/R CMD check --install=check:ontoProc.install-out.txt --library=/Library/Frameworks/R.framework/Resources/library --no-vignettes --timings ontoProc_2.3.11.tar.gz |
| StartedAt: 2025-10-23 22:59:33 -0400 (Thu, 23 Oct 2025) |
| EndedAt: 2025-10-23 23:33:41 -0400 (Thu, 23 Oct 2025) |
| EllapsedTime: 2048.5 seconds |
| RetCode: 0 |
| Status: OK |
| CheckDir: ontoProc.Rcheck |
| Warnings: 0 |
##############################################################################
##############################################################################
###
### Running command:
###
### /Library/Frameworks/R.framework/Resources/bin/R CMD check --install=check:ontoProc.install-out.txt --library=/Library/Frameworks/R.framework/Resources/library --no-vignettes --timings ontoProc_2.3.11.tar.gz
###
##############################################################################
##############################################################################
* using log directory ‘/Users/biocbuild/bbs-3.22-bioc/meat/ontoProc.Rcheck’
* using R version 4.5.1 Patched (2025-09-10 r88807)
* using platform: x86_64-apple-darwin20
* R was compiled by
Apple clang version 14.0.0 (clang-1400.0.29.202)
GNU Fortran (GCC) 14.2.0
* running under: macOS Monterey 12.7.6
* using session charset: UTF-8
* using option ‘--no-vignettes’
* checking for file ‘ontoProc/DESCRIPTION’ ... OK
* this is package ‘ontoProc’ version ‘2.3.11’
* package encoding: UTF-8
* checking package namespace information ... OK
* checking package dependencies ... OK
* checking if this is a source package ... OK
* checking if there is a namespace ... OK
* checking for hidden files and directories ... OK
* checking for portable file names ... OK
* checking for sufficient/correct file permissions ... OK
* checking whether package ‘ontoProc’ can be installed ... OK
* checking installed package size ... INFO
installed size is 11.5Mb
sub-directories of 1Mb or more:
app 1.9Mb
data 1.8Mb
ontoRda 2.8Mb
owl 3.8Mb
* checking package directory ... OK
* checking ‘build’ directory ... OK
* checking DESCRIPTION meta-information ... OK
* checking top-level files ... OK
* checking for left-over files ... OK
* checking index information ... OK
* checking package subdirectories ... OK
* checking code files for non-ASCII characters ... OK
* checking R files for syntax errors ... OK
* checking whether the package can be loaded ... OK
* checking whether the package can be loaded with stated dependencies ... OK
* checking whether the package can be unloaded cleanly ... OK
* checking whether the namespace can be loaded with stated dependencies ... OK
* checking whether the namespace can be unloaded cleanly ... OK
* checking dependencies in R code ... NOTE
':::' call which should be '::': ‘ontologyPlot:::remove_uninformative_terms’
See the note in ?`:::` about the use of this operator.
* checking S3 generic/method consistency ... OK
* checking replacement functions ... OK
* checking foreign function calls ... OK
* checking R code for possible problems ... NOTE
CLfeat : prupdate: no visible binding for global variable ‘PROSYM’
CLfeat : prupdate: no visible binding for global variable ‘PRID’
CLfeat : prupdate: no visible binding for global variable ‘SYMBOL’
ctmarks : server: no visible binding for global variable ‘text’
ctmarks : server: no visible binding for global variable ‘packDesc2022’
ctmarks : server: no visible binding for global variable ‘packDesc2021’
ctmarks: no visible binding for global variable ‘cumu’
dropStop: no visible binding for global variable ‘stopWords’
getOnto: no visible binding for global variable ‘rdatadateadded’
getOnto: no visible binding for global variable ‘title’
getOnto: no visible binding for global variable ‘description’
ldfToTerm: no visible binding for global variable ‘PROSYM’
sym2CellOnto: no visible binding for global variable ‘PROSYM’
sym2CellOnto: no visible binding for global variable ‘SYMBOL’
Undefined global functions or variables:
PRID PROSYM SYMBOL cumu description packDesc2021 packDesc2022
rdatadateadded stopWords text title
Consider adding
importFrom("graphics", "text", "title")
to your NAMESPACE file.
* checking Rd files ... OK
* checking Rd metadata ... OK
* checking Rd cross-references ... NOTE
Found the following Rd file(s) with Rd \link{} targets missing package
anchors:
findCommonAncestors.Rd: graph, DataFrame-class, List-class
Please provide package anchors for all Rd \link{} targets not in the
package itself and the base packages.
* checking for missing documentation entries ... OK
* checking for code/documentation mismatches ... OK
* checking Rd \usage sections ... NOTE
S3 methods shown with full name in Rd file 'plot.owlents.Rd':
‘plot.owlents’
The \usage entries for S3 methods should use the \method markup and not
their full name.
See chapter ‘Writing R documentation files’ in the ‘Writing R
Extensions’ manual.
* checking Rd contents ... OK
* checking for unstated dependencies in examples ... OK
* checking contents of ‘data’ directory ... OK
* checking data for non-ASCII characters ... OK
* checking data for ASCII and uncompressed saves ... OK
* checking files in ‘vignettes’ ... OK
* checking examples ... OK
Examples with CPU (user + system) or elapsed time > 5s
user system elapsed
sym2CellOnto 216.638 2.217 220.463
siblings_TAG 121.718 1.754 131.330
cleanCLOnames 100.478 1.644 116.879
nomenCheckup 94.412 0.775 101.992
CLfeats 84.956 6.120 127.940
fastGrep 60.053 0.949 61.716
getLeavesFromTerm 59.372 1.003 61.250
TermSet-class 50.133 1.147 83.178
common_classes 48.671 1.365 51.017
mapOneNaive 46.491 0.573 47.560
findCommonAncestors 46.206 0.785 47.463
liberalMap 45.658 0.657 46.910
getOnto 45.280 0.718 46.476
make_graphNEL_from_ontology_plot 45.143 0.591 46.252
onto_plot2 44.891 0.662 45.938
selectFromMap 43.230 0.692 44.374
secLevGen 42.351 0.545 43.502
ontoDiff 13.146 0.605 14.312
graph2paths 9.373 0.057 9.472
plot.owlents 6.126 0.668 94.546
ancestors 0.900 1.043 12.447
search_labels 0.434 0.020 18.042
bioregistry_ols_resources 0.046 0.039 23.765
* checking for unstated dependencies in ‘tests’ ... OK
* checking tests ...
Running ‘test.R’
OK
* checking for unstated dependencies in vignettes ... OK
* checking package vignettes ... OK
* checking running R code from vignettes ... SKIPPED
* checking re-building of vignette outputs ... SKIPPED
* checking PDF version of manual ... OK
* DONE
Status: 4 NOTEs
See
‘/Users/biocbuild/bbs-3.22-bioc/meat/ontoProc.Rcheck/00check.log’
for details.
ontoProc.Rcheck/00install.out
############################################################################## ############################################################################## ### ### Running command: ### ### /Library/Frameworks/R.framework/Resources/bin/R CMD INSTALL ontoProc ### ############################################################################## ############################################################################## * installing to library ‘/Library/Frameworks/R.framework/Versions/4.5-x86_64/Resources/library’ * installing *source* package ‘ontoProc’ ... ** this is package ‘ontoProc’ version ‘2.3.11’ ** using staged installation ** R ** data ** inst ** byte-compile and prepare package for lazy loading ** help *** installing help indices ** building package indices ** installing vignettes ** testing if installed package can be loaded from temporary location ** testing if installed package can be loaded from final location ** testing if installed package keeps a record of temporary installation path * DONE (ontoProc)
ontoProc.Rcheck/tests/test.Rout
R version 4.5.1 Patched (2025-09-10 r88807) -- "Great Square Root"
Copyright (C) 2025 The R Foundation for Statistical Computing
Platform: x86_64-apple-darwin20
R is free software and comes with ABSOLUTELY NO WARRANTY.
You are welcome to redistribute it under certain conditions.
Type 'license()' or 'licence()' for distribution details.
R is a collaborative project with many contributors.
Type 'contributors()' for more information and
'citation()' on how to cite R or R packages in publications.
Type 'demo()' for some demos, 'help()' for on-line help, or
'help.start()' for an HTML browser interface to help.
Type 'q()' to quit R.
>
> library(ontoProc)
Loading required package: ontologyIndex
> library(testthat)
>
> test_check("ontoProc")
[ FAIL 0 | WARN 0 | SKIP 0 | PASS 12 ]
>
>
> proc.time()
user system elapsed
289.109 4.712 303.733
ontoProc.Rcheck/ontoProc-Ex.timings
| name | user | system | elapsed | |
| CLfeats | 84.956 | 6.120 | 127.940 | |
| PROSYM | 0.385 | 0.007 | 0.635 | |
| TermSet-class | 50.133 | 1.147 | 83.178 | |
| allGOterms | 0.073 | 0.004 | 0.091 | |
| ancestors | 0.900 | 1.043 | 12.447 | |
| ancestors_names | 0.007 | 0.030 | 0.075 | |
| bioregistry_ols_resources | 0.046 | 0.039 | 23.765 | |
| cellTypeToGO | 2.126 | 0.212 | 2.394 | |
| children_names | 0.007 | 0.001 | 0.009 | |
| cleanCLOnames | 100.478 | 1.644 | 116.879 | |
| common_classes | 48.671 | 1.365 | 51.017 | |
| ctmarks | 0 | 0 | 0 | |
| cyclicSigset | 0.005 | 0.000 | 0.005 | |
| demoApp | 0.000 | 0.001 | 0.000 | |
| dropStop | 0.050 | 0.004 | 0.055 | |
| fastGrep | 60.053 | 0.949 | 61.716 | |
| findCommonAncestors | 46.206 | 0.785 | 47.463 | |
| formalize | 0.001 | 0.001 | 0.001 | |
| getLeavesFromTerm | 59.372 | 1.003 | 61.250 | |
| getOnto | 45.280 | 0.718 | 46.476 | |
| graph2paths | 9.373 | 0.057 | 9.472 | |
| humrna | 0.006 | 0.001 | 0.008 | |
| jowl2classgraph | 0.343 | 0.003 | 0.348 | |
| jowl2classgraph_nio | 0.754 | 0.008 | 0.765 | |
| labels.owlents | 0.000 | 0.000 | 0.001 | |
| ldfToTerms | 2.670 | 0.039 | 2.719 | |
| liberalMap | 45.658 | 0.657 | 46.910 | |
| makeSelectInput | 0.000 | 0.000 | 0.001 | |
| make_graphNEL_from_ontology_plot | 45.143 | 0.591 | 46.252 | |
| mapOneNaive | 46.491 | 0.573 | 47.560 | |
| minicorpus | 0.001 | 0.001 | 0.003 | |
| nomenCheckup | 94.412 | 0.775 | 101.992 | |
| ontoDiff | 13.146 | 0.605 | 14.312 | |
| onto_plot2 | 44.891 | 0.662 | 45.938 | |
| onto_roots | 0.001 | 0.000 | 0.001 | |
| owl2cache | 0.027 | 0.002 | 0.029 | |
| packDesc2019 | 0.003 | 0.002 | 0.005 | |
| packDesc2021 | 0.002 | 0.002 | 0.004 | |
| packDesc2022 | 0.002 | 0.002 | 0.004 | |
| packDesc2023 | 0.003 | 0.002 | 0.005 | |
| parents | 0.005 | 0.001 | 0.005 | |
| plot.owlents | 6.126 | 0.668 | 94.546 | |
| quickOnto | 0.378 | 0.026 | 0.407 | |
| recognizedPredicates | 0 | 0 | 0 | |
| search_labels | 0.434 | 0.020 | 18.042 | |
| secLevGen | 42.351 | 0.545 | 43.502 | |
| selectFromMap | 43.230 | 0.692 | 44.374 | |
| setup_entities | 0.004 | 0.001 | 0.006 | |
| setup_entities2 | 0.375 | 0.012 | 0.390 | |
| seur3kTab | 0.002 | 0.001 | 0.004 | |
| siblings_TAG | 121.718 | 1.754 | 131.330 | |
| stopWords | 0.001 | 0.001 | 0.003 | |
| subclasses | 0.007 | 0.001 | 0.008 | |
| sym2CellOnto | 216.638 | 2.217 | 220.463 | |
| valid_ontonames | 0.000 | 0.000 | 0.001 | |