Back to Multiple platform build/check report for BioC 3.22:   simplified   long
ABCDEFGHIJKLM[N]OPQRSTUVWXYZ

This page was generated on 2025-10-25 12:05 -0400 (Sat, 25 Oct 2025).

HostnameOSArch (*)R versionInstalled pkgs
nebbiolo2Linux (Ubuntu 24.04.3 LTS)x86_644.5.1 Patched (2025-08-23 r88802) -- "Great Square Root" 4901
lconwaymacOS 12.7.6 Montereyx86_644.5.1 Patched (2025-09-10 r88807) -- "Great Square Root" 4691
kjohnson3macOS 13.7.7 Venturaarm644.5.1 Patched (2025-09-10 r88807) -- "Great Square Root" 4637
taishanLinux (openEuler 24.03 LTS)aarch644.5.0 (2025-04-11) -- "How About a Twenty-Six" 4658
Click on any hostname to see more info about the system (e.g. compilers)      (*) as reported by 'uname -p', except on Windows and Mac OS X

Package 1474/2361HostnameOS / ArchINSTALLBUILDCHECKBUILD BIN
notameStats 0.99.2  (landing page)
Vilhelm Suksi
Snapshot Date: 2025-10-24 13:45 -0400 (Fri, 24 Oct 2025)
git_url: https://git.bioconductor.org/packages/notameStats
git_branch: devel
git_last_commit: 8a99705
git_last_commit_date: 2025-10-21 03:19:29 -0400 (Tue, 21 Oct 2025)
nebbiolo2Linux (Ubuntu 24.04.3 LTS) / x86_64  OK    OK    OK  UNNEEDED, same version is already published
lconwaymacOS 12.7.6 Monterey / x86_64  OK    OK    OK    OK  UNNEEDED, same version is already published
kjohnson3macOS 13.7.7 Ventura / arm64  OK    OK    OK    OK  UNNEEDED, same version is already published
taishanLinux (openEuler 24.03 LTS) / aarch64  OK    NA    NA  


CHECK results for notameStats on lconway

To the developers/maintainers of the notameStats package:
- Allow up to 24 hours (and sometimes 48 hours) for your latest push to git@git.bioconductor.org:packages/notameStats.git to reflect on this report. See Troubleshooting Build Report for more information.
- Use the following Renviron settings to reproduce errors and warnings.
- If 'R CMD check' started to fail recently on the Linux builder(s) over a missing dependency, add the missing dependency to 'Suggests:' in your DESCRIPTION file. See Renviron.bioc for more information.

raw results


Summary

Package: notameStats
Version: 0.99.2
Command: /Library/Frameworks/R.framework/Resources/bin/R CMD check --install=check:notameStats.install-out.txt --library=/Library/Frameworks/R.framework/Resources/library --no-vignettes --timings notameStats_0.99.2.tar.gz
StartedAt: 2025-10-24 22:58:35 -0400 (Fri, 24 Oct 2025)
EndedAt: 2025-10-24 23:03:58 -0400 (Fri, 24 Oct 2025)
EllapsedTime: 322.5 seconds
RetCode: 0
Status:   OK  
CheckDir: notameStats.Rcheck
Warnings: 0

Command output

##############################################################################
##############################################################################
###
### Running command:
###
###   /Library/Frameworks/R.framework/Resources/bin/R CMD check --install=check:notameStats.install-out.txt --library=/Library/Frameworks/R.framework/Resources/library --no-vignettes --timings notameStats_0.99.2.tar.gz
###
##############################################################################
##############################################################################


* using log directory ‘/Users/biocbuild/bbs-3.22-bioc/meat/notameStats.Rcheck’
* using R version 4.5.1 Patched (2025-09-10 r88807)
* using platform: x86_64-apple-darwin20
* R was compiled by
    Apple clang version 14.0.0 (clang-1400.0.29.202)
    GNU Fortran (GCC) 14.2.0
* running under: macOS Monterey 12.7.6
* using session charset: UTF-8
* using option ‘--no-vignettes’
* checking for file ‘notameStats/DESCRIPTION’ ... OK
* checking extension type ... Package
* this is package ‘notameStats’ version ‘0.99.2’
* package encoding: UTF-8
* checking package namespace information ... OK
* checking package dependencies ... OK
* checking if this is a source package ... OK
* checking if there is a namespace ... OK
* checking for hidden files and directories ... OK
* checking for portable file names ... OK
* checking for sufficient/correct file permissions ... OK
* checking whether package ‘notameStats’ can be installed ... OK
* checking installed package size ... OK
* checking package directory ... OK
* checking ‘build’ directory ... OK
* checking DESCRIPTION meta-information ... NOTE
License stub is invalid DCF.
* checking top-level files ... OK
* checking for left-over files ... OK
* checking index information ... OK
* checking package subdirectories ... OK
* checking code files for non-ASCII characters ... OK
* checking R files for syntax errors ... OK
* checking whether the package can be loaded ... OK
* checking whether the package can be loaded with stated dependencies ... OK
* checking whether the package can be unloaded cleanly ... OK
* checking whether the namespace can be loaded with stated dependencies ... OK
* checking whether the namespace can be unloaded cleanly ... OK
* checking dependencies in R code ... OK
* checking S3 generic/method consistency ... OK
* checking replacement functions ... OK
* checking foreign function calls ... OK
* checking R code for possible problems ... OK
* checking Rd files ... OK
* checking Rd metadata ... OK
* checking Rd cross-references ... OK
* checking for missing documentation entries ... OK
* checking for code/documentation mismatches ... OK
* checking Rd \usage sections ... OK
* checking Rd contents ... OK
* checking for unstated dependencies in examples ... OK
* checking files in ‘vignettes’ ... OK
* checking examples ... OK
Examples with CPU (user + system) or elapsed time > 5s
                                 user system elapsed
perform_auc                    21.111  3.102   6.442
perform_lmer                   18.274  2.874   5.804
pls_da                         19.055  1.812  20.965
muvr_analysis                  16.327  0.482  16.877
perform_non_parametric          8.977  4.793   4.934
perform_correlation_tests       6.610  3.674   4.222
perform_logistic                5.933  2.636   2.348
pls                             8.183  0.249   8.460
perform_homoscedasticity_tests  5.510  2.627   2.226
perform_lm                      4.786  2.445   1.954
summarize_results               4.412  1.875   1.726
* checking for unstated dependencies in ‘tests’ ... OK
* checking tests ...
  Running ‘testthat.R’
 OK
* checking for unstated dependencies in vignettes ... OK
* checking package vignettes ... OK
* checking running R code from vignettes ... SKIPPED
* checking re-building of vignette outputs ... SKIPPED
* checking PDF version of manual ... OK
* DONE

Status: 1 NOTE
See
  ‘/Users/biocbuild/bbs-3.22-bioc/meat/notameStats.Rcheck/00check.log’
for details.


Installation output

notameStats.Rcheck/00install.out

##############################################################################
##############################################################################
###
### Running command:
###
###   /Library/Frameworks/R.framework/Resources/bin/R CMD INSTALL notameStats
###
##############################################################################
##############################################################################


* installing to library ‘/Library/Frameworks/R.framework/Versions/4.5-x86_64/Resources/library’
* installing *source* package ‘notameStats’ ...
** this is package ‘notameStats’ version ‘0.99.2’
** using staged installation
** R
** inst
** byte-compile and prepare package for lazy loading
** help
*** installing help indices
** building package indices
** installing vignettes
** testing if installed package can be loaded from temporary location
** testing if installed package can be loaded from final location
** testing if installed package keeps a record of temporary installation path
* DONE (notameStats)

Tests output

notameStats.Rcheck/tests/testthat.Rout


R version 4.5.1 Patched (2025-09-10 r88807) -- "Great Square Root"
Copyright (C) 2025 The R Foundation for Statistical Computing
Platform: x86_64-apple-darwin20

R is free software and comes with ABSOLUTELY NO WARRANTY.
You are welcome to redistribute it under certain conditions.
Type 'license()' or 'licence()' for distribution details.

R is a collaborative project with many contributors.
Type 'contributors()' for more information and
'citation()' on how to cite R or R packages in publications.

Type 'demo()' for some demos, 'help()' for on-line help, or
'help.start()' for an HTML browser interface to help.
Type 'q()' to quit R.

> library(testthat)
> library(notameStats)
Loading required package: SummarizedExperiment
Loading required package: MatrixGenerics
Loading required package: matrixStats

Attaching package: 'MatrixGenerics'

The following objects are masked from 'package:matrixStats':

    colAlls, colAnyNAs, colAnys, colAvgsPerRowSet, colCollapse,
    colCounts, colCummaxs, colCummins, colCumprods, colCumsums,
    colDiffs, colIQRDiffs, colIQRs, colLogSumExps, colMadDiffs,
    colMads, colMaxs, colMeans2, colMedians, colMins, colOrderStats,
    colProds, colQuantiles, colRanges, colRanks, colSdDiffs, colSds,
    colSums2, colTabulates, colVarDiffs, colVars, colWeightedMads,
    colWeightedMeans, colWeightedMedians, colWeightedSds,
    colWeightedVars, rowAlls, rowAnyNAs, rowAnys, rowAvgsPerColSet,
    rowCollapse, rowCounts, rowCummaxs, rowCummins, rowCumprods,
    rowCumsums, rowDiffs, rowIQRDiffs, rowIQRs, rowLogSumExps,
    rowMadDiffs, rowMads, rowMaxs, rowMeans2, rowMedians, rowMins,
    rowOrderStats, rowProds, rowQuantiles, rowRanges, rowRanks,
    rowSdDiffs, rowSds, rowSums2, rowTabulates, rowVarDiffs, rowVars,
    rowWeightedMads, rowWeightedMeans, rowWeightedMedians,
    rowWeightedSds, rowWeightedVars

Loading required package: GenomicRanges
Loading required package: stats4
Loading required package: BiocGenerics
Loading required package: generics

Attaching package: 'generics'

The following objects are masked from 'package:base':

    as.difftime, as.factor, as.ordered, intersect, is.element, setdiff,
    setequal, union


Attaching package: 'BiocGenerics'

The following objects are masked from 'package:stats':

    IQR, mad, sd, var, xtabs

The following objects are masked from 'package:base':

    Filter, Find, Map, Position, Reduce, anyDuplicated, aperm, append,
    as.data.frame, basename, cbind, colnames, dirname, do.call,
    duplicated, eval, evalq, get, grep, grepl, is.unsorted, lapply,
    mapply, match, mget, order, paste, pmax, pmax.int, pmin, pmin.int,
    rank, rbind, rownames, sapply, saveRDS, table, tapply, unique,
    unsplit, which.max, which.min

Loading required package: S4Vectors

Attaching package: 'S4Vectors'

The following object is masked from 'package:utils':

    findMatches

The following objects are masked from 'package:base':

    I, expand.grid, unname

Loading required package: IRanges
Loading required package: Seqinfo
Loading required package: Biobase
Welcome to Bioconductor

    Vignettes contain introductory material; view with
    'browseVignettes()'. To cite Bioconductor, see
    'citation("Biobase")', and for packages 'citation("pkgname")'.


Attaching package: 'Biobase'

The following object is masked from 'package:MatrixGenerics':

    rowMedians

The following objects are masked from 'package:matrixStats':

    anyMissing, rowMedians

> 
> test_check("notameStats")
Running tests in parallel requires the 3rd edition
INFO [2025-10-24 23:03:12] Starting to compute Cohen's D between groups B & A from time change 2 - 1
INFO [2025-10-24 23:03:12] Cohen's D computed.
INFO [2025-10-24 23:03:12] Starting to compute Cohen's D between groups B & A
INFO [2025-10-24 23:03:12] Cohen's D computed.
INFO [2025-10-24 23:03:13] Starting to compute fold changes.
INFO [2025-10-24 23:03:13] Fold changes computed.
INFO [2025-10-24 23:03:13] Starting to compute fold changes.
INFO [2025-10-24 23:03:13] Fold changes computed.
INFO [2025-10-24 23:03:13] Starting linear regression.
INFO [2025-10-24 23:03:15] Linear regression performed.
INFO [2025-10-24 23:03:15] Starting linear regression.
INFO [2025-10-24 23:03:17] Linear regression performed.
INFO [2025-10-24 23:03:17] 
92% of features flagged for low quality
INFO [2025-10-24 23:03:17] Starting linear regression.
INFO [2025-10-24 23:03:18] Linear regression performed.
INFO [2025-10-24 23:03:19] Starting logistic regression
INFO [2025-10-24 23:03:20] Logistic regression performed.
INFO [2025-10-24 23:03:21] Starting logistic regression
INFO [2025-10-24 23:03:22] Logistic regression performed.
INFO [2025-10-24 23:03:23] Starting to compute Cohen's D between groups B & A
INFO [2025-10-24 23:03:23] Cohen's D computed.
INFO [2025-10-24 23:03:23] Starting to compute Cohen's D between groups C & A
INFO [2025-10-24 23:03:23] Cohen's D computed.
INFO [2025-10-24 23:03:23] Starting to compute Cohen's D between groups C & B
INFO [2025-10-24 23:03:23] Cohen's D computed.
INFO [2025-10-24 23:03:24] Starting to compute Cohen's D between groups B & A from time change 2 - 1
INFO [2025-10-24 23:03:24] Cohen's D computed.
INFO [2025-10-24 23:03:24] Starting to compute Cohen's D between groups B & A from time change 3 - 1
INFO [2025-10-24 23:03:24] Cohen's D computed.
INFO [2025-10-24 23:03:25] Starting to compute Cohen's D between groups B & A from time change 3 - 2
INFO [2025-10-24 23:03:25] Cohen's D computed.
INFO [2025-10-24 23:03:25] Starting to compute Cohen's D between groups C & A from time change 2 - 1
INFO [2025-10-24 23:03:25] Cohen's D computed.
INFO [2025-10-24 23:03:25] Starting to compute Cohen's D between groups C & A from time change 3 - 1
INFO [2025-10-24 23:03:25] Cohen's D computed.
INFO [2025-10-24 23:03:25] Starting to compute Cohen's D between groups C & A from time change 3 - 2
INFO [2025-10-24 23:03:25] Cohen's D computed.
INFO [2025-10-24 23:03:25] Starting to compute Cohen's D between groups C & B from time change 2 - 1
INFO [2025-10-24 23:03:26] Cohen's D computed.
INFO [2025-10-24 23:03:26] Starting to compute Cohen's D between groups C & B from time change 3 - 1
INFO [2025-10-24 23:03:26] Cohen's D computed.
INFO [2025-10-24 23:03:26] Starting to compute Cohen's D between groups C & B from time change 3 - 2
INFO [2025-10-24 23:03:26] Cohen's D computed.
INFO [2025-10-24 23:03:26] Starting to compute Cohen's D between groups B & A from time change 2 - 1
INFO [2025-10-24 23:03:26] Cohen's D computed.
INFO [2025-10-24 23:03:27] Starting to compute Cohen's D between groups B & A from time change 3 - 1
INFO [2025-10-24 23:03:27] Cohen's D computed.
INFO [2025-10-24 23:03:27] Starting to compute Cohen's D between groups B & A from time change 3 - 2
INFO [2025-10-24 23:03:27] Cohen's D computed.
INFO [2025-10-24 23:03:27] Starting to compute Cohen's D between groups C & A from time change 2 - 1
INFO [2025-10-24 23:03:27] Cohen's D computed.
INFO [2025-10-24 23:03:27] Starting to compute Cohen's D between groups C & A from time change 3 - 1
INFO [2025-10-24 23:03:27] Cohen's D computed.
INFO [2025-10-24 23:03:27] Starting to compute Cohen's D between groups C & A from time change 3 - 2
INFO [2025-10-24 23:03:27] Cohen's D computed.
INFO [2025-10-24 23:03:28] Starting to compute Cohen's D between groups C & B from time change 2 - 1
INFO [2025-10-24 23:03:28] Cohen's D computed.
INFO [2025-10-24 23:03:28] Starting to compute Cohen's D between groups C & B from time change 3 - 1
INFO [2025-10-24 23:03:28] Cohen's D computed.
INFO [2025-10-24 23:03:28] Starting to compute Cohen's D between groups C & B from time change 3 - 2
INFO [2025-10-24 23:03:28] Cohen's D computed.
INFO [2025-10-24 23:03:28] Starting to compute Cohen's D between groups B & A from time change 2 - 1
INFO [2025-10-24 23:03:29] Cohen's D computed.
INFO [2025-10-24 23:03:29] Starting to compute Cohen's D between groups B & A from time change 3 - 1
INFO [2025-10-24 23:03:29] Cohen's D computed.
INFO [2025-10-24 23:03:29] Starting to compute Cohen's D between groups B & A from time change 3 - 2
INFO [2025-10-24 23:03:29] Cohen's D computed.
INFO [2025-10-24 23:03:29] Starting to compute Cohen's D between groups C & A from time change 2 - 1
INFO [2025-10-24 23:03:29] Cohen's D computed.
INFO [2025-10-24 23:03:29] Starting to compute Cohen's D between groups C & B from time change 2 - 1
INFO [2025-10-24 23:03:29] Cohen's D computed.
INFO [2025-10-24 23:03:30] Starting to compute Cohen's D between groups B & A from time change 2 - 1
INFO [2025-10-24 23:03:30] Cohen's D computed.
INFO [2025-10-24 23:03:30] Starting to compute Cohen's D between groups B & A from time change 3 - 1
INFO [2025-10-24 23:03:30] Cohen's D computed.
INFO [2025-10-24 23:03:30] Starting to compute Cohen's D between groups B & A from time change 3 - 2
INFO [2025-10-24 23:03:30] Cohen's D computed.
INFO [2025-10-24 23:03:30] Starting to compute Cohen's D between groups C & A from time change 2 - 1
INFO [2025-10-24 23:03:30] Cohen's D computed.
INFO [2025-10-24 23:03:31] Starting to compute Cohen's D between groups C & B from time change 2 - 1
INFO [2025-10-24 23:03:31] Cohen's D computed.
INFO [2025-10-24 23:03:31] Starting to compute Cohen's D between groups B & A from time change 3 - 2
INFO [2025-10-24 23:03:31] Cohen's D computed.
INFO [2025-10-24 23:03:31] Starting to compute Cohen's D between groups C & A from time change 2 - 1
INFO [2025-10-24 23:03:31] Cohen's D computed.
INFO [2025-10-24 23:03:32] Starting to compute Cohen's D between groups C & A from time change 3 - 1
INFO [2025-10-24 23:03:32] Cohen's D computed.
INFO [2025-10-24 23:03:32] Starting to compute Cohen's D between groups C & A from time change 3 - 2
INFO [2025-10-24 23:03:32] Cohen's D computed.
INFO [2025-10-24 23:03:32] Starting to compute Cohen's D between groups C & B from time change 2 - 1
INFO [2025-10-24 23:03:32] Cohen's D computed.
INFO [2025-10-24 23:03:32] Starting to compute Cohen's D between groups C & B from time change 3 - 1
INFO [2025-10-24 23:03:32] Cohen's D computed.
INFO [2025-10-24 23:03:33] Starting to compute Cohen's D between groups C & B from time change 3 - 2
INFO [2025-10-24 23:03:33] Cohen's D computed.
INFO [2025-10-24 23:03:33] Starting paired tests for 1 & 2
INFO [2025-10-24 23:03:33] Found 20 complete pairs.
INFO [2025-10-24 23:03:33] Paired tests performed.
INFO [2025-10-24 23:03:33] Starting tests for 1 & 2
INFO [2025-10-24 23:03:33] Tests performed
INFO [2025-10-24 23:03:34] Starting tests for 1 & 3
INFO [2025-10-24 23:03:34] Tests performed
INFO [2025-10-24 23:03:34] Starting tests for 2 & 3
INFO [2025-10-24 23:03:34] Tests performed
INFO [2025-10-24 23:03:34] Starting tests for 1 & 2
INFO [2025-10-24 23:03:34] Tests performed
INFO [2025-10-24 23:03:34] Starting tests for 1 & 3
INFO [2025-10-24 23:03:35] Tests performed
INFO [2025-10-24 23:03:35] Starting tests for 2 & 3
INFO [2025-10-24 23:03:35] Tests performed
INFO [2025-10-24 23:03:35] Starting paired tests for 1 & 2
INFO [2025-10-24 23:03:35] Found 4 complete pairs.
INFO [2025-10-24 23:03:35] Paired tests performed.
INFO [2025-10-24 23:03:35] Starting paired tests for 1 & 3
INFO [2025-10-24 23:03:35] Found 4 complete pairs.
INFO [2025-10-24 23:03:36] Paired tests performed.
INFO [2025-10-24 23:03:36] Starting paired tests for 2 & 3
INFO [2025-10-24 23:03:36] Found 4 complete pairs.
INFO [2025-10-24 23:03:36] Paired tests performed.
INFO [2025-10-24 23:03:36] Starting paired tests for 1 & 2
INFO [2025-10-24 23:03:36] Found 8 complete pairs.
INFO [2025-10-24 23:03:36] Paired tests performed.
INFO [2025-10-24 23:03:36] Starting paired tests for 1 & 3
INFO [2025-10-24 23:03:36] Found 8 complete pairs.
INFO [2025-10-24 23:03:36] Paired tests performed.
INFO [2025-10-24 23:03:37] Starting paired tests for 2 & 3
INFO [2025-10-24 23:03:37] Found 8 complete pairs.
INFO [2025-10-24 23:03:37] Paired tests performed.
INFO [2025-10-24 23:03:37] Starting paired tests for 1 & 2
INFO [2025-10-24 23:03:37] Found 4 complete pairs.
INFO [2025-10-24 23:03:37] Paired tests performed.
INFO [2025-10-24 23:03:37] Starting paired tests for 1 & 3
INFO [2025-10-24 23:03:37] Found 4 complete pairs.
INFO [2025-10-24 23:03:37] Paired tests performed.
INFO [2025-10-24 23:03:37] Starting paired tests for 2 & 3
INFO [2025-10-24 23:03:37] Found 4 complete pairs.
INFO [2025-10-24 23:03:38] Paired tests performed.
INFO [2025-10-24 23:03:38] Starting tests for A & B
INFO [2025-10-24 23:03:39] Tests performed
INFO [2025-10-24 23:03:40] Starting paired tests for 1 & 2
INFO [2025-10-24 23:03:40] Found 20 complete pairs.
INFO [2025-10-24 23:03:41] Paired tests performed.
INFO [2025-10-24 23:03:41] Starting tests for 1 & 2
INFO [2025-10-24 23:03:41] Tests performed
INFO [2025-10-24 23:03:41] Starting tests for 1 & 3
INFO [2025-10-24 23:03:42] Tests performed
INFO [2025-10-24 23:03:42] Starting tests for 2 & 3
INFO [2025-10-24 23:03:43] Tests performed
INFO [2025-10-24 23:03:43] Starting tests for 1 & 2
INFO [2025-10-24 23:03:43] Tests performed
INFO [2025-10-24 23:03:43] Starting tests for 1 & 3
INFO [2025-10-24 23:03:44] Tests performed
INFO [2025-10-24 23:03:44] Starting tests for 2 & 3
INFO [2025-10-24 23:03:44] Tests performed
INFO [2025-10-24 23:03:44] Starting paired tests for 1 & 2
INFO [2025-10-24 23:03:44] Found 4 complete pairs.
INFO [2025-10-24 23:03:45] Paired tests performed.
INFO [2025-10-24 23:03:45] Starting paired tests for 1 & 3
INFO [2025-10-24 23:03:45] Found 4 complete pairs.
INFO [2025-10-24 23:03:45] Paired tests performed.
INFO [2025-10-24 23:03:45] Starting paired tests for 2 & 3
INFO [2025-10-24 23:03:45] Found 4 complete pairs.
INFO [2025-10-24 23:03:45] Paired tests performed.
INFO [2025-10-24 23:03:45] Starting correlation tests.
INFO [2025-10-24 23:03:45] Performing correlation tests for single object
INFO [2025-10-24 23:03:46] Correlation tests performed.
INFO [2025-10-24 23:03:46] Starting correlation tests.
INFO [2025-10-24 23:03:46] Starting correlation tests.
INFO [2025-10-24 23:03:46] Starting correlation tests.
INFO [2025-10-24 23:03:46] Starting correlation tests.
INFO [2025-10-24 23:03:46] Performing correlation tests for two objects
INFO [2025-10-24 23:03:46] Correlation tests performed.
INFO [2025-10-24 23:03:46] Starting correlation tests.
INFO [2025-10-24 23:03:46] Performing correlation tests for two objects
INFO [2025-10-24 23:03:47] Correlation tests performed.
INFO [2025-10-24 23:03:47] Starting paired tests for 1 & 2
INFO [2025-10-24 23:03:47] Found 20 complete pairs.
INFO [2025-10-24 23:03:47] Paired tests performed.
INFO [2025-10-24 23:03:48] Starting tests for A & B
INFO [2025-10-24 23:03:48] Tests performed
[ FAIL 0 | WARN 1 | SKIP 0 | PASS 88 ]

[ FAIL 0 | WARN 1 | SKIP 0 | PASS 88 ]
> 
> proc.time()
   user  system elapsed 
 68.349  33.934  50.308 

Example timings

notameStats.Rcheck/notameStats-Ex.timings

nameusersystemelapsed
cohens_d2.9480.5353.039
fit_rf0.1960.0270.226
fold_change0.5220.5790.436
importance_rf0.1750.0330.210
muvr_analysis16.327 0.48216.877
perform_auc21.111 3.102 6.442
perform_correlation_tests6.6103.6744.222
perform_homoscedasticity_tests5.5102.6272.226
perform_kruskal_wallis2.4201.4781.094
perform_lm4.7862.4451.954
perform_lm_anova2.5951.6551.205
perform_lmer18.274 2.874 5.804
perform_logistic5.9332.6362.348
perform_non_parametric8.9774.7934.934
perform_oneway_anova2.1321.2210.961
perform_permanova1.4560.0941.556
perform_t_test1.8171.7821.850
pls8.1830.2498.460
pls_da19.055 1.81220.965
summarize_results4.4121.8751.726
summary_statistics1.6051.1021.008