| Back to Multiple platform build/check report for BioC 3.22: simplified long |
|
This page was generated on 2025-10-24 12:06 -0400 (Fri, 24 Oct 2025).
| Hostname | OS | Arch (*) | R version | Installed pkgs |
|---|---|---|---|---|
| nebbiolo2 | Linux (Ubuntu 24.04.3 LTS) | x86_64 | 4.5.1 Patched (2025-08-23 r88802) -- "Great Square Root" | 4898 |
| lconway | macOS 12.7.6 Monterey | x86_64 | 4.5.1 Patched (2025-09-10 r88807) -- "Great Square Root" | 4688 |
| kjohnson3 | macOS 13.7.7 Ventura | arm64 | 4.5.1 Patched (2025-09-10 r88807) -- "Great Square Root" | 4634 |
| taishan | Linux (openEuler 24.03 LTS) | aarch64 | 4.5.0 (2025-04-11) -- "How About a Twenty-Six" | 4658 |
| Click on any hostname to see more info about the system (e.g. compilers) (*) as reported by 'uname -p', except on Windows and Mac OS X | ||||
| Package 1461/2359 | Hostname | OS / Arch | INSTALL | BUILD | CHECK | BUILD BIN | ||||||||
| ngsReports 2.11.1 (landing page) Stevie Pederson
| nebbiolo2 | Linux (Ubuntu 24.04.3 LTS) / x86_64 | OK | OK | OK | |||||||||
| lconway | macOS 12.7.6 Monterey / x86_64 | OK | OK | OK | OK | |||||||||
| kjohnson3 | macOS 13.7.7 Ventura / arm64 | OK | OK | OK | OK | |||||||||
| taishan | Linux (openEuler 24.03 LTS) / aarch64 | OK | OK | NA | ||||||||||
|
To the developers/maintainers of the ngsReports package: - Allow up to 24 hours (and sometimes 48 hours) for your latest push to git@git.bioconductor.org:packages/ngsReports.git to reflect on this report. See Troubleshooting Build Report for more information. - Use the following Renviron settings to reproduce errors and warnings. - If 'R CMD check' started to fail recently on the Linux builder(s) over a missing dependency, add the missing dependency to 'Suggests:' in your DESCRIPTION file. See Renviron.bioc for more information. |
| Package: ngsReports |
| Version: 2.11.1 |
| Command: /Library/Frameworks/R.framework/Resources/bin/R CMD check --install=check:ngsReports.install-out.txt --library=/Library/Frameworks/R.framework/Resources/library --no-vignettes --timings ngsReports_2.11.1.tar.gz |
| StartedAt: 2025-10-23 21:11:00 -0400 (Thu, 23 Oct 2025) |
| EndedAt: 2025-10-23 21:12:22 -0400 (Thu, 23 Oct 2025) |
| EllapsedTime: 82.0 seconds |
| RetCode: 0 |
| Status: OK |
| CheckDir: ngsReports.Rcheck |
| Warnings: 0 |
##############################################################################
##############################################################################
###
### Running command:
###
### /Library/Frameworks/R.framework/Resources/bin/R CMD check --install=check:ngsReports.install-out.txt --library=/Library/Frameworks/R.framework/Resources/library --no-vignettes --timings ngsReports_2.11.1.tar.gz
###
##############################################################################
##############################################################################
* using log directory ‘/Users/biocbuild/bbs-3.22-bioc/meat/ngsReports.Rcheck’
* using R version 4.5.1 Patched (2025-09-10 r88807)
* using platform: aarch64-apple-darwin20
* R was compiled by
Apple clang version 16.0.0 (clang-1600.0.26.6)
GNU Fortran (GCC) 14.2.0
* running under: macOS Ventura 13.7.7
* using session charset: UTF-8
* using option ‘--no-vignettes’
* checking for file ‘ngsReports/DESCRIPTION’ ... OK
* this is package ‘ngsReports’ version ‘2.11.1’
* package encoding: UTF-8
* checking package namespace information ... OK
* checking package dependencies ... OK
* checking if this is a source package ... OK
* checking if there is a namespace ... OK
* checking for hidden files and directories ... OK
* checking for portable file names ... OK
* checking for sufficient/correct file permissions ... OK
* checking whether package ‘ngsReports’ can be installed ... OK
* checking installed package size ... OK
* checking package directory ... OK
* checking ‘build’ directory ... OK
* checking DESCRIPTION meta-information ... OK
* checking top-level files ... OK
* checking for left-over files ... OK
* checking index information ... OK
* checking package subdirectories ... OK
* checking code files for non-ASCII characters ... OK
* checking R files for syntax errors ... OK
* checking whether the package can be loaded ... OK
* checking whether the package can be loaded with stated dependencies ... OK
* checking whether the package can be unloaded cleanly ... OK
* checking whether the namespace can be loaded with stated dependencies ... OK
* checking whether the namespace can be unloaded cleanly ... OK
* checking dependencies in R code ... OK
* checking S3 generic/method consistency ... OK
* checking replacement functions ... OK
* checking foreign function calls ... OK
* checking R code for possible problems ... OK
* checking Rd files ... OK
* checking Rd metadata ... OK
* checking Rd cross-references ... OK
* checking for missing documentation entries ... OK
* checking for code/documentation mismatches ... OK
* checking Rd \usage sections ... OK
* checking Rd contents ... OK
* checking for unstated dependencies in examples ... OK
* checking contents of ‘data’ directory ... OK
* checking data for non-ASCII characters ... OK
* checking LazyData ... OK
* checking data for ASCII and uncompressed saves ... OK
* checking files in ‘vignettes’ ... OK
* checking examples ... OK
* checking for unstated dependencies in ‘tests’ ... OK
* checking tests ...
Running ‘testthat.R’
OK
* checking for unstated dependencies in vignettes ... OK
* checking package vignettes ... OK
* checking running R code from vignettes ... SKIPPED
* checking re-building of vignette outputs ... SKIPPED
* checking PDF version of manual ... OK
* DONE
Status: OK
ngsReports.Rcheck/00install.out
############################################################################## ############################################################################## ### ### Running command: ### ### /Library/Frameworks/R.framework/Resources/bin/R CMD INSTALL ngsReports ### ############################################################################## ############################################################################## * installing to library ‘/Library/Frameworks/R.framework/Versions/4.5-arm64/Resources/library’ * installing *source* package ‘ngsReports’ ... ** this is package ‘ngsReports’ version ‘2.11.1’ ** using staged installation ** R ** data *** moving datasets to lazyload DB ** inst ** byte-compile and prepare package for lazy loading ** help *** installing help indices *** copying figures ** building package indices ** installing vignettes ** testing if installed package can be loaded from temporary location ** testing if installed package can be loaded from final location ** testing if installed package keeps a record of temporary installation path * DONE (ngsReports)
ngsReports.Rcheck/tests/testthat.Rout
R version 4.5.1 Patched (2025-09-10 r88807) -- "Great Square Root"
Copyright (C) 2025 The R Foundation for Statistical Computing
Platform: aarch64-apple-darwin20
R is free software and comes with ABSOLUTELY NO WARRANTY.
You are welcome to redistribute it under certain conditions.
Type 'license()' or 'licence()' for distribution details.
R is a collaborative project with many contributors.
Type 'contributors()' for more information and
'citation()' on how to cite R or R packages in publications.
Type 'demo()' for some demos, 'help()' for on-line help, or
'help.start()' for an HTML browser interface to help.
Type 'q()' to quit R.
> library(testthat)
> library(ngsReports)
Loading required package: BiocGenerics
Loading required package: generics
Attaching package: 'generics'
The following objects are masked from 'package:base':
as.difftime, as.factor, as.ordered, intersect, is.element, setdiff,
setequal, union
Attaching package: 'BiocGenerics'
The following objects are masked from 'package:stats':
IQR, mad, sd, var, xtabs
The following objects are masked from 'package:base':
Filter, Find, Map, Position, Reduce, anyDuplicated, aperm, append,
as.data.frame, basename, cbind, colnames, dirname, do.call,
duplicated, eval, evalq, get, grep, grepl, is.unsorted, lapply,
mapply, match, mget, order, paste, pmax, pmax.int, pmin, pmin.int,
rank, rbind, rownames, sapply, saveRDS, table, tapply, unique,
unsplit, which.max, which.min
Loading required package: ggplot2
Loading required package: patchwork
Loading required package: tibble
>
> test_check("ngsReports")
2025-10-23 21:12:12.197 R[13263:536075266] XType: Using static font registry.
[ FAIL 0 | WARN 0 | SKIP 0 | PASS 388 ]
>
> proc.time()
user system elapsed
21.674 0.579 22.706
ngsReports.Rcheck/ngsReports-Ex.timings
| name | user | system | elapsed | |
| FastqcData | 0.038 | 0.002 | 0.043 | |
| FastqcDataList | 0.123 | 0.008 | 0.133 | |
| TheoreticalGC-class | 0.022 | 0.001 | 0.024 | |
| dot-FastqcFile-class | 0.01 | 0.00 | 0.01 | |
| dot-addPercent | 0 | 0 | 0 | |
| dot-emptyPlot | 0.069 | 0.002 | 0.080 | |
| dot-makeDendro | 0.135 | 0.006 | 0.143 | |
| dot-makeLabels | 0 | 0 | 0 | |
| dot-splitByTab | 0.001 | 0.000 | 0.001 | |
| estGcDistn | 0.006 | 0.001 | 0.007 | |
| extract-methods | 0.122 | 0.006 | 0.131 | |
| fqName-methods | 0.117 | 0.005 | 0.123 | |
| fqcVersion | 0.132 | 0.007 | 0.138 | |
| gcAvail | 0.007 | 0.000 | 0.006 | |
| gcTheoretical | 0.009 | 0.000 | 0.009 | |
| getColours-methods | 0.001 | 0.000 | 0.000 | |
| getGC | 0.006 | 0.000 | 0.005 | |
| getModule | 0.130 | 0.004 | 0.135 | |
| getSummary | 0.297 | 0.006 | 0.304 | |
| importNgsLogs | 0.006 | 0.000 | 0.007 | |
| importSJ | 0.002 | 0.000 | 0.002 | |
| isCompressed | 0.001 | 0.000 | 0.001 | |
| mData | 0.005 | 0.000 | 0.006 | |
| maxAdapterContent | 0.137 | 0.006 | 0.152 | |
| overRep2Fasta-methods | 0.134 | 0.009 | 0.143 | |
| path | 0.117 | 0.005 | 0.121 | |
| plotAdapterContent-methods | 0.942 | 0.015 | 0.987 | |
| plotAlignmentSummary | 0.103 | 0.000 | 0.106 | |
| plotAssemblyStats | 0.238 | 0.001 | 0.253 | |
| plotBaseQuals-methods | 0.773 | 0.020 | 0.798 | |
| plotDupLevels-methods | 0.410 | 0.006 | 0.417 | |
| plotFastqcPCA-methods | 0.234 | 0.006 | 0.240 | |
| plotGcContent-methods | 0.348 | 0.006 | 0.353 | |
| plotInsertSize-methods | 0.216 | 0.002 | 0.218 | |
| plotKmers-methods | 0.584 | 0.010 | 0.594 | |
| plotNContent-methods | 0.287 | 0.002 | 0.289 | |
| plotOverrep-methods | 0.294 | 0.005 | 0.308 | |
| plotReadTotals-methods | 0.305 | 0.007 | 0.316 | |
| plotSeqContent-methods | 1.137 | 0.011 | 1.186 | |
| plotSeqLengthDistn-methods | 0.453 | 0.006 | 0.462 | |
| plotSeqQuals-methods | 0.498 | 0.005 | 0.519 | |
| plotSummary-methods | 0.232 | 0.006 | 0.239 | |
| pwf | 0.001 | 0.000 | 0.002 | |
| readTotals | 0.136 | 0.005 | 0.148 | |
| summariseOverrep-methods | 0.215 | 0.006 | 0.225 | |
| writeHtmlReport | 0 | 0 | 0 | |