| Back to Multiple platform build/check report for BioC 3.22: simplified long |
|
This page was generated on 2025-10-24 12:04 -0400 (Fri, 24 Oct 2025).
| Hostname | OS | Arch (*) | R version | Installed pkgs |
|---|---|---|---|---|
| nebbiolo2 | Linux (Ubuntu 24.04.3 LTS) | x86_64 | 4.5.1 Patched (2025-08-23 r88802) -- "Great Square Root" | 4898 |
| lconway | macOS 12.7.6 Monterey | x86_64 | 4.5.1 Patched (2025-09-10 r88807) -- "Great Square Root" | 4688 |
| kjohnson3 | macOS 13.7.7 Ventura | arm64 | 4.5.1 Patched (2025-09-10 r88807) -- "Great Square Root" | 4634 |
| taishan | Linux (openEuler 24.03 LTS) | aarch64 | 4.5.0 (2025-04-11) -- "How About a Twenty-Six" | 4658 |
| Click on any hostname to see more info about the system (e.g. compilers) (*) as reported by 'uname -p', except on Windows and Mac OS X | ||||
| Package 1461/2359 | Hostname | OS / Arch | INSTALL | BUILD | CHECK | BUILD BIN | ||||||||
| ngsReports 2.11.1 (landing page) Stevie Pederson
| nebbiolo2 | Linux (Ubuntu 24.04.3 LTS) / x86_64 | OK | OK | OK | |||||||||
| lconway | macOS 12.7.6 Monterey / x86_64 | OK | OK | OK | OK | |||||||||
| kjohnson3 | macOS 13.7.7 Ventura / arm64 | OK | OK | OK | OK | |||||||||
| taishan | Linux (openEuler 24.03 LTS) / aarch64 | OK | OK | NA | ||||||||||
|
To the developers/maintainers of the ngsReports package: - Allow up to 24 hours (and sometimes 48 hours) for your latest push to git@git.bioconductor.org:packages/ngsReports.git to reflect on this report. See Troubleshooting Build Report for more information. - Use the following Renviron settings to reproduce errors and warnings. - If 'R CMD check' started to fail recently on the Linux builder(s) over a missing dependency, add the missing dependency to 'Suggests:' in your DESCRIPTION file. See Renviron.bioc for more information. |
| Package: ngsReports |
| Version: 2.11.1 |
| Command: /home/biocbuild/bbs-3.22-bioc/R/bin/R CMD check --install=check:ngsReports.install-out.txt --library=/home/biocbuild/bbs-3.22-bioc/R/site-library --timings ngsReports_2.11.1.tar.gz |
| StartedAt: 2025-10-24 02:03:26 -0400 (Fri, 24 Oct 2025) |
| EndedAt: 2025-10-24 02:07:30 -0400 (Fri, 24 Oct 2025) |
| EllapsedTime: 244.2 seconds |
| RetCode: 0 |
| Status: OK |
| CheckDir: ngsReports.Rcheck |
| Warnings: 0 |
##############################################################################
##############################################################################
###
### Running command:
###
### /home/biocbuild/bbs-3.22-bioc/R/bin/R CMD check --install=check:ngsReports.install-out.txt --library=/home/biocbuild/bbs-3.22-bioc/R/site-library --timings ngsReports_2.11.1.tar.gz
###
##############################################################################
##############################################################################
* using log directory ‘/home/biocbuild/bbs-3.22-bioc/meat/ngsReports.Rcheck’
* using R version 4.5.1 Patched (2025-08-23 r88802)
* using platform: x86_64-pc-linux-gnu
* R was compiled by
gcc (Ubuntu 13.3.0-6ubuntu2~24.04) 13.3.0
GNU Fortran (Ubuntu 13.3.0-6ubuntu2~24.04) 13.3.0
* running under: Ubuntu 24.04.3 LTS
* using session charset: UTF-8
* checking for file ‘ngsReports/DESCRIPTION’ ... OK
* this is package ‘ngsReports’ version ‘2.11.1’
* package encoding: UTF-8
* checking package namespace information ... OK
* checking package dependencies ... OK
* checking if this is a source package ... OK
* checking if there is a namespace ... OK
* checking for hidden files and directories ... OK
* checking for portable file names ... OK
* checking for sufficient/correct file permissions ... OK
* checking whether package ‘ngsReports’ can be installed ... OK
* checking installed package size ... OK
* checking package directory ... OK
* checking ‘build’ directory ... OK
* checking DESCRIPTION meta-information ... OK
* checking top-level files ... OK
* checking for left-over files ... OK
* checking index information ... OK
* checking package subdirectories ... OK
* checking code files for non-ASCII characters ... OK
* checking R files for syntax errors ... OK
* checking whether the package can be loaded ... OK
* checking whether the package can be loaded with stated dependencies ... OK
* checking whether the package can be unloaded cleanly ... OK
* checking whether the namespace can be loaded with stated dependencies ... OK
* checking whether the namespace can be unloaded cleanly ... OK
* checking loading without being on the library search path ... OK
* checking dependencies in R code ... OK
* checking S3 generic/method consistency ... OK
* checking replacement functions ... OK
* checking foreign function calls ... OK
* checking R code for possible problems ... OK
* checking Rd files ... OK
* checking Rd metadata ... OK
* checking Rd cross-references ... OK
* checking for missing documentation entries ... OK
* checking for code/documentation mismatches ... OK
* checking Rd \usage sections ... OK
* checking Rd contents ... OK
* checking for unstated dependencies in examples ... OK
* checking contents of ‘data’ directory ... OK
* checking data for non-ASCII characters ... OK
* checking LazyData ... OK
* checking data for ASCII and uncompressed saves ... OK
* checking files in ‘vignettes’ ... OK
* checking examples ... OK
* checking for unstated dependencies in ‘tests’ ... OK
* checking tests ...
Running ‘testthat.R’
OK
* checking for unstated dependencies in vignettes ... OK
* checking package vignettes ... OK
* checking re-building of vignette outputs ... OK
* checking PDF version of manual ... OK
* DONE
Status: OK
ngsReports.Rcheck/00install.out
############################################################################## ############################################################################## ### ### Running command: ### ### /home/biocbuild/bbs-3.22-bioc/R/bin/R CMD INSTALL ngsReports ### ############################################################################## ############################################################################## * installing to library ‘/home/biocbuild/bbs-3.22-bioc/R/site-library’ * installing *source* package ‘ngsReports’ ... ** this is package ‘ngsReports’ version ‘2.11.1’ ** using staged installation ** R ** data *** moving datasets to lazyload DB ** inst ** byte-compile and prepare package for lazy loading ** help *** installing help indices *** copying figures ** building package indices ** installing vignettes ** testing if installed package can be loaded from temporary location ** testing if installed package can be loaded from final location ** testing if installed package keeps a record of temporary installation path * DONE (ngsReports)
ngsReports.Rcheck/tests/testthat.Rout
R version 4.5.1 Patched (2025-08-23 r88802) -- "Great Square Root"
Copyright (C) 2025 The R Foundation for Statistical Computing
Platform: x86_64-pc-linux-gnu
R is free software and comes with ABSOLUTELY NO WARRANTY.
You are welcome to redistribute it under certain conditions.
Type 'license()' or 'licence()' for distribution details.
R is a collaborative project with many contributors.
Type 'contributors()' for more information and
'citation()' on how to cite R or R packages in publications.
Type 'demo()' for some demos, 'help()' for on-line help, or
'help.start()' for an HTML browser interface to help.
Type 'q()' to quit R.
> library(testthat)
> library(ngsReports)
Loading required package: BiocGenerics
Loading required package: generics
Attaching package: 'generics'
The following objects are masked from 'package:base':
as.difftime, as.factor, as.ordered, intersect, is.element, setdiff,
setequal, union
Attaching package: 'BiocGenerics'
The following objects are masked from 'package:stats':
IQR, mad, sd, var, xtabs
The following objects are masked from 'package:base':
Filter, Find, Map, Position, Reduce, anyDuplicated, aperm, append,
as.data.frame, basename, cbind, colnames, dirname, do.call,
duplicated, eval, evalq, get, grep, grepl, is.unsorted, lapply,
mapply, match, mget, order, paste, pmax, pmax.int, pmin, pmin.int,
rank, rbind, rownames, sapply, saveRDS, table, tapply, unique,
unsplit, which.max, which.min
Loading required package: ggplot2
Loading required package: patchwork
Loading required package: tibble
>
> test_check("ngsReports")
[ FAIL 0 | WARN 0 | SKIP 0 | PASS 388 ]
>
> proc.time()
user system elapsed
66.772 1.689 68.469
ngsReports.Rcheck/ngsReports-Ex.timings
| name | user | system | elapsed | |
| FastqcData | 0.067 | 0.002 | 0.072 | |
| FastqcDataList | 0.320 | 0.008 | 0.335 | |
| TheoreticalGC-class | 0.057 | 0.003 | 0.061 | |
| dot-FastqcFile-class | 0.000 | 0.002 | 0.002 | |
| dot-addPercent | 0 | 0 | 0 | |
| dot-emptyPlot | 0.199 | 0.001 | 0.200 | |
| dot-makeDendro | 0.325 | 0.005 | 0.329 | |
| dot-makeLabels | 0.001 | 0.000 | 0.000 | |
| dot-splitByTab | 0.003 | 0.000 | 0.003 | |
| estGcDistn | 0.017 | 0.001 | 0.018 | |
| extract-methods | 0.309 | 0.006 | 0.316 | |
| fqName-methods | 0.319 | 0.004 | 0.322 | |
| fqcVersion | 0.451 | 0.042 | 0.493 | |
| gcAvail | 0.020 | 0.000 | 0.019 | |
| gcTheoretical | 0.034 | 0.001 | 0.034 | |
| getColours-methods | 0.002 | 0.000 | 0.002 | |
| getGC | 0.017 | 0.000 | 0.017 | |
| getModule | 0.364 | 0.005 | 0.370 | |
| getSummary | 0.318 | 0.001 | 0.319 | |
| importNgsLogs | 0.019 | 0.000 | 0.019 | |
| importSJ | 0.006 | 0.000 | 0.006 | |
| isCompressed | 0.001 | 0.000 | 0.001 | |
| mData | 0.027 | 0.000 | 0.027 | |
| maxAdapterContent | 0.355 | 0.001 | 0.356 | |
| overRep2Fasta-methods | 0.334 | 0.004 | 0.338 | |
| path | 0.681 | 0.033 | 0.714 | |
| plotAdapterContent-methods | 2.823 | 0.112 | 2.936 | |
| plotAlignmentSummary | 0.328 | 0.001 | 0.329 | |
| plotAssemblyStats | 0.840 | 0.001 | 0.840 | |
| plotBaseQuals-methods | 1.741 | 0.056 | 1.797 | |
| plotDupLevels-methods | 1.273 | 0.004 | 1.276 | |
| plotFastqcPCA-methods | 0.671 | 0.005 | 0.676 | |
| plotGcContent-methods | 1.063 | 0.007 | 1.070 | |
| plotInsertSize-methods | 0.635 | 0.001 | 0.636 | |
| plotKmers-methods | 1.756 | 0.004 | 1.759 | |
| plotNContent-methods | 0.94 | 0.00 | 0.94 | |
| plotOverrep-methods | 0.883 | 0.006 | 0.889 | |
| plotReadTotals-methods | 0.861 | 0.042 | 0.903 | |
| plotSeqContent-methods | 3.447 | 0.054 | 3.502 | |
| plotSeqLengthDistn-methods | 1.346 | 0.004 | 1.351 | |
| plotSeqQuals-methods | 1.943 | 0.018 | 1.962 | |
| plotSummary-methods | 0.558 | 0.000 | 0.558 | |
| pwf | 0.003 | 0.001 | 0.003 | |
| readTotals | 0.321 | 0.006 | 0.326 | |
| summariseOverrep-methods | 0.544 | 0.001 | 0.545 | |
| writeHtmlReport | 0.001 | 0.000 | 0.000 | |