| Back to Multiple platform build/check report for BioC 3.22: simplified long |
|
This page was generated on 2025-08-18 12:06 -0400 (Mon, 18 Aug 2025).
| Hostname | OS | Arch (*) | R version | Installed pkgs |
|---|---|---|---|---|
| nebbiolo2 | Linux (Ubuntu 24.04.3 LTS) | x86_64 | 4.5.1 (2025-06-13) -- "Great Square Root" | 4818 |
| lconway | macOS 12.7.1 Monterey | x86_64 | 4.5.1 (2025-06-13) -- "Great Square Root" | 4596 |
| kjohnson3 | macOS 13.7.7 Ventura | arm64 | 4.5.1 Patched (2025-06-14 r88325) -- "Great Square Root" | 4538 |
| taishan | Linux (openEuler 24.03 LTS) | aarch64 | 4.5.0 (2025-04-11) -- "How About a Twenty-Six" | 4535 |
| Click on any hostname to see more info about the system (e.g. compilers) (*) as reported by 'uname -p', except on Windows and Mac OS X | ||||
| Package 1432/2317 | Hostname | OS / Arch | INSTALL | BUILD | CHECK | BUILD BIN | ||||||||
| netZooR 1.13.19 (landing page) Marouen Ben Guebila
| nebbiolo2 | Linux (Ubuntu 24.04.3 LTS) / x86_64 | OK | OK | ERROR | |||||||||
| lconway | macOS 12.7.1 Monterey / x86_64 | OK | OK | ERROR | OK | |||||||||
| kjohnson3 | macOS 13.7.7 Ventura / arm64 | OK | OK | ERROR | OK | |||||||||
| taishan | Linux (openEuler 24.03 LTS) / aarch64 | OK | OK | ERROR | ||||||||||
|
To the developers/maintainers of the netZooR package: - Allow up to 24 hours (and sometimes 48 hours) for your latest push to git@git.bioconductor.org:packages/netZooR.git to reflect on this report. See Troubleshooting Build Report for more information. - Use the following Renviron settings to reproduce errors and warnings. - If 'R CMD check' started to fail recently on the Linux builder(s) over a missing dependency, add the missing dependency to 'Suggests:' in your DESCRIPTION file. See Renviron.bioc for more information. |
| Package: netZooR |
| Version: 1.13.19 |
| Command: rm -rf netZooR.buildbin-libdir && mkdir netZooR.buildbin-libdir && /Users/biocbuild/BBS/utils/build-universal.sh netZooR_1.13.19.tar.gz /Library/Frameworks/R.framework/Resources/bin/R netZooR.buildbin-libdir |
| StartedAt: 2025-08-17 22:36:23 -0400 (Sun, 17 Aug 2025) |
| EndedAt: 2025-08-17 22:36:50 -0400 (Sun, 17 Aug 2025) |
| EllapsedTime: 27.0 seconds |
| RetCode: 0 |
| Status: OK |
| PackageFile: netZooR_1.13.19.tgz |
| PackageFileSize: 6.728 MiB |
##############################################################################
##############################################################################
###
### Running command:
###
### rm -rf netZooR.buildbin-libdir && mkdir netZooR.buildbin-libdir && /Users/biocbuild/BBS/utils/build-universal.sh netZooR_1.13.19.tar.gz /Library/Frameworks/R.framework/Resources/bin/R netZooR.buildbin-libdir
###
##############################################################################
##############################################################################
>>>>>>>
>>>>>>> INSTALLATION WITH 'R CMD INSTALL --preclean --no-multiarch --library=netZooR.buildbin-libdir netZooR_1.13.19.tar.gz'
>>>>>>>
* installing *source* package ‘netZooR’ ...
** this is package ‘netZooR’ version ‘1.13.19’
** using staged installation
** R
** data
** inst
** byte-compile and prepare package for lazy loading
sh: wget: command not found
Warning in system("wget https://netzoo.s3.us-east-2.amazonaws.com/netZooR/unittest_datasets/yarn/skin.rdata") :
error in running command
mv: skin.rdata: No such file or directory
sh: wget: command not found
Warning in system("wget https://netzoo.s3.us-east-2.amazonaws.com/netZooR/unittest_datasets/yarn/bladder.rdata") :
error in running command
mv: bladder.rdata: No such file or directory
** help
*** installing help indices
** building package indices
** installing vignettes
** testing if installed package can be loaded from temporary location
** testing if installed package can be loaded from final location
** testing if installed package keeps a record of temporary installation path
* DONE (netZooR)