Back to Multiple platform build/check report for BioC 3.22:   simplified   long
ABCDEFGHIJKL[M]NOPQRSTUVWXYZ

This page was generated on 2025-10-25 12:05 -0400 (Sat, 25 Oct 2025).

HostnameOSArch (*)R versionInstalled pkgs
nebbiolo2Linux (Ubuntu 24.04.3 LTS)x86_644.5.1 Patched (2025-08-23 r88802) -- "Great Square Root" 4901
lconwaymacOS 12.7.6 Montereyx86_644.5.1 Patched (2025-09-10 r88807) -- "Great Square Root" 4691
kjohnson3macOS 13.7.7 Venturaarm644.5.1 Patched (2025-09-10 r88807) -- "Great Square Root" 4637
taishanLinux (openEuler 24.03 LTS)aarch644.5.0 (2025-04-11) -- "How About a Twenty-Six" 4658
Click on any hostname to see more info about the system (e.g. compilers)      (*) as reported by 'uname -p', except on Windows and Mac OS X

Package 1333/2361HostnameOS / ArchINSTALLBUILDCHECKBUILD BIN
mixOmics 6.33.0  (landing page)
Eva Hamrud
Snapshot Date: 2025-10-24 13:45 -0400 (Fri, 24 Oct 2025)
git_url: https://git.bioconductor.org/packages/mixOmics
git_branch: devel
git_last_commit: bf2cf80
git_last_commit_date: 2025-04-15 11:39:07 -0400 (Tue, 15 Apr 2025)
nebbiolo2Linux (Ubuntu 24.04.3 LTS) / x86_64  OK    OK    OK  UNNEEDED, same version is already published
lconwaymacOS 12.7.6 Monterey / x86_64  OK    OK    OK    OK  UNNEEDED, same version is already published
kjohnson3macOS 13.7.7 Ventura / arm64  OK    OK    OK    OK  UNNEEDED, same version is already published
taishanLinux (openEuler 24.03 LTS) / aarch64  OK    NA    NA  


CHECK results for mixOmics on lconway

To the developers/maintainers of the mixOmics package:
- Allow up to 24 hours (and sometimes 48 hours) for your latest push to git@git.bioconductor.org:packages/mixOmics.git to reflect on this report. See Troubleshooting Build Report for more information.
- Use the following Renviron settings to reproduce errors and warnings.
- If 'R CMD check' started to fail recently on the Linux builder(s) over a missing dependency, add the missing dependency to 'Suggests:' in your DESCRIPTION file. See Renviron.bioc for more information.

raw results


Summary

Package: mixOmics
Version: 6.33.0
Command: /Library/Frameworks/R.framework/Resources/bin/R CMD check --install=check:mixOmics.install-out.txt --library=/Library/Frameworks/R.framework/Resources/library --no-vignettes --timings mixOmics_6.33.0.tar.gz
StartedAt: 2025-10-24 22:34:58 -0400 (Fri, 24 Oct 2025)
EndedAt: 2025-10-24 22:58:06 -0400 (Fri, 24 Oct 2025)
EllapsedTime: 1388.7 seconds
RetCode: 0
Status:   OK  
CheckDir: mixOmics.Rcheck
Warnings: 0

Command output

##############################################################################
##############################################################################
###
### Running command:
###
###   /Library/Frameworks/R.framework/Resources/bin/R CMD check --install=check:mixOmics.install-out.txt --library=/Library/Frameworks/R.framework/Resources/library --no-vignettes --timings mixOmics_6.33.0.tar.gz
###
##############################################################################
##############################################################################


* using log directory ‘/Users/biocbuild/bbs-3.22-bioc/meat/mixOmics.Rcheck’
* using R version 4.5.1 Patched (2025-09-10 r88807)
* using platform: x86_64-apple-darwin20
* R was compiled by
    Apple clang version 14.0.0 (clang-1400.0.29.202)
    GNU Fortran (GCC) 14.2.0
* running under: macOS Monterey 12.7.6
* using session charset: UTF-8
* using option ‘--no-vignettes’
* checking for file ‘mixOmics/DESCRIPTION’ ... OK
* checking extension type ... Package
* this is package ‘mixOmics’ version ‘6.33.0’
* package encoding: UTF-8
* checking package namespace information ... OK
* checking package dependencies ... OK
* checking if this is a source package ... OK
* checking if there is a namespace ... OK
* checking for hidden files and directories ... OK
* checking for portable file names ... NOTE
Found the following non-portable file paths:
  mixOmics/tests/testthat/_snaps/plotIndiv.pca/pca-plot-coloured-by-primary-groups-custom-cols-reordered-groups.svg
  mixOmics/tests/testthat/_snaps/plotIndiv.pca/pca-plot-coloured-by-primary-groups-custom-cols-with-set-pch-circle-for-all-samples.svg
  mixOmics/tests/testthat/_snaps/plotIndiv.pca/pca-plot-coloured-by-primary-groups-custom-cols-with-set-pch-triangle-for-all-samples.svg
  mixOmics/tests/testthat/_snaps/plotIndiv.pca/pca-plot-coloured-by-primary-groups-with-pch-for-secondary-groups-reordered.svg
  mixOmics/tests/testthat/_snaps/plotIndiv.pca/pca-plot-coloured-by-primary-groups-with-pch-for-secondary-groups.svg
  mixOmics/tests/testthat/_snaps/plotIndiv.pca/pca-plot-coloured-by-primary-groups-with-set-pch-for-each-group.svg
  mixOmics/tests/testthat/_snaps/plotIndiv.pca/pca-plot-sample-names-coloured-by-primary-groups-custom-cols.svg
  mixOmics/tests/testthat/_snaps/plotIndiv.pca/pca-plot-with-centroids-coloured-by-primary-groups-custom-cols.svg
  mixOmics/tests/testthat/_snaps/plotIndiv.pca/pca-plot-with-ellipse-coloured-by-primary-groups-custom-cols-ellipse-level-0-5.svg
  mixOmics/tests/testthat/_snaps/plotIndiv.pca/pca-plot-with-ellipse-coloured-by-primary-groups-custom-cols-sample-names.svg
  mixOmics/tests/testthat/_snaps/plotIndiv.pca/pca-plot-with-ellipse-coloured-by-primary-groups-custom-cols.svg
  mixOmics/tests/testthat/_snaps/plotIndiv.pls/pca-plot-sample-names-coloured-by-primary-groups-custom-cols.svg
  mixOmics/tests/testthat/_snaps/plotIndiv.pls/rcca-plot-coloured-by-primary-groups-custom-cols-reordered-groups.svg
  mixOmics/tests/testthat/_snaps/plotIndiv.pls/rcca-plot-coloured-by-primary-groups-custom-cols-with-set-pch-circle-for-all-samples.svg
  mixOmics/tests/testthat/_snaps/plotIndiv.pls/rcca-plot-coloured-by-primary-groups-with-pch-for-secondary-groups.svg
  mixOmics/tests/testthat/_snaps/plotIndiv.pls/rcca-plot-coloured-by-primary-groups-with-set-pch-for-each-group.svg
  mixOmics/tests/testthat/_snaps/plotIndiv.pls/rcca-plot-with-ellipse-coloured-by-primary-groups-ellipse-level-0-5.svg
  mixOmics/tests/testthat/_snaps/plotIndiv.pls/rcca-plot-with-pch-for-primary-groups-col-consistent.svg
  mixOmics/tests/testthat/_snaps/plotIndiv.pls/spls-plot-with-centroids-and-stars-coloured-by-primary-groups.svg
  mixOmics/tests/testthat/_snaps/plotIndiv.pls/splsda-plot-with-centroids-and-stars-custom-cols-pch-on-second-grouping.svg
  mixOmics/tests/testthat/_snaps/plotLoadings.mint.pls/loadings-plot-mint-pls-change-cols-and-borders-ggplot2.svg
  mixOmics/tests/testthat/_snaps/plotLoadings.mint.pls/loadings-plot-mint-pls-change-cols-and-borders-graphics.svg
  mixOmics/tests/testthat/_snaps/plotLoadings.mint.pls/loadings-plot-mint-pls-change-gene-names-ggplot2.svg
  mixOmics/tests/testthat/_snaps/plotLoadings.mint.pls/loadings-plot-mint-pls-change-gene-names-graphics.svg
  mixOmics/tests/testthat/_snaps/plotLoadings.mint.pls/loadings-plot-mint-pls-change-labels-and-label-sizes-ggplot2.svg
  mixOmics/tests/testthat/_snaps/plotLoadings.mint.pls/loadings-plot-mint-pls-change-labels-and-label-sizes-graphics.svg
  mixOmics/tests/testthat/_snaps/plotLoadings.mint.pls/loadings-plot-mint-pls-change-layout-ggplot2.svg
  mixOmics/tests/testthat/_snaps/plotLoadings.mint.pls/loadings-plot-mint-pls-change-layout-graphics.svg
  mixOmics/tests/testthat/_snaps/plotLoadings.mint.pls/loadings-plot-mint-pls-specific-study-ggplot2.svg
  mixOmics/tests/testthat/_snaps/plotLoadings.mint.pls/loadings-plot-mint-pls-specific-study-graphics.svg
  mixOmics/tests/testthat/_snaps/plotLoadings.mint.plsda/mint-plsda-loadings-ggplot2-specific-study.svg
  mixOmics/tests/testthat/_snaps/plotLoadings.pca/loadings-plot-change-gene-names-and-plot-top-3-ggplot2.svg
  mixOmics/tests/testthat/_snaps/plotLoadings.pca/loadings-plot-change-gene-names-and-plot-top-3-graphics.svg
  mixOmics/tests/testthat/_snaps/plotLoadings.pca/loadings-plot-change-labels-and-label-sizes-ggplot2.svg
  mixOmics/tests/testthat/_snaps/plotLoadings.pca/loadings-plot-change-labels-and-label-sizes-graphics.svg
  mixOmics/tests/testthat/_snaps/plotLoadings.pls/loadings-plot-spls-change-cols-and-borders-ggplot2.svg
  mixOmics/tests/testthat/_snaps/plotLoadings.pls/loadings-plot-spls-change-cols-and-borders-graphics.svg
  mixOmics/tests/testthat/_snaps/plotLoadings.pls/loadings-plot-spls-change-gene-names-and-plot-top-3-ggplot2.svg
  mixOmics/tests/testthat/_snaps/plotLoadings.pls/loadings-plot-spls-change-gene-names-and-plot-top-3-graphics.svg
  mixOmics/tests/testthat/_snaps/plotLoadings.pls/loadings-plot-spls-change-labels-and-label-sizes-ggplot2.svg
  mixOmics/tests/testthat/_snaps/plotLoadings.pls/loadings-plot-spls-change-labels-and-label-sizes-graphics.svg
  mixOmics/tests/testthat/_snaps/plotLoadings.plsda/loadings-plot-splsda-with-custom-legend-ggplot2.svg
  mixOmics/tests/testthat/_snaps/plotLoadings.plsda/loadings-plot-splsda-with-custom-legend-graphics.svg
  mixOmics/tests/testthat/_snaps/plotLoadings.plsda/loadings-plot-splsda-with-custom-names-graphics.svg
  mixOmics/tests/testthat/_snaps/plotLoadings.plsda/loadings-plot-splsda-with-custom-title-and-labels-ggplot2.svg
  mixOmics/tests/testthat/_snaps/plotLoadings.plsda/loadings-plot-splsda-with-custom-title-and-labels-graphics.svg
  mixOmics/tests/testthat/_snaps/plotLoadings.sgccda/loadings-plot-diablo-block-specific-with-contrib-ggplot2.svg
  mixOmics/tests/testthat/_snaps/plotLoadings.sgccda/loadings-plot-diablo-block-specific-with-contrib-graphics.svg
  mixOmics/tests/testthat/_snaps/plotLoadings.sgccda/loadings-plot-diablo-change-labels-and-label-sizes-ggplot2.svg
  mixOmics/tests/testthat/_snaps/plotLoadings.sgccda/loadings-plot-diablo-change-labels-and-label-sizes-graphics.svg

Tarballs are only required to store paths of up to 100 bytes and cannot
store those of more than 256 bytes, with restrictions including to 100
bytes for the final component.
See section ‘Package structure’ in the ‘Writing R Extensions’ manual.
* checking for sufficient/correct file permissions ... OK
* checking whether package ‘mixOmics’ can be installed ... OK
* checking installed package size ... INFO
  installed size is  6.5Mb
  sub-directories of 1Mb or more:
    R      1.6Mb
    data   3.3Mb
* checking package directory ... OK
* checking DESCRIPTION meta-information ... OK
* checking top-level files ... OK
* checking for left-over files ... OK
* checking index information ... OK
* checking package subdirectories ... OK
* checking code files for non-ASCII characters ... OK
* checking R files for syntax errors ... OK
* checking whether the package can be loaded ... OK
* checking whether the package can be loaded with stated dependencies ... OK
* checking whether the package can be unloaded cleanly ... OK
* checking whether the namespace can be loaded with stated dependencies ... OK
* checking whether the namespace can be unloaded cleanly ... OK
* checking whether startup messages can be suppressed ... OK
* checking dependencies in R code ... NOTE
Namespace in Imports field not imported from: ‘gsignal’
  All declared Imports should be used.
* checking S3 generic/method consistency ... OK
* checking replacement functions ... OK
* checking foreign function calls ... OK
* checking R code for possible problems ... NOTE
.plotLoadings_barplot: no visible binding for global variable
  ‘size.axis’
perf.assess.sgccda: no visible binding for global variable
  ‘signif.threshold’
plotLoadings.mint.pls: no visible binding for global variable
  ‘importance’
plotLoadings.mint.pls: no visible binding for global variable ‘color’
plotLoadings.mint.plsda: no visible binding for global variable
  ‘importance’
plotLoadings.mint.plsda: no visible binding for global variable ‘color’
plotLoadings.mint.spls: no visible binding for global variable
  ‘importance’
plotLoadings.mint.spls: no visible binding for global variable ‘color’
plotLoadings.mint.splsda: no visible binding for global variable
  ‘importance’
plotLoadings.mint.splsda: no visible binding for global variable
  ‘color’
plotLoadings.mixo_pls: no visible binding for global variable
  ‘importance’
plotLoadings.mixo_plsda: no visible binding for global variable
  ‘importance’
plotLoadings.mixo_plsda: no visible binding for global variable ‘color’
plotLoadings.mixo_plsda: no visible binding for global variable ‘group’
plotLoadings.mixo_spls: no visible binding for global variable
  ‘importance’
plotLoadings.mixo_splsda: no visible binding for global variable
  ‘importance’
plotLoadings.mixo_splsda: no visible binding for global variable
  ‘color’
plotLoadings.mixo_splsda: no visible binding for global variable
  ‘group’
plotLoadings.pca: no visible binding for global variable ‘importance’
plotLoadings.rcc: no visible binding for global variable ‘importance’
plotLoadings.rgcca: no visible binding for global variable ‘importance’
plotLoadings.sgcca: no visible binding for global variable ‘importance’
plotLoadings.sgccda: no visible binding for global variable
  ‘importance’
plotLoadings.sgccda: no visible binding for global variable ‘color’
plotLoadings.sgccda: no visible binding for global variable ‘group’
Undefined global functions or variables:
  color group importance signif.threshold size.axis
* checking Rd files ... NOTE
checkRd: (-1) plotLoadings.Rd:479: Lost braces
   479 | For code{mint.pls}, \code{mint.spls}: when \code{study="all.partial"}, 
       |         ^
* checking Rd metadata ... OK
* checking Rd cross-references ... NOTE
Found the following Rd file(s) with Rd \link{} targets missing package
anchors:
  perf.Rd: BiocParallelParam-class
  perf.assess.Rd: BiocParallelParam-class
  rcc.Rd: estimate.lambda
  tune.Rd: BiocParallelParam-class
  tune.block.plsda.Rd: BiocParallelParam-class
  tune.block.splsda.Rd: BiocParallelParam-class
  tune.pls.Rd: BiocParallelParam-class
  tune.plsda.Rd: BiocParallelParam-class
  tune.spca.Rd: BiocParallelParam-class
  tune.spls.Rd: BiocParallelParam-class
  tune.splsda.Rd: BiocParallelParam-class
Please provide package anchors for all Rd \link{} targets not in the
package itself and the base packages.
* checking for missing documentation entries ... OK
* checking for code/documentation mismatches ... OK
* checking Rd \usage sections ... NOTE
S3 methods shown with full name in Rd file 'perf.assess.Rd':
  ‘perf.assess’

The \usage entries for S3 methods should use the \method markup and not
their full name.
See chapter ‘Writing R documentation files’ in the ‘Writing R
Extensions’ manual.
* checking Rd contents ... OK
* checking for unstated dependencies in examples ... OK
* checking contents of ‘data’ directory ... OK
* checking data for non-ASCII characters ... OK
* checking data for ASCII and uncompressed saves ... OK
* checking files in ‘vignettes’ ... OK
* checking examples ... OK
Examples with CPU (user + system) or elapsed time > 5s
                      user system elapsed
tune.spls          221.526 10.328 233.083
tune.splsda        103.189  5.137 109.036
tune.plsda          46.478  2.288  48.990
tune.pls            35.397  1.962  37.525
tune.block.plsda    33.973  0.326  34.458
plotIndiv           24.134  1.508  25.806
perf.assess         24.327  0.822  25.280
biplot              17.416  0.124  17.686
tune.block.splsda   14.006  0.186  51.329
background.predict   8.626  1.190   9.896
block.splsda         9.503  0.104   9.679
block.spls           8.152  0.080   8.274
circosPlot           7.943  0.084   8.120
tune                 6.193  0.380   6.610
pca                  6.329  0.066   6.421
* checking for unstated dependencies in ‘tests’ ... OK
* checking tests ...
  Running ‘testthat.R’
 OK
* checking for unstated dependencies in vignettes ... OK
* checking package vignettes ... OK
* checking running R code from vignettes ... SKIPPED
* checking re-building of vignette outputs ... SKIPPED
* checking PDF version of manual ... OK
* DONE

Status: 6 NOTEs
See
  ‘/Users/biocbuild/bbs-3.22-bioc/meat/mixOmics.Rcheck/00check.log’
for details.


Installation output

mixOmics.Rcheck/00install.out

##############################################################################
##############################################################################
###
### Running command:
###
###   /Library/Frameworks/R.framework/Resources/bin/R CMD INSTALL mixOmics
###
##############################################################################
##############################################################################


* installing to library ‘/Library/Frameworks/R.framework/Versions/4.5-x86_64/Resources/library’
* installing *source* package ‘mixOmics’ ...
** this is package ‘mixOmics’ version ‘6.33.0’
** using staged installation
** R
** data
** inst
** byte-compile and prepare package for lazy loading
** help
*** installing help indices
** building package indices
** installing vignettes
** testing if installed package can be loaded from temporary location
** testing if installed package can be loaded from final location
** testing if installed package keeps a record of temporary installation path
* DONE (mixOmics)

Tests output

mixOmics.Rcheck/tests/testthat.Rout


R version 4.5.1 Patched (2025-09-10 r88807) -- "Great Square Root"
Copyright (C) 2025 The R Foundation for Statistical Computing
Platform: x86_64-apple-darwin20

R is free software and comes with ABSOLUTELY NO WARRANTY.
You are welcome to redistribute it under certain conditions.
Type 'license()' or 'licence()' for distribution details.

R is a collaborative project with many contributors.
Type 'contributors()' for more information and
'citation()' on how to cite R or R packages in publications.

Type 'demo()' for some demos, 'help()' for on-line help, or
'help.start()' for an HTML browser interface to help.
Type 'q()' to quit R.

> library(testthat)
> library(mixOmics)
Loading required package: MASS
Loading required package: lattice
Loading required package: ggplot2

Loaded mixOmics 6.33.0
Thank you for using mixOmics!
Tutorials: http://mixomics.org
Bookdown vignette: https://mixomicsteam.github.io/Bookdown
Questions, issues: Follow the prompts at http://mixomics.org/contact-us
Cite us:  citation('mixOmics')

> 
> test_check("mixOmics")
2025-10-24 22:48:59.198 R[54244:641165690] XType: com.apple.fonts is not accessible.
2025-10-24 22:48:59.198 R[54244:641165690] XType: XTFontStaticRegistry is enabled.
character(0)
character(0)
[1] "test.keepX is set to NULL, tuning only for number of components..."
[1] "test.keepX is set to NULL, tuning only for number of components..."
[1] "test.keepX set to NULL, tuning only for number of components..."
[1] "test.keepX and test.keepY are set to NULL, tuning only for number of components..."
[1] "test.keepX and test.keepY are set to NULL, tuning only for number of components..."
[1] "test.keepX and test.keepY are set to NULL, tuning only for number of components..."
[1] "test.keepX set to NULL, tuning only for number of components..."
[ FAIL 0 | WARN 3 | SKIP 51 | PASS 663 ]

══ Skipped tests (51) ══════════════════════════════════════════════════════════
• On CRAN (51): 'test-biplot.R:17:3', 'test-biplot.R:39:3',
  'test-biplot.R:63:3', 'test-plotArrow.R:50:3', 'test-plotArrow.R:81:3',
  'test-plotIndiv.mint.R:76:3', 'test-plotIndiv.mint.R:99:3',
  'test-plotIndiv.mint.R:131:3', 'test-plotIndiv.mint.R:145:3',
  'test-plotIndiv.mint.R:168:3', 'test-plotIndiv.pca.R:152:3',
  'test-plotIndiv.pca.R:176:3', 'test-plotIndiv.pca.R:210:3',
  'test-plotIndiv.pca.R:244:3', 'test-plotIndiv.pca.R:263:3',
  'test-plotIndiv.pls.R:419:3', 'test-plotIndiv.pls.R:442:3',
  'test-plotIndiv.pls.R:468:3', 'test-plotIndiv.pls.R:486:3',
  'test-plotIndiv.pls.R:498:3', 'test-plotIndiv.pls.R:531:3',
  'test-plotIndiv.pls.R:564:3', 'test-plotIndiv.pls.R:581:3',
  'test-plotIndiv.pls.R:599:3', 'test-plotIndiv.pls.R:610:3',
  'test-plotIndiv.pls.R:622:3', 'test-plotIndiv.pls.R:655:3',
  'test-plotIndiv.pls.R:666:3', 'test-plotIndiv.pls.R:683:3',
  'test-plotIndiv.pls.R:694:3', 'test-plotIndiv.pls.R:712:3',
  'test-plotIndiv.pls.R:741:3', 'test-plotLoadings.mint.pls.R:11:3',
  'test-plotLoadings.mint.pls.R:62:3', 'test-plotLoadings.mint.pls.R:121:3',
  'test-plotLoadings.mint.plsda.R:14:5', 'test-plotLoadings.mint.plsda.R:61:5',
  'test-plotLoadings.mint.plsda.R:91:5',
  'test-plotLoadings.mint.plsda.R:143:5', 'test-plotLoadings.pca.R:11:3',
  'test-plotLoadings.pca.R:50:3', 'test-plotLoadings.pca.R:84:3',
  'test-plotLoadings.pls.R:43:3', 'test-plotLoadings.pls.R:91:3',
  'test-plotLoadings.plsda.R:109:3', 'test-plotLoadings.plsda.R:148:3',
  'test-plotLoadings.sgccda.R:16:3', 'test-plotLoadings.sgccda.R:32:3',
  'test-plotLoadings.sgccda.R:47:3', 'test-plotLoadings.sgccda.R:95:3',
  'test-plotLoadings.sgccda.R:133:3'

[ FAIL 0 | WARN 3 | SKIP 51 | PASS 663 ]
Deleting unused snapshots:
• biplot/biplot-plot-pca-with-customised-colours.svg
• biplot/biplot-plot-plsda-model-with-customised-pch.svg
• plotArrow/arrow-plot-daiblo-with-customised-colours.svg
• plotArrow/arrow-plot-spls-with-customised-colours.svg
• plotIndiv.mint/mint-pls-plot-default-cols-custom-groups.svg
• plotIndiv.mint/mint-pls-plot-studies-facetted.svg
• plotIndiv.mint/mint-spls-plot-studies-facetted-different-layout.svg
• plotIndiv.mint/mint-splsda-plot-default-cols-custom-groups.svg
• plotIndiv.mint/mint-splsda-plot-studies-facetted-different-layout.svg
• plotIndiv.mint/mint-splsda-plot-studies-facetted.svg
• plotIndiv.mint/mint-splsda-plot-with-ellipse.svg
• plotIndiv.mint/mint-splsda-plot-with-star.svg
• plotIndiv.pca/pca-plot-coloured-by-primary-groups-custom-cols-reordered-groups.svg
• plotIndiv.pca/pca-plot-coloured-by-primary-groups-custom-cols-with-set-pch-triangle-for-all-samples.svg
• plotIndiv.pca/pca-plot-coloured-by-primary-groups-custom-cols.svg
• plotIndiv.pca/pca-plot-coloured-by-primary-groups-with-pch-for-secondary-groups-reordered.svg
• plotIndiv.pca/pca-plot-coloured-by-primary-groups-with-pch-for-secondary-groups.svg
• plotIndiv.pca/pca-plot-coloured-by-primary-groups-with-set-pch-for-each-group.svg
• plotIndiv.pca/pca-plot-coloured-by-primary-groups.svg
• plotIndiv.pca/pca-plot-sample-names-coloured-by-primary-groups-custom-cols.svg
• plotIndiv.pca/pca-plot-sample-names-coloured-by-primary-groups.svg
• plotIndiv.pca/pca-plot-with-centroids-coloured-by-primary-groups-custom-cols.svg
• plotIndiv.pca/pca-plot-with-ellipse-coloured-by-primary-groups-custom-cols-ellipse-level-0-5.svg
• plotIndiv.pca/pca-plot-with-ellipse-coloured-by-primary-groups-custom-cols-sample-names.svg
• plotIndiv.pca/pca-plot-with-ellipse-coloured-by-primary-groups-custom-cols.svg
• plotIndiv.pca/pca-plot-with-pch-for-primary-groups-col-consistent.svg
• plotIndiv.pls/pca-plot-sample-names-coloured-by-primary-groups-custom-cols.svg
• plotIndiv.pls/rcca-plot-coloured-by-primary-groups-custom-cols-reordered-groups.svg
• plotIndiv.pls/rcca-plot-coloured-by-primary-groups-with-pch-for-secondary-groups.svg
• plotIndiv.pls/rcca-plot-coloured-by-primary-groups-with-set-pch-for-each-group.svg
• plotIndiv.pls/rcca-plot-coloured-by-primary-groups.svg
• plotIndiv.pls/rcca-plot-on-multi-variate-space.svg
• plotIndiv.pls/rcca-plot-on-x-variate-space.svg
• plotIndiv.pls/rcca-plot-on-y-variate-space.svg
• plotIndiv.pls/rcca-plot-sample-names-coloured-by-primary-groups.svg
• plotIndiv.pls/rcca-plot-with-ellipse-coloured-by-primary-groups-ellipse-level-0-5.svg
• plotIndiv.pls/rcca-plot-with-pch-for-primary-groups-col-consistent.svg
• plotIndiv.pls/spls-plot-coloured-by-primary-groups.svg
• plotIndiv.pls/spls-plot-on-multi-variate-space.svg
• plotIndiv.pls/spls-plot-on-x-variate-space.svg
• plotIndiv.pls/spls-plot-on-y-variate-space.svg
• plotIndiv.pls/spls-plot-sample-names-coloured-by-primary-groups.svg
• plotIndiv.pls/splsda-plot-on-multi-variate-space.svg
• plotIndiv.pls/splsda-plot-on-x-variate-space.svg
• plotIndiv.pls/splsda-plot-on-y-variate-space.svg
• plotIndiv.pls/splsda-plot-sample-names-coloured-by-custom-groups.svg
• plotIndiv.pls/splsda-plot-with-centroids-and-stars-custom-cols-pch-on-second-grouping.svg
• plotIndiv.pls/splsda-plot-with-centroids-and-stars-custom-cols.svg
• plotIndiv.pls/splsda-plot-with-ellipse-on-custom-groups.svg
• plotLoadings.mint.pls/loadings-plot-mint-pls-all-partial-ggplot2.svg
• plotLoadings.mint.pls/loadings-plot-mint-pls-all-partial-graphics.svg
• plotLoadings.mint.pls/loadings-plot-mint-pls-change-cols-and-borders-ggplot2.svg
• plotLoadings.mint.pls/loadings-plot-mint-pls-change-cols-and-borders-graphics.svg
• plotLoadings.mint.pls/loadings-plot-mint-pls-change-gene-names-ggplot2.svg
• plotLoadings.mint.pls/loadings-plot-mint-pls-change-gene-names-graphics.svg
• plotLoadings.mint.pls/loadings-plot-mint-pls-change-labels-and-label-sizes-ggplot2.svg
• plotLoadings.mint.pls/loadings-plot-mint-pls-change-labels-and-label-sizes-graphics.svg
• plotLoadings.mint.pls/loadings-plot-mint-pls-change-layout-ggplot2.svg
• plotLoadings.mint.pls/loadings-plot-mint-pls-change-layout-graphics.svg
• plotLoadings.mint.pls/loadings-plot-mint-pls-specific-study-ggplot2.svg
• plotLoadings.mint.pls/loadings-plot-mint-pls-specific-study-graphics.svg
• plotLoadings.mint.plsda/mint-plsda-loadings-all-partial.svg
• plotLoadings.mint.plsda/mint-plsda-loadings-custom-colors.svg
• plotLoadings.mint.plsda/mint-plsda-loadings-custom-labels.svg
• plotLoadings.mint.plsda/mint-plsda-loadings-custom-layout.svg
• plotLoadings.mint.plsda/mint-plsda-loadings-custom-names.svg
• plotLoadings.mint.plsda/mint-plsda-loadings-ggplot2-all-partial.svg
• plotLoadings.mint.plsda/mint-plsda-loadings-ggplot2-custom-colors.svg
• plotLoadings.mint.plsda/mint-plsda-loadings-ggplot2-custom-labels.svg
• plotLoadings.mint.plsda/mint-plsda-loadings-ggplot2-custom-layout.svg
• plotLoadings.mint.plsda/mint-plsda-loadings-ggplot2-custom-names.svg
• plotLoadings.mint.plsda/mint-plsda-loadings-ggplot2-specific-study.svg
• plotLoadings.mint.plsda/mint-plsda-loadings-specific-study.svg
• plotLoadings.pca/loadings-plot-change-cols-and-borders-ggplot2.svg
• plotLoadings.pca/loadings-plot-change-cols-and-borders-graphics.svg
• plotLoadings.pca/loadings-plot-change-gene-names-and-plot-top-3-ggplot2.svg
• plotLoadings.pca/loadings-plot-change-gene-names-and-plot-top-3-graphics.svg
• plotLoadings.pca/loadings-plot-change-labels-and-label-sizes-ggplot2.svg
• plotLoadings.pca/loadings-plot-change-labels-and-label-sizes-graphics.svg
• plotLoadings.pls/loadings-plot-spls-change-block-ggplot2.svg
• plotLoadings.pls/loadings-plot-spls-change-block-graphics.svg
• plotLoadings.pls/loadings-plot-spls-change-cols-and-borders-ggplot2.svg
• plotLoadings.pls/loadings-plot-spls-change-cols-and-borders-graphics.svg
• plotLoadings.pls/loadings-plot-spls-change-gene-names-and-plot-top-3-ggplot2.svg
• plotLoadings.pls/loadings-plot-spls-change-gene-names-and-plot-top-3-graphics.svg
• plotLoadings.pls/loadings-plot-spls-change-labels-and-label-sizes-ggplot2.svg
• plotLoadings.pls/loadings-plot-spls-change-labels-and-label-sizes-graphics.svg
• plotLoadings.pls/loadings-plot-spls-change-layout-ggplot2.svg
• plotLoadings.pls/loadings-plot-spls-change-layout-graphics.svg
• plotLoadings.plsda/loadings-plot-splsda-with-custom-legend-ggplot2.svg
• plotLoadings.plsda/loadings-plot-splsda-with-custom-legend-graphics.svg
• plotLoadings.plsda/loadings-plot-splsda-with-custom-names-ggplot2.svg
• plotLoadings.plsda/loadings-plot-splsda-with-custom-names-graphics.svg
• plotLoadings.plsda/loadings-plot-splsda-with-custom-title-and-labels-ggplot2.svg
• plotLoadings.plsda/loadings-plot-splsda-with-custom-title-and-labels-graphics.svg
• plotLoadings.sgccda/loadings-plot-diablo-block-specific-with-contrib-ggplot2.svg
• plotLoadings.sgccda/loadings-plot-diablo-block-specific-with-contrib-graphics.svg
• plotLoadings.sgccda/loadings-plot-diablo-change-labels-and-label-sizes-ggplot2.svg
• plotLoadings.sgccda/loadings-plot-diablo-change-labels-and-label-sizes-graphics.svg
• plotLoadings.sgccda/loadings-plot-diablo-change-legend-ggplot2.svg
• plotLoadings.sgccda/loadings-plot-diablo-change-legend-graphics.svg
> 
> proc.time()
   user  system elapsed 
337.471  20.213 550.884 

Example timings

mixOmics.Rcheck/mixOmics-Ex.timings

nameusersystemelapsed
S3methods-print0.0160.0070.023
auroc1.1550.0261.188
background.predict8.6261.1909.896
biplot17.416 0.12417.686
block.pls0.8040.0120.828
block.plsda1.3630.0131.388
block.spls8.1520.0808.274
block.splsda9.5030.1049.679
cim0.0360.0070.043
cimDiablo0.2900.0110.303
circosPlot7.9430.0848.120
colors0.0340.0020.037
explained_variance0.1400.0140.156
get.confusion_matrix0.1730.0050.180
image.tune.rcc2.2570.0712.345
imgCor0.0710.0110.082
impute.nipals0.0120.0040.015
ipca1.3160.0251.348
logratio-transformations0.0640.0060.071
map0.0040.0030.007
mat.rank0.0020.0000.003
mint.block.pls0.1250.0130.139
mint.block.plsda0.0780.0030.082
mint.block.spls0.1200.0070.128
mint.block.splsda0.1040.0040.109
mint.pca0.6250.0060.634
mint.pls1.1230.0171.146
mint.plsda1.2210.0111.239
mint.spls1.1630.0101.182
mint.splsda1.1580.0091.172
mixOmics0.6570.0330.692
nearZeroVar0.6770.0150.694
network0.0140.0040.016
pca6.3290.0666.421
perf2.5920.1182.726
perf.assess24.327 0.82225.280
plot.rcc0.0120.0040.016
plot.tune0.0000.0020.002
plotArrow2.1860.0362.232
plotDiablo0.1510.0060.158
plotIndiv24.134 1.50825.806
plotLoadings0.5800.0290.613
plotMarkers000
plotVar1.0140.0201.036
pls0.0080.0020.009
plsda0.6230.0070.634
predict0.1650.0050.171
rcc0.0020.0010.004
selectVar0.3400.0480.392
sipca0.8420.0430.888
spca4.1110.1324.260
spls0.1960.0100.206
splsda0.5810.0100.595
study_split0.0050.0020.007
summary0.0180.0040.022
tune6.1930.3806.610
tune.block.plsda33.973 0.32634.458
tune.block.splsda14.006 0.18651.329
tune.mint.plsda0.8890.0270.919
tune.mint.splsda4.2970.1834.507
tune.pca0.8220.0260.850
tune.pls35.397 1.96237.525
tune.plsda46.478 2.28848.990
tune.rcc1.6790.0721.759
tune.spca0.7230.0140.739
tune.spls221.526 10.328233.083
tune.splsda103.189 5.137109.036
unmap0.0040.0060.009
vip0.0090.0020.012
withinVariation1.3980.0081.412
wrapper.rgcca0.0590.0060.070
wrapper.sgcca0.1070.0070.115