| Back to Multiple platform build/check report for BioC 3.22: simplified long |
|
This page was generated on 2025-10-24 12:05 -0400 (Fri, 24 Oct 2025).
| Hostname | OS | Arch (*) | R version | Installed pkgs |
|---|---|---|---|---|
| nebbiolo2 | Linux (Ubuntu 24.04.3 LTS) | x86_64 | 4.5.1 Patched (2025-08-23 r88802) -- "Great Square Root" | 4898 |
| lconway | macOS 12.7.6 Monterey | x86_64 | 4.5.1 Patched (2025-09-10 r88807) -- "Great Square Root" | 4688 |
| kjohnson3 | macOS 13.7.7 Ventura | arm64 | 4.5.1 Patched (2025-09-10 r88807) -- "Great Square Root" | 4634 |
| taishan | Linux (openEuler 24.03 LTS) | aarch64 | 4.5.0 (2025-04-11) -- "How About a Twenty-Six" | 4658 |
| Click on any hostname to see more info about the system (e.g. compilers) (*) as reported by 'uname -p', except on Windows and Mac OS X | ||||
| Package 1237/2359 | Hostname | OS / Arch | INSTALL | BUILD | CHECK | BUILD BIN | ||||||||
| metabinR 1.11.0 (landing page) Anestis Gkanogiannis
| nebbiolo2 | Linux (Ubuntu 24.04.3 LTS) / x86_64 | OK | OK | OK | |||||||||
| lconway | macOS 12.7.6 Monterey / x86_64 | OK | OK | OK | OK | |||||||||
| kjohnson3 | macOS 13.7.7 Ventura / arm64 | OK | OK | OK | OK | |||||||||
| taishan | Linux (openEuler 24.03 LTS) / aarch64 | OK | OK | NA | ||||||||||
|
To the developers/maintainers of the metabinR package: - Allow up to 24 hours (and sometimes 48 hours) for your latest push to git@git.bioconductor.org:packages/metabinR.git to reflect on this report. See Troubleshooting Build Report for more information. - Use the following Renviron settings to reproduce errors and warnings. - If 'R CMD check' started to fail recently on the Linux builder(s) over a missing dependency, add the missing dependency to 'Suggests:' in your DESCRIPTION file. See Renviron.bioc for more information. |
| Package: metabinR |
| Version: 1.11.0 |
| Command: /Library/Frameworks/R.framework/Resources/bin/R CMD check --install=check:metabinR.install-out.txt --library=/Library/Frameworks/R.framework/Resources/library --no-vignettes --timings metabinR_1.11.0.tar.gz |
| StartedAt: 2025-10-23 22:14:27 -0400 (Thu, 23 Oct 2025) |
| EndedAt: 2025-10-23 22:15:48 -0400 (Thu, 23 Oct 2025) |
| EllapsedTime: 80.6 seconds |
| RetCode: 0 |
| Status: OK |
| CheckDir: metabinR.Rcheck |
| Warnings: 0 |
##############################################################################
##############################################################################
###
### Running command:
###
### /Library/Frameworks/R.framework/Resources/bin/R CMD check --install=check:metabinR.install-out.txt --library=/Library/Frameworks/R.framework/Resources/library --no-vignettes --timings metabinR_1.11.0.tar.gz
###
##############################################################################
##############################################################################
* using log directory ‘/Users/biocbuild/bbs-3.22-bioc/meat/metabinR.Rcheck’
* using R version 4.5.1 Patched (2025-09-10 r88807)
* using platform: x86_64-apple-darwin20
* R was compiled by
Apple clang version 14.0.0 (clang-1400.0.29.202)
GNU Fortran (GCC) 14.2.0
* running under: macOS Monterey 12.7.6
* using session charset: UTF-8
* using option ‘--no-vignettes’
* checking for file ‘metabinR/DESCRIPTION’ ... OK
* checking extension type ... Package
* this is package ‘metabinR’ version ‘1.11.0’
* package encoding: UTF-8
* checking package namespace information ... OK
* checking package dependencies ... OK
* checking if this is a source package ... OK
* checking if there is a namespace ... OK
* checking for hidden files and directories ... OK
* checking for portable file names ... OK
* checking for sufficient/correct file permissions ... OK
* checking whether package ‘metabinR’ can be installed ... OK
* checking installed package size ... OK
* checking package directory ... OK
* checking ‘build’ directory ... OK
* checking DESCRIPTION meta-information ... OK
* checking top-level files ... OK
* checking for left-over files ... OK
* checking index information ... OK
* checking package subdirectories ... OK
* checking code files for non-ASCII characters ... OK
* checking R files for syntax errors ... OK
* checking whether the package can be loaded ... OK
* checking whether the package can be loaded with stated dependencies ... OK
* checking whether the package can be unloaded cleanly ... OK
* checking whether the namespace can be loaded with stated dependencies ... OK
* checking whether the namespace can be unloaded cleanly ... OK
* checking whether startup messages can be suppressed ... OK
* checking dependencies in R code ... OK
* checking S3 generic/method consistency ... OK
* checking replacement functions ... OK
* checking foreign function calls ... OK
* checking R code for possible problems ... OK
* checking Rd files ... OK
* checking Rd metadata ... OK
* checking Rd cross-references ... OK
* checking for missing documentation entries ... OK
* checking for code/documentation mismatches ... OK
* checking Rd \usage sections ... OK
* checking Rd contents ... OK
* checking for unstated dependencies in examples ... OK
* checking files in ‘vignettes’ ... OK
* checking examples ... OK
Examples with CPU (user + system) or elapsed time > 5s
user system elapsed
abundance_based_binning 8.903 2.007 8.632
composition_based_binning 5.628 1.364 3.044
hierarchical_binning 4.839 1.042 4.210
* checking for unstated dependencies in ‘tests’ ... OK
* checking tests ...
Running ‘spelling.R’
Running ‘testthat.R’
OK
* checking for unstated dependencies in vignettes ... OK
* checking package vignettes ... OK
* checking running R code from vignettes ... SKIPPED
* checking re-building of vignette outputs ... SKIPPED
* checking PDF version of manual ... OK
* DONE
Status: OK
metabinR.Rcheck/00install.out
############################################################################## ############################################################################## ### ### Running command: ### ### /Library/Frameworks/R.framework/Resources/bin/R CMD INSTALL metabinR ### ############################################################################## ############################################################################## * installing to library ‘/Library/Frameworks/R.framework/Versions/4.5-x86_64/Resources/library’ * installing *source* package ‘metabinR’ ... ** this is package ‘metabinR’ version ‘1.11.0’ ** using staged installation ** R ** inst ** byte-compile and prepare package for lazy loading ** help *** installing help indices ** building package indices ** installing vignettes ** testing if installed package can be loaded from temporary location ** testing if installed package can be loaded from final location ** testing if installed package keeps a record of temporary installation path * DONE (metabinR)
metabinR.Rcheck/tests/spelling.Rout
R version 4.5.1 Patched (2025-09-10 r88807) -- "Great Square Root"
Copyright (C) 2025 The R Foundation for Statistical Computing
Platform: x86_64-apple-darwin20
R is free software and comes with ABSOLUTELY NO WARRANTY.
You are welcome to redistribute it under certain conditions.
Type 'license()' or 'licence()' for distribution details.
R is a collaborative project with many contributors.
Type 'contributors()' for more information and
'citation()' on how to cite R or R packages in publications.
Type 'demo()' for some demos, 'help()' for on-line help, or
'help.start()' for an HTML browser interface to help.
Type 'q()' to quit R.
> if(requireNamespace('spelling', quietly = TRUE))
+ spelling::spell_check_test(vignettes = TRUE, error = FALSE,
+ skip_on_cran = TRUE)
All Done!
>
> proc.time()
user system elapsed
0.210 0.086 0.356
metabinR.Rcheck/tests/testthat.Rout
R version 4.5.1 Patched (2025-09-10 r88807) -- "Great Square Root"
Copyright (C) 2025 The R Foundation for Statistical Computing
Platform: x86_64-apple-darwin20
R is free software and comes with ABSOLUTELY NO WARRANTY.
You are welcome to redistribute it under certain conditions.
Type 'license()' or 'licence()' for distribution details.
R is a collaborative project with many contributors.
Type 'contributors()' for more information and
'citation()' on how to cite R or R packages in publications.
Type 'demo()' for some demos, 'help()' for on-line help, or
'help.start()' for an HTML browser interface to help.
Type 'q()' to quit R.
> library(testthat)
> library(metabinR)
>
> test_check("metabinR")
version MTxAB =Thu Oct 23 15:05:51 EDT 2025
cpus=48
using=1
2025/10/23 22:15:15 Using Dictionary ORIGINAL
2025/10/23 22:15:15 START of AB Counting
2025/10/23 22:15:15 FastaManager: START READ
2025/10/23 22:15:15 SequenceProcessor: 0 AB_KMERCOUNT START
CHUNK_SIZE=67108864
2025/10/23 22:15:15 FastaManager: lines read 53328
2025/10/23 22:15:15 FastaManager: END READ
2025/10/23 22:15:15 FastaManager: FASTA
2025/10/23 22:15:17 SequenceProcessor: 0 AB_KMERCOUNT EXIT
2025/10/23 22:15:17 END of AB Counting
2025/10/23 22:15:17 Loaded sequences: 26664
2025/10/23 22:15:17 Total kmers(before remove): 65536
##### Heap utilization statistics [GB] #####
Max Memory=0.5
Current Total Memory=0.5
Current Used Memory=0.286
Current Free Memory=0.214
############################################
2025/10/23 22:15:17
Unique: 0
Distinct: 65536
Total: 7625904
MaxCount: 1574
2025/10/23 22:15:17 START of EMsync
Run=1
Run=2
Run=3
Run=4
Run=5
Run=6
Run=7
Run=8
Run=9
Run=10
Run=11
Run=12
Run=13
Run=14
Run=15
Run=16
Run=17
Run=18
Run=19
Run=20
Run=21
Run=22
Run=23
Run=24
Run=25
2025/10/23 22:15:17 Runs=25
2025/10/23 22:15:17 END of EMsync
2025/10/23 22:15:17 START of Creating AB Cluster Vectors
Cluster 1 Abundance=241.01134335779187 Length=16168.173737759438 LowLimit=163 HighLimit=318
Cluster 2 Abundance=75.53888858729701 Length=49367.826262240575 LowLimit=32 HighLimit=118
2025/10/23 22:15:17 Trove size/4=18022
2025/10/23 22:15:17 Trove size/4=18022
2025/10/23 22:15:17 Cluster 2 size in kmers=65536 norm=221.81983091435748
2025/10/23 22:15:17 Cluster 1 size in kmers=65536 norm=126.5058948513796
2025/10/23 22:15:17 END of Creating AB Cluster Vectors
cpus=48
using=1
2025/10/23 22:15:17 START of AB Binning
2025/10/23 22:15:17 FastaManager: START READ
2025/10/23 22:15:17 SequenceProcessor: 0 AB_BINNING START
2025/10/23 22:15:17 FastaManager: lines read 53328
2025/10/23 22:15:18 FastaManager: END READ
2025/10/23 22:15:18 FastaManager: FASTA
2025/10/23 22:15:20 SequenceProcessor: 0 AB_BINNING EXIT
2025/10/23 22:15:20 END of AB Binning
Clustered reads:
AB Cluster 1: 19871
AB Cluster 2: 6793
##### Heap utilization statistics [GB] #####
Max Memory=0.5
Current Total Memory=0.5
Current Used Memory=0.371
Current Free Memory=0.129
############################################
version MTxCB =Thu Oct 23 15:05:51 EDT 2025
cpus=48
using=1
2025/10/23 22:15:20 START of CB Counting
2025/10/23 22:15:20 FastaManager: START READ
2025/10/23 22:15:20 SequenceProcessor: 0 CB_SEQUENCEVECTORBUILD START
2025/10/23 22:15:20 FastaManager: lines read 53328
2025/10/23 22:15:20 FastaManager: END READ
2025/10/23 22:15:20 FastaManager: FASTA
2025/10/23 22:15:21 SequenceProcessor: 0 CB_SEQUENCEVECTORBUILD EXIT
2025/10/23 22:15:21 END of CB Counting
2025/10/23 22:15:21 Loaded sequences: 26664
##### Heap utilization statistics [GB] #####
Max Memory=0.5
Current Total Memory=0.5
Current Used Memory=0.372
Current Free Memory=0.128
############################################
cpus=48
using=1
2025/10/23 22:15:21 START of Creating CB Clusters Size=26664
K-Means clustering started
... centers initialized
... concurrent processing mode with 1 subtask threads
... iteration 1 moves = 6013
... iteration 2 moves = 1646
... iteration 3 moves = 572
... iteration 4 moves = 192
... iteration 5 moves = 97
... iteration 6 moves = 67
... iteration 7 moves = 57
... iteration 8 moves = 51
... iteration 9 moves = 56
... iteration 10 moves = 61
... iteration 11 moves = 75
... iteration 12 moves = 72
... iteration 13 moves = 101
... iteration 14 moves = 109
... iteration 15 moves = 141
... iteration 16 moves = 220
... iteration 17 moves = 262
... iteration 18 moves = 235
... iteration 19 moves = 323
... iteration 20 moves = 313
... iteration 21 moves = 382
... iteration 22 moves = 479
... iteration 23 moves = 499
... iteration 24 moves = 427
... iteration 25 moves = 357
...end. 6.87 seconds.
2025/10/23 22:15:28 : kMeans cleanup.
2025/10/23 22:15:28 END of Creating CB Clusters.
cpus=48
using=1
2025/10/23 22:15:28 START of CB Binning
2025/10/23 22:15:28 FastaManager: START READ
2025/10/23 22:15:28 SequenceProcessor: 0 CB_BINNING START
2025/10/23 22:15:28 FastaManager: lines read 53328
2025/10/23 22:15:28 FastaManager: END READ
2025/10/23 22:15:28 FastaManager: FASTA
2025/10/23 22:15:29 SequenceProcessor: 0 CB_BINNING EXIT
Clustered reads:
CB Cluster 1: 15814
CB Cluster 2: 10850
##### Heap utilization statistics [GB] #####
Max Memory=0.5
Current Total Memory=0.5
Current Used Memory=0.447
Current Free Memory=0.053
############################################
version MTxABxCB =Thu Oct 23 15:05:51 EDT 2025
cpus=48
using=1
2025/10/23 22:15:29 Using Dictionary ORIGINAL
2025/10/23 22:15:29 START of AB Counting
2025/10/23 22:15:29 FastaManager: START READ
2025/10/23 22:15:29 SequenceProcessor: 0 AB_KMERCOUNT START
2025/10/23 22:15:29 FastaManager: lines read 53328
2025/10/23 22:15:29 FastaManager: END READ
2025/10/23 22:15:29 FastaManager: FASTA
2025/10/23 22:15:31 SequenceProcessor: 0 AB_KMERCOUNT EXIT
2025/10/23 22:15:31 END of AB Counting
2025/10/23 22:15:31 Loaded sequences: 26664
2025/10/23 22:15:31 Distinct kmers(before remove): 65536
##### Heap utilization statistics [GB] #####
Max Memory=0.5
Current Total Memory=0.5
Current Used Memory=0.318
Current Free Memory=0.182
############################################
2025/10/23 22:15:31
Unique: 0
Distinct: 65536
Total: 7625904
MaxCount: 1574
2025/10/23 22:15:31 START of EMsync
Run=1
Run=2
Run=3
Run=4
Run=5
Run=6
Run=7
Run=8
Run=9
Run=10
Run=11
Run=12
Run=13
Run=14
Run=15
Run=16
Run=17
Run=18
Run=19
Run=20
Run=21
Run=22
Run=23
Run=24
Run=25
2025/10/23 22:15:31 Runs=25
2025/10/23 22:15:31 END of EMsync
2025/10/23 22:15:31 Filter before=2
2025/10/23 22:15:31 Filter after=2
2025/10/23 22:15:31 START of Creating AB Cluster Vectors
Cluster 1 Abundance=241.01134335779187 Length=16168.173737759438 LowLimit=163 HighLimit=318
Cluster 2 Abundance=75.53888858729701 Length=49367.826262240575 LowLimit=32 HighLimit=118
2025/10/23 22:15:31 Trove size/4=18022
2025/10/23 22:15:31 Trove size/4=18022
2025/10/23 22:15:31 Cluster 1 size in kmers=65536 norm=126.5058948513796
2025/10/23 22:15:31 Cluster 2 size in kmers=65536 norm=221.81983091435748
2025/10/23 22:15:31 END of Creating AB Cluster Vectors
cpus=48
using=1
2025/10/23 22:15:31 START of AB Binning
2025/10/23 22:15:31 FastaManager: START READ
2025/10/23 22:15:31 SequenceProcessor: 0 AB_BINNING START
2025/10/23 22:15:31 FastaManager: lines read 53328
2025/10/23 22:15:31 FastaManager: END READ
2025/10/23 22:15:31 FastaManager: FASTA
2025/10/23 22:15:33 SequenceProcessor: 0 AB_BINNING EXIT
2025/10/23 22:15:33 END of AB Binning
cpus=48
using=1
2025/10/23 22:15:33 START of CB Counting
2025/10/23 22:15:33 FastaManager: START READ
2025/10/23 22:15:33 SequenceProcessor: 0 CB_SEQUENCEVECTORBUILD START
2025/10/23 22:15:33 FastaManager: lines read 53328
2025/10/23 22:15:33 FastaManager: END READ
2025/10/23 22:15:33 FastaManager: FASTA
2025/10/23 22:15:34 SequenceProcessor: 0 CB_SEQUENCEVECTORBUILD EXIT
2025/10/23 22:15:34 END of CB Counting
2025/10/23 22:15:34 Loaded sequences: 26664
##### Heap utilization statistics [GB] #####
Max Memory=0.5
Current Total Memory=0.5
Current Used Memory=0.297
Current Free Memory=0.203
############################################
2025/10/23 22:15:34 AB Cluster=1 Size=19871
2025/10/23 22:15:34 AB Cluster=2 Size=6793
cpus=48
using=1
ABid size abundance EMLength newLength EMspecies newspecies
----- ---- --------- -------- --------- --------- ----------
1 19,871 241.01134 16,168 12,367 1 1
2025/10/23 22:15:34 START of Creating CB Clusters for AB Cluster=1 Size=19871
K-Means clustering started
... centers initialized
... concurrent processing mode with 1 subtask threads
... iteration 1 moves = 0
...end. 2.239 seconds.
2025/10/23 22:15:36 END of Creating CB Clusters for AB Cluster=1
2025/10/23 22:15:36 : kMeans cleanup.
cpus=48
using=1
ABid size abundance EMLength newLength EMspecies newspecies
----- ---- --------- -------- --------- --------- ----------
2 6,793 75.53889 49,367 13,489 1 1
2025/10/23 22:15:36 START of Creating CB Clusters for AB Cluster=2 Size=6793
K-Means clustering started
... centers initialized
... concurrent processing mode with 1 subtask threads
... iteration 1 moves = 0
...end. 0.763 seconds.
2025/10/23 22:15:37 : kMeans cleanup.
2025/10/23 22:15:37 END of Creating CB Clusters for AB Cluster=2
##### Heap utilization statistics [GB] #####
Max Memory=0.5
Current Total Memory=0.5
Current Used Memory=0.407
Current Free Memory=0.093
############################################
cpus=48
using=1
2025/10/23 22:15:37 START of CB Binning
2025/10/23 22:15:37 FastaManager: START READ
2025/10/23 22:15:37 SequenceProcessor: 0 CB_BINNING START
2025/10/23 22:15:37 FastaManager: lines read 53328
2025/10/23 22:15:37 FastaManager: END READ
2025/10/23 22:15:37 FastaManager: FASTA
2025/10/23 22:15:37 SequenceProcessor: 0 CB_BINNING EXIT
Clustered reads:
ABxCB Cluster 1: 19871
ABxCB Cluster 2: 6793
##### Heap utilization statistics [GB] #####
Max Memory=0.5
Current Total Memory=0.5
Current Used Memory=0.444
Current Free Memory=0.056
############################################
[ FAIL 0 | WARN 0 | SKIP 0 | PASS 52 ]
>
> proc.time()
user system elapsed
31.121 1.342 24.482
metabinR.Rcheck/metabinR-Ex.timings
| name | user | system | elapsed | |
| abundance_based_binning | 8.903 | 2.007 | 8.632 | |
| composition_based_binning | 5.628 | 1.364 | 3.044 | |
| hierarchical_binning | 4.839 | 1.042 | 4.210 | |