This page was generated on 2025-08-15 12:07 -0400 (Fri, 15 Aug 2025).
| Hostname | OS | Arch (*) | R version | Installed pkgs | 
|---|
| nebbiolo2 | Linux (Ubuntu 24.04.3 LTS) | x86_64 | 4.5.1 (2025-06-13) -- "Great Square Root" | 4818 | 
| palomino8 | Windows Server 2022 Datacenter | x64 | 4.5.1 (2025-06-13 ucrt) -- "Great Square Root" | 4554 | 
| lconway | macOS 12.7.1 Monterey | x86_64 | 4.5.1 (2025-06-13) -- "Great Square Root" | 4595 | 
| kjohnson3 | macOS 13.7.7 Ventura | arm64 | 4.5.1 Patched (2025-06-14 r88325) -- "Great Square Root" | 4537 | 
| taishan | Linux (openEuler 24.03 LTS) | aarch64 | 4.5.0 (2025-04-11) -- "How About a Twenty-Six" | 4535 | 
| Click on any hostname to see more info about the system (e.g. compilers)      (*) as reported by 'uname -p', except on Windows and Mac OS X | 
BUILD results for mbkmeans on palomino8
| To the developers/maintainers of the mbkmeans package: - Allow up to 24 hours (and sometimes 48 hours) for your latest push to git@git.bioconductor.org:packages/mbkmeans.git to reflect on this report. See Troubleshooting Build Report for more information.
 - Use the following Renviron settings to reproduce errors and warnings.
 - If 'R CMD check' started to fail recently on the Linux builder(s) over a missing dependency, add the missing dependency to 'Suggests:' in your DESCRIPTION file. See Renviron.bioc for more information.
 
 | 
 
raw results
Summary
Command output
##############################################################################
##############################################################################
###
### Running command:
###
###   chmod a+r mbkmeans -R && F:\biocbuild\bbs-3.22-bioc\R\bin\R.exe CMD build --keep-empty-dirs --no-resave-data mbkmeans
###
##############################################################################
##############################################################################
* checking for file 'mbkmeans/DESCRIPTION' ... OK
* preparing 'mbkmeans':
* checking DESCRIPTION meta-information ... OK
* cleaning src
* installing the package to build vignettes
      -----------------------------------
* installing *source* package 'mbkmeans' ...
** this is package 'mbkmeans' version '1.25.0'
** using staged installation
** libs
using C++ compiler: 'G__~1.EXE (GCC) 14.2.0'
using C++11
g++  -std=gnu++11 -I"F:/biocbuild/bbs-3.22-bioc/R/include" -DNDEBUG  -I'F:/biocbuild/bbs-3.22-bioc/R/library/Rcpp/include' -I'F:/biocbuild/bbs-3.22-bioc/R/library/RcppArmadillo/include' -I'F:/biocbuild/bbs-3.22-bioc/R/library/Rhdf5lib/include' -I'F:/biocbuild/bbs-3.22-bioc/R/library/beachmat/include' -I'F:/biocbuild/bbs-3.22-bioc/R/library/ClusterR/include'   -I"C:/rtools45/x86_64-w64-mingw32.static.posix/include"      -O2 -Wall  -mfpmath=sse -msse2 -mstackrealign    -c RcppExports.cpp -o RcppExports.o
g++  -std=gnu++11 -I"F:/biocbuild/bbs-3.22-bioc/R/include" -DNDEBUG  -I'F:/biocbuild/bbs-3.22-bioc/R/library/Rcpp/include' -I'F:/biocbuild/bbs-3.22-bioc/R/library/RcppArmadillo/include' -I'F:/biocbuild/bbs-3.22-bioc/R/library/Rhdf5lib/include' -I'F:/biocbuild/bbs-3.22-bioc/R/library/beachmat/include' -I'F:/biocbuild/bbs-3.22-bioc/R/library/ClusterR/include'   -I"C:/rtools45/x86_64-w64-mingw32.static.posix/include"      -O2 -Wall  -mfpmath=sse -msse2 -mstackrealign    -c mini_batch.cpp -o mini_batch.o
In file included from mini_batch.cpp:3:
F:/biocbuild/bbs-3.22-bioc/R/library/ClusterR/include/ClusterRHeader.h: In member function 'arma::mat clustR::ClustHeader::KMEANS_arma(arma::mat&, int, int, bool, std::string, Rcpp::Nullable<Rcpp::Matrix<14> >, int)':
F:/biocbuild/bbs-3.22-bioc/R/library/ClusterR/include/ClusterRHeader.h:862:14: warning: variable 'status' set but not used [-Wunused-but-set-variable]
  862 |         bool status;
      |              ^~~~~~
F:/biocbuild/bbs-3.22-bioc/R/library/ClusterR/include/ClusterRHeader.h: In instantiation of 'T clustR::ClustHeader::GMM_arma_covariance_type(T, arma::mat&, int, std::string, std::string, int, int, bool, double, int) [with T = arma::gmm_priv::gmm_full<double>; arma::mat = arma::Mat<double>; std::string = std::__cxx11::basic_string<char>]':
F:/biocbuild/bbs-3.22-bioc/R/library/ClusterR/include/ClusterRHeader.h:1592:65:   required from here
 1592 |           model_inner = GMM_arma_covariance_type<arma::gmm_full>(model_inner,
      |                         ~~~~~~~~~~~~~~~~~~~~~~~~~~~~~~~~~~~~~~~~^~~~~~~~~~~~~
 1593 |                                                                  data,
      |                                                                  ~~~~~
 1594 |                                                                  gaussian_comps,
      |                                                                  ~~~~~~~~~~~~~~~
 1595 |                                                                  dist_mode,
      |                                                                  ~~~~~~~~~~
 1596 |                                                                  seed_mode,
      |                                                                  ~~~~~~~~~~
 1597 |                                                                  km_iter,
      |                                                                  ~~~~~~~~
 1598 |                                                                  em_iter,
      |                                                                  ~~~~~~~~
 1599 |                                                                  verbose,
      |                                                                  ~~~~~~~~
 1600 |                                                                  var_floor,
      |                                                                  ~~~~~~~~~~
 1601 |                                                                  seed);
      |                                                                  ~~~~~
F:/biocbuild/bbs-3.22-bioc/R/library/ClusterR/include/ClusterRHeader.h:1530:14: warning: variable 'status' set but not used [-Wunused-but-set-variable]
 1530 |         bool status;
      |              ^~~~~~
F:/biocbuild/bbs-3.22-bioc/R/library/ClusterR/include/ClusterRHeader.h: In instantiation of 'T clustR::ClustHeader::GMM_arma_covariance_type(T, arma::mat&, int, std::string, std::string, int, int, bool, double, int) [with T = arma::gmm_priv::gmm_diag<double>; arma::mat = arma::Mat<double>; std::string = std::__cxx11::basic_string<char>]':
F:/biocbuild/bbs-3.22-bioc/R/library/ClusterR/include/ClusterRHeader.h:1626:65:   required from here
 1626 |           model_inner = GMM_arma_covariance_type<arma::gmm_diag>(model_inner,
      |                         ~~~~~~~~~~~~~~~~~~~~~~~~~~~~~~~~~~~~~~~~^~~~~~~~~~~~~
 1627 |                                                                  data,
      |                                                                  ~~~~~
 1628 |                                                                  gaussian_comps,
      |                                                                  ~~~~~~~~~~~~~~~
 1629 |                                                                  dist_mode,
      |                                                                  ~~~~~~~~~~
 1630 |                                                                  seed_mode,
      |                                                                  ~~~~~~~~~~
 1631 |                                                                  km_iter,
      |                                                                  ~~~~~~~~
 1632 |                                                                  em_iter,
      |                                                                  ~~~~~~~~
 1633 |                                                                  verbose,
      |                                                                  ~~~~~~~~
 1634 |                                                                  var_floor,
      |                                                                  ~~~~~~~~~~
 1635 |                                                                  seed);
      |                                                                  ~~~~~
F:/biocbuild/bbs-3.22-bioc/R/library/ClusterR/include/ClusterRHeader.h:1530:14: warning: variable 'status' set but not used [-Wunused-but-set-variable]
 1530 |         bool status;
      |              ^~~~~~
g++ -shared -s -static-libgcc -o mbkmeans.dll tmp.def RcppExports.o mini_batch.o -LC:/rtools45/x86_64-w64-mingw32.static.posix/lib/x64 -LC:/rtools45/x86_64-w64-mingw32.static.posix/lib -LF:/biocbuild/bbs-3.22-bioc/R/bin/x64 -lR
C:\rtools45\x86_64-w64-mingw32.static.posix\bin/ld.exe: mini_batch.o:mini_batch.cpp:(.text+0x96bc): undefined reference to `ddot_'
collect2.exe: error: ld returned 1 exit status
no DLL was created
ERROR: compilation failed for package 'mbkmeans'
* removing 'F:/biocbuild/bbs-3.22-bioc/tmpdir/RtmpyYPiqy/Rinstc7d8661f2afe/mbkmeans'
      -----------------------------------
ERROR: package installation failed