Back to Multiple platform build/check report for BioC 3.22:   simplified   long
ABCDEFGHIJKL[M]NOPQRSTUVWXYZ

This page was generated on 2025-10-24 12:05 -0400 (Fri, 24 Oct 2025).

HostnameOSArch (*)R versionInstalled pkgs
nebbiolo2Linux (Ubuntu 24.04.3 LTS)x86_644.5.1 Patched (2025-08-23 r88802) -- "Great Square Root" 4898
lconwaymacOS 12.7.6 Montereyx86_644.5.1 Patched (2025-09-10 r88807) -- "Great Square Root" 4688
kjohnson3macOS 13.7.7 Venturaarm644.5.1 Patched (2025-09-10 r88807) -- "Great Square Root" 4634
taishanLinux (openEuler 24.03 LTS)aarch644.5.0 (2025-04-11) -- "How About a Twenty-Six" 4658
Click on any hostname to see more info about the system (e.g. compilers)      (*) as reported by 'uname -p', except on Windows and Mac OS X

Package 1193/2359HostnameOS / ArchINSTALLBUILDCHECKBUILD BIN
maser 1.27.1  (landing page)
Diogo F.T. Veiga
Snapshot Date: 2025-10-23 14:17 -0400 (Thu, 23 Oct 2025)
git_url: https://git.bioconductor.org/packages/maser
git_branch: devel
git_last_commit: 684a35f
git_last_commit_date: 2025-07-23 12:30:32 -0400 (Wed, 23 Jul 2025)
nebbiolo2Linux (Ubuntu 24.04.3 LTS) / x86_64  OK    OK    OK  UNNEEDED, same version is already published
lconwaymacOS 12.7.6 Monterey / x86_64  OK    OK    OK    OK  UNNEEDED, same version is already published
kjohnson3macOS 13.7.7 Ventura / arm64  OK    OK    OK    OK  UNNEEDED, same version is already published
taishanLinux (openEuler 24.03 LTS) / aarch64  OK    OK    NA  


CHECK results for maser on lconway

To the developers/maintainers of the maser package:
- Allow up to 24 hours (and sometimes 48 hours) for your latest push to git@git.bioconductor.org:packages/maser.git to reflect on this report. See Troubleshooting Build Report for more information.
- Use the following Renviron settings to reproduce errors and warnings.
- If 'R CMD check' started to fail recently on the Linux builder(s) over a missing dependency, add the missing dependency to 'Suggests:' in your DESCRIPTION file. See Renviron.bioc for more information.

raw results


Summary

Package: maser
Version: 1.27.1
Command: /Library/Frameworks/R.framework/Resources/bin/R CMD check --install=check:maser.install-out.txt --library=/Library/Frameworks/R.framework/Resources/library --no-vignettes --timings maser_1.27.1.tar.gz
StartedAt: 2025-10-23 22:07:54 -0400 (Thu, 23 Oct 2025)
EndedAt: 2025-10-23 22:15:40 -0400 (Thu, 23 Oct 2025)
EllapsedTime: 465.7 seconds
RetCode: 0
Status:   OK  
CheckDir: maser.Rcheck
Warnings: 0

Command output

##############################################################################
##############################################################################
###
### Running command:
###
###   /Library/Frameworks/R.framework/Resources/bin/R CMD check --install=check:maser.install-out.txt --library=/Library/Frameworks/R.framework/Resources/library --no-vignettes --timings maser_1.27.1.tar.gz
###
##############################################################################
##############################################################################


* using log directory ‘/Users/biocbuild/bbs-3.22-bioc/meat/maser.Rcheck’
* using R version 4.5.1 Patched (2025-09-10 r88807)
* using platform: x86_64-apple-darwin20
* R was compiled by
    Apple clang version 14.0.0 (clang-1400.0.29.202)
    GNU Fortran (GCC) 14.2.0
* running under: macOS Monterey 12.7.6
* using session charset: UTF-8
* using option ‘--no-vignettes’
* checking for file ‘maser/DESCRIPTION’ ... OK
* checking extension type ... Package
* this is package ‘maser’ version ‘1.27.1’
* package encoding: UTF-8
* checking package namespace information ... OK
* checking package dependencies ... OK
* checking if this is a source package ... OK
* checking if there is a namespace ... OK
* checking for hidden files and directories ... OK
* checking for portable file names ... OK
* checking for sufficient/correct file permissions ... OK
* checking whether package ‘maser’ can be installed ... OK
* checking installed package size ... OK
* checking package directory ... OK
* checking ‘build’ directory ... OK
* checking DESCRIPTION meta-information ... OK
* checking top-level files ... OK
* checking for left-over files ... OK
* checking index information ... OK
* checking package subdirectories ... OK
* checking code files for non-ASCII characters ... OK
* checking R files for syntax errors ... OK
* checking whether the package can be loaded ... OK
* checking whether the package can be loaded with stated dependencies ... OK
* checking whether the package can be unloaded cleanly ... OK
* checking whether the namespace can be loaded with stated dependencies ... OK
* checking whether the namespace can be unloaded cleanly ... OK
* checking whether startup messages can be suppressed ... OK
* checking dependencies in R code ... OK
* checking S3 generic/method consistency ... OK
* checking replacement functions ... OK
* checking foreign function calls ... OK
* checking R code for possible problems ... NOTE
availableFeaturesUniprotKB: no visible global function definition for
  'read.csv'
availableFeaturesUniprotKB: no visible binding for global variable
  'Category'
availableFeaturesUniprotKB: no visible binding for global variable
  'Name'
filterByIds: no visible binding for global variable 'ID'
mapTranscriptsA3SSevent: no visible global function definition for
  'subjectHits'
mapTranscriptsA5SSevent: no visible global function definition for
  'subjectHits'
mapTranscriptsMXEevent: no visible global function definition for
  'subjectHits'
mapTranscriptsRIevent: no visible global function definition for
  'subjectHits'
mapTranscriptsSEevent: no visible global function definition for
  'subjectHits'
overlappingFeatures: no visible global function definition for
  'subjectHits'
urlTracksUniprotKB: no visible global function definition for
  'read.csv'
Undefined global functions or variables:
  Category ID Name read.csv subjectHits
Consider adding
  importFrom("utils", "read.csv")
to your NAMESPACE file.
* checking Rd files ... OK
* checking Rd metadata ... OK
* checking Rd cross-references ... OK
* checking for missing documentation entries ... OK
* checking for code/documentation mismatches ... OK
* checking Rd \usage sections ... OK
* checking Rd contents ... OK
* checking for unstated dependencies in examples ... OK
* checking R/sysdata.rda ... OK
* checking files in ‘vignettes’ ... OK
* checking examples ... OK
Examples with CPU (user + system) or elapsed time > 5s
                            user system elapsed
plotTranscripts            8.100  0.088   8.239
plotUniprotKBFeatures      6.816  0.180   7.942
mapProteinFeaturesToEvents 5.177  0.163   6.528
* checking for unstated dependencies in vignettes ... OK
* checking package vignettes ... OK
* checking running R code from vignettes ... SKIPPED
* checking re-building of vignette outputs ... SKIPPED
* checking PDF version of manual ... OK
* DONE

Status: 1 NOTE
See
  ‘/Users/biocbuild/bbs-3.22-bioc/meat/maser.Rcheck/00check.log’
for details.


Installation output

maser.Rcheck/00install.out

##############################################################################
##############################################################################
###
### Running command:
###
###   /Library/Frameworks/R.framework/Resources/bin/R CMD INSTALL maser
###
##############################################################################
##############################################################################


* installing to library ‘/Library/Frameworks/R.framework/Versions/4.5-x86_64/Resources/library’
* installing *source* package ‘maser’ ...
** this is package ‘maser’ version ‘1.27.1’
** using staged installation
** R
** inst
** byte-compile and prepare package for lazy loading
** help
*** installing help indices
** building package indices
** installing vignettes
** testing if installed package can be loaded from temporary location
** testing if installed package can be loaded from final location
** testing if installed package keeps a record of temporary installation path
* DONE (maser)

Tests output


Example timings

maser.Rcheck/maser-Ex.timings

nameusersystemelapsed
PSI-Maser-character-method0.7940.0280.828
PSI0.6270.0460.676
annotation-Maser-method0.6330.0080.645
availableFeaturesUniprotKB0.0360.0040.220
boxplot_PSI_levels3.2220.0423.292
counts-Maser-method0.6260.0140.642
display1.7730.1451.965
dotplot1.6110.0601.694
filterByCoverage1.0150.0121.035
filterByEventId0.9930.0141.012
geneEvents0.9670.0100.981
granges-Maser-method0.7300.0100.747
mapProteinFeaturesToEvents5.1770.1636.528
mapTranscriptsToEvents1.7450.0291.789
maser0.7250.0170.748
pca1.3690.0151.394
plotGenePSI2.0820.0202.120
plotTranscripts8.1000.0888.239
plotUniprotKBFeatures6.8160.1807.942
splicingDistribution1.3460.0131.373
summary-Maser-method0.8390.0090.857
topEvents1.0290.0091.045
volcano1.4580.0201.489