| Back to Multiple platform build/check report for BioC 3.22: simplified long |
|
This page was generated on 2025-09-11 12:07 -0400 (Thu, 11 Sep 2025).
| Hostname | OS | Arch (*) | R version | Installed pkgs |
|---|---|---|---|---|
| nebbiolo2 | Linux (Ubuntu 24.04.3 LTS) | x86_64 | 4.5.1 Patched (2025-08-23 r88802) -- "Great Square Root" | 4539 |
| lconway | macOS 12.7.1 Monterey | x86_64 | 4.5.1 Patched (2025-09-10 r88807) -- "Great Square Root" | 4474 |
| kjohnson3 | macOS 13.7.7 Ventura | arm64 | 4.5.1 Patched (2025-09-10 r88807) -- "Great Square Root" | 4519 |
| taishan | Linux (openEuler 24.03 LTS) | aarch64 | 4.5.0 (2025-04-11) -- "How About a Twenty-Six" | 4544 |
| Click on any hostname to see more info about the system (e.g. compilers) (*) as reported by 'uname -p', except on Windows and Mac OS X | ||||
| Package 1059/2322 | Hostname | OS / Arch | INSTALL | BUILD | CHECK | BUILD BIN | ||||||||
| iPath 1.15.0 (landing page) Kenong Su
| nebbiolo2 | Linux (Ubuntu 24.04.3 LTS) / x86_64 | OK | OK | OK | |||||||||
| lconway | macOS 12.7.1 Monterey / x86_64 | OK | OK | OK | OK | |||||||||
| kjohnson3 | macOS 13.7.7 Ventura / arm64 | OK | OK | OK | OK | |||||||||
| taishan | Linux (openEuler 24.03 LTS) / aarch64 | OK | OK | OK | ||||||||||
|
To the developers/maintainers of the iPath package: - Allow up to 24 hours (and sometimes 48 hours) for your latest push to git@git.bioconductor.org:packages/iPath.git to reflect on this report. See Troubleshooting Build Report for more information. - Use the following Renviron settings to reproduce errors and warnings. - If 'R CMD check' started to fail recently on the Linux builder(s) over a missing dependency, add the missing dependency to 'Suggests:' in your DESCRIPTION file. See Renviron.bioc for more information. - See Martin Grigorov's blog post for how to debug Linux ARM64 related issues on a x86_64 host. |
| Package: iPath |
| Version: 1.15.0 |
| Command: /home/biocbuild/R/R/bin/R CMD check --install=check:iPath.install-out.txt --library=/home/biocbuild/R/R/site-library --no-vignettes --timings iPath_1.15.0.tar.gz |
| StartedAt: 2025-09-09 07:58:56 -0000 (Tue, 09 Sep 2025) |
| EndedAt: 2025-09-09 08:00:50 -0000 (Tue, 09 Sep 2025) |
| EllapsedTime: 114.1 seconds |
| RetCode: 0 |
| Status: OK |
| CheckDir: iPath.Rcheck |
| Warnings: 0 |
##############################################################################
##############################################################################
###
### Running command:
###
### /home/biocbuild/R/R/bin/R CMD check --install=check:iPath.install-out.txt --library=/home/biocbuild/R/R/site-library --no-vignettes --timings iPath_1.15.0.tar.gz
###
##############################################################################
##############################################################################
* using log directory ‘/home/biocbuild/bbs-3.22-bioc/meat/iPath.Rcheck’
* using R version 4.5.0 (2025-04-11)
* using platform: aarch64-unknown-linux-gnu
* R was compiled by
aarch64-unknown-linux-gnu-gcc (GCC) 14.2.0
GNU Fortran (GCC) 14.2.0
* running under: openEuler 24.03 (LTS)
* using session charset: UTF-8
* using option ‘--no-vignettes’
* checking for file ‘iPath/DESCRIPTION’ ... OK
* checking extension type ... Package
* this is package ‘iPath’ version ‘1.15.0’
* package encoding: UTF-8
* checking package namespace information ... OK
* checking package dependencies ... OK
* checking if this is a source package ... OK
* checking if there is a namespace ... OK
* checking for hidden files and directories ... OK
* checking for portable file names ... OK
* checking for sufficient/correct file permissions ... OK
* checking whether package ‘iPath’ can be installed ... OK
* used C++ compiler: ‘aarch64-unknown-linux-gnu-g++ (GCC) 14.2.0’
* checking C++ specification ... NOTE
Specified C++11: please drop specification unless essential
* checking installed package size ... OK
* checking package directory ... OK
* checking ‘build’ directory ... OK
* checking DESCRIPTION meta-information ... OK
* checking top-level files ... OK
* checking for left-over files ... OK
* checking index information ... OK
* checking package subdirectories ... OK
* checking code files for non-ASCII characters ... OK
* checking R files for syntax errors ... OK
* checking whether the package can be loaded ... OK
* checking whether the package can be loaded with stated dependencies ... OK
* checking whether the package can be unloaded cleanly ... OK
* checking whether the namespace can be loaded with stated dependencies ... OK
* checking whether the namespace can be unloaded cleanly ... OK
* checking loading without being on the library search path ... OK
* checking dependencies in R code ... OK
* checking S3 generic/method consistency ... OK
* checking replacement functions ... OK
* checking foreign function calls ... OK
* checking R code for possible problems ... NOTE
water_fall: no visible binding for global variable ‘value’
water_fall: no visible binding for global variable ‘type’
Undefined global functions or variables:
type value
* checking Rd files ... OK
* checking Rd metadata ... OK
* checking Rd cross-references ... OK
* checking for missing documentation entries ... OK
* checking for code/documentation mismatches ... OK
* checking Rd \usage sections ... OK
* checking Rd contents ... OK
* checking for unstated dependencies in examples ... OK
* checking contents of ‘data’ directory ... OK
* checking data for non-ASCII characters ... OK
* checking data for ASCII and uncompressed saves ... OK
* checking line endings in C/C++/Fortran sources/headers ... OK
* checking line endings in Makefiles ... OK
* checking compilation flags in Makevars ... OK
* checking for GNU extensions in Makefiles ... OK
* checking for portable use of $(BLAS_LIBS) and $(LAPACK_LIBS) ... OK
* checking use of PKG_*FLAGS in Makefiles ... OK
* checking compiled code ... NOTE
Note: information on .o files is not available
* checking files in ‘vignettes’ ... OK
* checking examples ... OK
Examples with CPU (user + system) or elapsed time > 5s
user system elapsed
iES_surv 28.074 0.487 6.874
density_fall 24.228 0.486 8.561
iES_survPlot 23.797 0.500 8.092
water_fall 22.931 0.402 7.074
iES_cal2 17.083 0.452 6.838
* checking for unstated dependencies in vignettes ... OK
* checking package vignettes ... OK
* checking running R code from vignettes ... SKIPPED
* checking re-building of vignette outputs ... SKIPPED
* checking PDF version of manual ... OK
* DONE
Status: 3 NOTEs
See
‘/home/biocbuild/bbs-3.22-bioc/meat/iPath.Rcheck/00check.log’
for details.
iPath.Rcheck/00install.out
##############################################################################
##############################################################################
###
### Running command:
###
### /home/biocbuild/R/R/bin/R CMD INSTALL iPath
###
##############################################################################
##############################################################################
* installing to library ‘/home/biocbuild/R/R-4.5.0/site-library’
* installing *source* package ‘iPath’ ...
** this is package ‘iPath’ version ‘1.15.0’
** using staged installation
** libs
using C++ compiler: ‘aarch64-unknown-linux-gnu-g++ (GCC) 14.2.0’
using C++11
/opt/ohpc/pub/compiler/gcc/14.2.0/bin/aarch64-unknown-linux-gnu-g++ -std=gnu++11 -I"/home/biocbuild/R/R-4.5.0/include" -DNDEBUG -I'/home/biocbuild/R/R-4.5.0/site-library/Rcpp/include' -I'/home/biocbuild/R/R-4.5.0/site-library/RcppArmadillo/include' -I/usr/local/include -fPIC -g -O2 -Wall -Werror=format-security -c CppFunctions.cpp -o CppFunctions.o
In file included from /home/biocbuild/R/R-4.5.0/site-library/RcppArmadillo/include/RcppArmadillo.h:29,
from CppFunctions.cpp:3:
/home/biocbuild/R/R-4.5.0/site-library/RcppArmadillo/include/RcppArmadillo/version/arma.h:66:199: note: ‘#pragma message: Using fallback compilation with Armadillo 14.6.3. Please consider defining -DARMA_USE_CURRENT and also removing C++11 compilation directive. See GitHub issue #475 for more.’
66 | #pragma message("Using fallback compilation with Armadillo 14.6.3. Please consider defining -DARMA_USE_CURRENT and also removing C++11 compilation directive. See GitHub issue #475 for more.")
| ^
/opt/ohpc/pub/compiler/gcc/14.2.0/bin/aarch64-unknown-linux-gnu-g++ -std=gnu++11 -I"/home/biocbuild/R/R-4.5.0/include" -DNDEBUG -I'/home/biocbuild/R/R-4.5.0/site-library/Rcpp/include' -I'/home/biocbuild/R/R-4.5.0/site-library/RcppArmadillo/include' -I/usr/local/include -fPIC -g -O2 -Wall -Werror=format-security -c RcppExports.cpp -o RcppExports.o
In file included from /home/biocbuild/R/R-4.5.0/site-library/RcppArmadillo/include/RcppArmadillo.h:29,
from RcppExports.cpp:4:
/home/biocbuild/R/R-4.5.0/site-library/RcppArmadillo/include/RcppArmadillo/version/arma.h:66:199: note: ‘#pragma message: Using fallback compilation with Armadillo 14.6.3. Please consider defining -DARMA_USE_CURRENT and also removing C++11 compilation directive. See GitHub issue #475 for more.’
66 | #pragma message("Using fallback compilation with Armadillo 14.6.3. Please consider defining -DARMA_USE_CURRENT and also removing C++11 compilation directive. See GitHub issue #475 for more.")
| ^
/opt/ohpc/pub/compiler/gcc/14.2.0/bin/aarch64-unknown-linux-gnu-g++ -std=gnu++11 -shared -L/home/biocbuild/R/R-4.5.0/lib -L/usr/local/lib -o iPath.so CppFunctions.o RcppExports.o -lopenblas -lgfortran -lm -L/home/biocbuild/R/R-4.5.0/lib -lR
installing to /home/biocbuild/R/R-4.5.0/site-library/00LOCK-iPath/00new/iPath/libs
** R
** data
** inst
** byte-compile and prepare package for lazy loading
** help
*** installing help indices
** building package indices
** installing vignettes
** testing if installed package can be loaded from temporary location
** checking absolute paths in shared objects and dynamic libraries
** testing if installed package can be loaded from final location
** testing if installed package keeps a record of temporary installation path
* DONE (iPath)
iPath.Rcheck/iPath-Ex.timings
| name | user | system | elapsed | |
| GSDB_example | 0.000 | 0.003 | 0.003 | |
| density_fall | 24.228 | 0.486 | 8.561 | |
| iES_cal2 | 17.083 | 0.452 | 6.838 | |
| iES_surv | 28.074 | 0.487 | 6.874 | |
| iES_survPlot | 23.797 | 0.500 | 8.092 | |
| prad_cli | 0.190 | 0.000 | 0.191 | |
| prad_exprs | 0.185 | 0.004 | 0.190 | |
| prad_inds | 0.185 | 0.008 | 0.194 | |
| water_fall | 22.931 | 0.402 | 7.074 | |