| Back to Multiple platform build/check report for BioC 3.22: simplified long |
|
This page was generated on 2025-06-22 12:09 -0400 (Sun, 22 Jun 2025).
| Hostname | OS | Arch (*) | R version | Installed pkgs |
|---|---|---|---|---|
| nebbiolo2 | Linux (Ubuntu 24.04.2 LTS) | x86_64 | 4.5.1 (2025-06-13) -- "Great Square Root" | 4565 |
| palomino8 | Windows Server 2022 Datacenter | x64 | 4.5.1 (2025-06-13 ucrt) -- "Great Square Root" | 4505 |
| lconway | macOS 12.7.1 Monterey | x86_64 | 4.5.1 (2025-06-13) -- "Great Square Root" | 4544 |
| kjohnson3 | macOS 13.7.1 Ventura | arm64 | 4.5.1 Patched (2025-06-14 r88325) -- "Great Square Root" | 4492 |
| taishan | Linux (openEuler 24.03 LTS) | aarch64 | 4.5.0 (2025-04-11) -- "How About a Twenty-Six" | 4496 |
| Click on any hostname to see more info about the system (e.g. compilers) (*) as reported by 'uname -p', except on Windows and Mac OS X | ||||
| Package 954/2310 | Hostname | OS / Arch | INSTALL | BUILD | CHECK | BUILD BIN | ||||||||
| hiAnnotator 1.43.0 (landing page) Nirav V Malani
| nebbiolo2 | Linux (Ubuntu 24.04.2 LTS) / x86_64 | OK | OK | OK | |||||||||
| palomino8 | Windows Server 2022 Datacenter / x64 | OK | OK | OK | OK | |||||||||
| lconway | macOS 12.7.1 Monterey / x86_64 | OK | OK | OK | OK | |||||||||
| kjohnson3 | macOS 13.7.1 Ventura / arm64 | OK | OK | OK | OK | |||||||||
| taishan | Linux (openEuler 24.03 LTS) / aarch64 | OK | OK | OK | ||||||||||
|
To the developers/maintainers of the hiAnnotator package: - Allow up to 24 hours (and sometimes 48 hours) for your latest push to git@git.bioconductor.org:packages/hiAnnotator.git to reflect on this report. See Troubleshooting Build Report for more information. - Use the following Renviron settings to reproduce errors and warnings. - If 'R CMD check' started to fail recently on the Linux builder(s) over a missing dependency, add the missing dependency to 'Suggests:' in your DESCRIPTION file. See Renviron.bioc for more information. |
| Package: hiAnnotator |
| Version: 1.43.0 |
| Command: /Library/Frameworks/R.framework/Resources/bin/R CMD check --install=check:hiAnnotator.install-out.txt --library=/Library/Frameworks/R.framework/Resources/library --no-vignettes --timings hiAnnotator_1.43.0.tar.gz |
| StartedAt: 2025-06-20 21:13:25 -0400 (Fri, 20 Jun 2025) |
| EndedAt: 2025-06-20 21:17:43 -0400 (Fri, 20 Jun 2025) |
| EllapsedTime: 257.6 seconds |
| RetCode: 0 |
| Status: OK |
| CheckDir: hiAnnotator.Rcheck |
| Warnings: 0 |
##############################################################################
##############################################################################
###
### Running command:
###
### /Library/Frameworks/R.framework/Resources/bin/R CMD check --install=check:hiAnnotator.install-out.txt --library=/Library/Frameworks/R.framework/Resources/library --no-vignettes --timings hiAnnotator_1.43.0.tar.gz
###
##############################################################################
##############################################################################
* using log directory ‘/Users/biocbuild/bbs-3.22-bioc/meat/hiAnnotator.Rcheck’
* using R version 4.5.1 (2025-06-13)
* using platform: x86_64-apple-darwin20
* R was compiled by
Apple clang version 14.0.0 (clang-1400.0.29.202)
GNU Fortran (GCC) 14.2.0
* running under: macOS Monterey 12.7.6
* using session charset: UTF-8
* using option ‘--no-vignettes’
* checking for file ‘hiAnnotator/DESCRIPTION’ ... OK
* this is package ‘hiAnnotator’ version ‘1.43.0’
* checking package namespace information ... OK
* checking package dependencies ... OK
* checking if this is a source package ... OK
* checking if there is a namespace ... OK
* checking for hidden files and directories ... OK
* checking for portable file names ... OK
* checking for sufficient/correct file permissions ... OK
* checking whether package ‘hiAnnotator’ can be installed ... OK
* checking installed package size ... OK
* checking package directory ... OK
* checking ‘build’ directory ... OK
* checking DESCRIPTION meta-information ... OK
* checking top-level files ... OK
* checking for left-over files ... OK
* checking index information ... OK
* checking package subdirectories ... OK
* checking code files for non-ASCII characters ... OK
* checking R files for syntax errors ... OK
* checking whether the package can be loaded ... OK
* checking whether the package can be loaded with stated dependencies ... OK
* checking whether the package can be unloaded cleanly ... OK
* checking whether the namespace can be loaded with stated dependencies ... OK
* checking whether the namespace can be unloaded cleanly ... OK
* checking dependencies in R code ... OK
* checking S3 generic/method consistency ... OK
* checking replacement functions ... OK
* checking foreign function calls ... OK
* checking R code for possible problems ... NOTE
get2NearestFeature: no visible global function definition for ‘IRanges’
get2NearestFeature: no visible global function definition for ‘mid’
get2NearestFeature: no visible binding for global variable ‘qStrand’
get2NearestFeature: no visible binding for global variable
‘subjectHits’
get2NearestFeature : <anonymous>: no visible binding for global
variable ‘queryHits’
get2NearestFeature : <anonymous>: no visible binding for global
variable ‘featureName’
getFeatureCounts : <anonymous>: no visible global function definition
for ‘countQueryHits’
getFeatureCountsBig: no visible global function definition for ‘mid’
getLowestDists: no visible binding for global variable ‘queryHits’
getNearestFeature: no visible global function definition for ‘IRanges’
getNearestFeature: no visible global function definition for ‘mid’
getNearestFeature: no visible binding for global variable ‘queryHits’
getNearestFeature: no visible binding for global variable ‘n’
getNearestFeature: no visible binding for global variable ‘featureName’
getSitesInFeature: no visible global function definition for
‘overlapsAny’
getSitesInFeature: no visible binding for global variable ‘queryHits’
getSitesInFeature: no visible global function definition for ‘n’
getSitesInFeature: no visible binding for global variable ‘featureName’
makeChunks: no visible global function definition for ‘breakInChunks’
makeChunks: no visible global function definition for ‘detectCores’
makeChunks : <anonymous>: no visible global function definition for
‘keepSeqlevels’
makeChunks : <anonymous>: no visible global function definition for
‘seqlevelsInUse’
makeGRanges: no visible global function definition for ‘IRanges’
makeGRanges: no visible global function definition for ‘seqlengths’
makeGRanges: no visible global function definition for ‘seqlevels<-’
makeGRanges: no visible global function definition for ‘sortSeqlevels’
makeGRanges: no visible global function definition for ‘seqlevelsInUse’
makeGRanges: no visible global function definition for ‘seqlengths<-’
makeGRanges: no visible global function definition for ‘seqlevels’
Undefined global functions or variables:
IRanges breakInChunks countQueryHits detectCores featureName
keepSeqlevels mid n overlapsAny qStrand queryHits seqlengths
seqlengths<- seqlevels seqlevels<- seqlevelsInUse sortSeqlevels
subjectHits
* checking Rd files ... OK
* checking Rd metadata ... OK
* checking Rd cross-references ... NOTE
Found the following Rd file(s) with Rd \link{} targets missing package
anchors:
getUCSCtable.Rd: browserSession, ucscTableQuery
Please provide package anchors for all Rd \link{} targets not in the
package itself and the base packages.
* checking for missing documentation entries ... OK
* checking for code/documentation mismatches ... OK
* checking Rd \usage sections ... OK
* checking Rd contents ... OK
* checking for unstated dependencies in examples ... OK
* checking contents of ‘data’ directory ... OK
* checking data for non-ASCII characters ... OK
* checking data for ASCII and uncompressed saves ... OK
* checking files in ‘vignettes’ ... OK
* checking examples ... OK
* checking for unstated dependencies in vignettes ... OK
* checking package vignettes ... OK
* checking running R code from vignettes ... SKIPPED
* checking re-building of vignette outputs ... SKIPPED
* checking PDF version of manual ... OK
* DONE
Status: 2 NOTEs
See
‘/Users/biocbuild/bbs-3.22-bioc/meat/hiAnnotator.Rcheck/00check.log’
for details.
hiAnnotator.Rcheck/00install.out
############################################################################## ############################################################################## ### ### Running command: ### ### /Library/Frameworks/R.framework/Resources/bin/R CMD INSTALL hiAnnotator ### ############################################################################## ############################################################################## * installing to library ‘/Library/Frameworks/R.framework/Versions/4.5-x86_64/Resources/library’ * installing *source* package ‘hiAnnotator’ ... ** this is package ‘hiAnnotator’ version ‘1.43.0’ ** using staged installation ** R ** data ** byte-compile and prepare package for lazy loading ** help *** installing help indices ** building package indices ** installing vignettes ** testing if installed package can be loaded from temporary location ** testing if installed package can be loaded from final location ** testing if installed package keeps a record of temporary installation path * DONE (hiAnnotator)
hiAnnotator.Rcheck/hiAnnotator-Ex.timings
| name | user | system | elapsed | |
| cleanColname | 0.001 | 0.001 | 0.002 | |
| doAnnotation | 0.779 | 0.030 | 0.812 | |
| get2NearestFeature | 1.109 | 0.020 | 1.131 | |
| getFeatureCounts | 0.500 | 0.010 | 0.511 | |
| getFeatureCountsBig | 0.501 | 0.008 | 0.511 | |
| getLowestDists | 0.085 | 0.001 | 0.086 | |
| getNearestFeature | 1.954 | 0.031 | 1.994 | |
| getRelevantCol | 0.006 | 0.002 | 0.008 | |
| getSitesInFeature | 0.565 | 0.021 | 0.588 | |
| getUCSCtable | 0 | 0 | 0 | |
| getWindowLabel | 0 | 0 | 0 | |
| makeChunks | 0.342 | 0.007 | 0.351 | |
| makeGRanges | 0.290 | 0.007 | 0.298 | |
| makeUCSCsession | 0 | 0 | 0 | |
| plotdisFeature | 1.286 | 0.043 | 1.334 | |