| Back to Multiple platform build/check report for BioC 3.22: simplified long |
|
This page was generated on 2025-10-24 12:05 -0400 (Fri, 24 Oct 2025).
| Hostname | OS | Arch (*) | R version | Installed pkgs |
|---|---|---|---|---|
| nebbiolo2 | Linux (Ubuntu 24.04.3 LTS) | x86_64 | 4.5.1 Patched (2025-08-23 r88802) -- "Great Square Root" | 4898 |
| lconway | macOS 12.7.6 Monterey | x86_64 | 4.5.1 Patched (2025-09-10 r88807) -- "Great Square Root" | 4688 |
| kjohnson3 | macOS 13.7.7 Ventura | arm64 | 4.5.1 Patched (2025-09-10 r88807) -- "Great Square Root" | 4634 |
| taishan | Linux (openEuler 24.03 LTS) | aarch64 | 4.5.0 (2025-04-11) -- "How About a Twenty-Six" | 4658 |
| Click on any hostname to see more info about the system (e.g. compilers) (*) as reported by 'uname -p', except on Windows and Mac OS X | ||||
| Package 881/2359 | Hostname | OS / Arch | INSTALL | BUILD | CHECK | BUILD BIN | ||||||||
| ggtree 3.99.2 (landing page) Guangchuang Yu
| nebbiolo2 | Linux (Ubuntu 24.04.3 LTS) / x86_64 | OK | OK | OK | |||||||||
| lconway | macOS 12.7.6 Monterey / x86_64 | OK | OK | OK | OK | |||||||||
| kjohnson3 | macOS 13.7.7 Ventura / arm64 | OK | OK | OK | OK | |||||||||
| taishan | Linux (openEuler 24.03 LTS) / aarch64 | OK | OK | NA | ||||||||||
|
To the developers/maintainers of the ggtree package: - Allow up to 24 hours (and sometimes 48 hours) for your latest push to git@git.bioconductor.org:packages/ggtree.git to reflect on this report. See Troubleshooting Build Report for more information. - Use the following Renviron settings to reproduce errors and warnings. - If 'R CMD check' started to fail recently on the Linux builder(s) over a missing dependency, add the missing dependency to 'Suggests:' in your DESCRIPTION file. See Renviron.bioc for more information. |
| Package: ggtree |
| Version: 3.99.2 |
| Command: /Library/Frameworks/R.framework/Resources/bin/R CMD check --install=check:ggtree.install-out.txt --library=/Library/Frameworks/R.framework/Resources/library --no-vignettes --timings ggtree_3.99.2.tar.gz |
| StartedAt: 2025-10-23 21:29:05 -0400 (Thu, 23 Oct 2025) |
| EndedAt: 2025-10-23 21:31:07 -0400 (Thu, 23 Oct 2025) |
| EllapsedTime: 121.8 seconds |
| RetCode: 0 |
| Status: OK |
| CheckDir: ggtree.Rcheck |
| Warnings: 0 |
##############################################################################
##############################################################################
###
### Running command:
###
### /Library/Frameworks/R.framework/Resources/bin/R CMD check --install=check:ggtree.install-out.txt --library=/Library/Frameworks/R.framework/Resources/library --no-vignettes --timings ggtree_3.99.2.tar.gz
###
##############################################################################
##############################################################################
* using log directory ‘/Users/biocbuild/bbs-3.22-bioc/meat/ggtree.Rcheck’
* using R version 4.5.1 Patched (2025-09-10 r88807)
* using platform: x86_64-apple-darwin20
* R was compiled by
Apple clang version 14.0.0 (clang-1400.0.29.202)
GNU Fortran (GCC) 14.2.0
* running under: macOS Monterey 12.7.6
* using session charset: UTF-8
* using option ‘--no-vignettes’
* checking for file ‘ggtree/DESCRIPTION’ ... OK
* checking extension type ... Package
* this is package ‘ggtree’ version ‘3.99.2’
* package encoding: UTF-8
* checking package namespace information ... OK
* checking package dependencies ... OK
* checking if this is a source package ... OK
* checking if there is a namespace ... OK
* checking for hidden files and directories ... OK
* checking for portable file names ... OK
* checking for sufficient/correct file permissions ... OK
* checking whether package ‘ggtree’ can be installed ... OK
* checking installed package size ... OK
* checking package directory ... OK
* checking ‘build’ directory ... OK
* checking DESCRIPTION meta-information ... OK
* checking top-level files ... OK
* checking for left-over files ... OK
* checking index information ... OK
* checking package subdirectories ... OK
* checking code files for non-ASCII characters ... OK
* checking R files for syntax errors ... OK
* checking whether the package can be loaded ... OK
* checking whether the package can be loaded with stated dependencies ... OK
* checking whether the package can be unloaded cleanly ... OK
* checking whether the namespace can be loaded with stated dependencies ... OK
* checking whether the namespace can be unloaded cleanly ... OK
* checking whether startup messages can be suppressed ... OK
* checking dependencies in R code ... OK
* checking S3 generic/method consistency ... OK
* checking replacement functions ... OK
* checking foreign function calls ... OK
* checking R code for possible problems ... OK
* checking Rd files ... OK
* checking Rd metadata ... OK
* checking Rd cross-references ... NOTE
Non-topic package-anchored link(s) in Rd file 'reexports.Rd':
‘[ggfun:attacher]{%<+%}’ ‘[ggplot2:scale_manual]{scale_color_manual}’
‘[ggplot2:scale_manual]{scale_colour_manual}’
‘[ggplot2:scale_manual]{scale_fill_manual}’
‘[ggplot2:scale_continuous]{scale_x_continuous}’
‘[magrittr:pipe]{%>%}’
See section 'Cross-references' in the 'Writing R Extensions' manual.
* checking for missing documentation entries ... OK
* checking for code/documentation mismatches ... OK
* checking Rd \usage sections ... OK
* checking Rd contents ... OK
* checking for unstated dependencies in examples ... OK
* checking files in ‘vignettes’ ... OK
* checking examples ... OK
Examples with CPU (user + system) or elapsed time > 5s
user system elapsed
geom-hilight 9.264 0.218 9.63
* checking for unstated dependencies in ‘tests’ ... OK
* checking tests ...
Running ‘testthat.R’
OK
* checking for unstated dependencies in vignettes ... OK
* checking package vignettes ... OK
* checking running R code from vignettes ... SKIPPED
* checking re-building of vignette outputs ... SKIPPED
* checking PDF version of manual ... OK
* DONE
Status: 1 NOTE
See
‘/Users/biocbuild/bbs-3.22-bioc/meat/ggtree.Rcheck/00check.log’
for details.
ggtree.Rcheck/00install.out
############################################################################## ############################################################################## ### ### Running command: ### ### /Library/Frameworks/R.framework/Resources/bin/R CMD INSTALL ggtree ### ############################################################################## ############################################################################## * installing to library ‘/Library/Frameworks/R.framework/Versions/4.5-x86_64/Resources/library’ * installing *source* package ‘ggtree’ ... ** this is package ‘ggtree’ version ‘3.99.2’ ** using staged installation ** R ** inst ** byte-compile and prepare package for lazy loading ** help *** installing help indices ** building package indices ** installing vignettes ** testing if installed package can be loaded from temporary location ** testing if installed package can be loaded from final location ** testing if installed package keeps a record of temporary installation path * DONE (ggtree)
ggtree.Rcheck/tests/testthat.Rout
R version 4.5.1 Patched (2025-09-10 r88807) -- "Great Square Root"
Copyright (C) 2025 The R Foundation for Statistical Computing
Platform: x86_64-apple-darwin20
R is free software and comes with ABSOLUTELY NO WARRANTY.
You are welcome to redistribute it under certain conditions.
Type 'license()' or 'licence()' for distribution details.
R is a collaborative project with many contributors.
Type 'contributors()' for more information and
'citation()' on how to cite R or R packages in publications.
Type 'demo()' for some demos, 'help()' for on-line help, or
'help.start()' for an HTML browser interface to help.
Type 'q()' to quit R.
> library(testthat)
> library(ggtree)
ggtree v3.99.2 Learn more at https://yulab-smu.top/contribution-tree-data/
Please cite:
Shuangbin Xu, Lin Li, Xiao Luo, Meijun Chen, Wenli Tang, Li Zhan, Zehan
Dai, Tommy T. Lam, Yi Guan, Guangchuang Yu. Ggtree: A serialized data
object for visualization of a phylogenetic tree and annotation data.
iMeta 2022, 1(4):e56. doi:10.1002/imt2.56
>
> test_check("ggtree")
[ FAIL 0 | WARN 2 | SKIP 0 | PASS 14 ]
[ FAIL 0 | WARN 2 | SKIP 0 | PASS 14 ]
>
> proc.time()
user system elapsed
3.800 0.301 4.148
ggtree.Rcheck/ggtree-Ex.timings
| name | user | system | elapsed | |
| collapse | 0.708 | 0.036 | 0.749 | |
| expand | 0.334 | 0.004 | 0.340 | |
| facet-plot | 0.382 | 0.005 | 0.389 | |
| flip | 0.358 | 0.004 | 0.363 | |
| geom-hilight | 9.264 | 0.218 | 9.630 | |
| geom_balance | 0.402 | 0.004 | 0.411 | |
| geom_cladelab | 0.764 | 0.009 | 0.780 | |
| geom_label2 | 0.447 | 0.005 | 0.456 | |
| geom_point2 | 1.864 | 0.023 | 1.901 | |
| geom_rootedge | 1.422 | 0.011 | 1.442 | |
| geom_rootpoint | 0.660 | 0.005 | 0.670 | |
| geom_strip | 0.479 | 0.006 | 0.489 | |
| geom_striplab | 0.415 | 0.003 | 0.420 | |
| geom_tiplab | 0.365 | 0.003 | 0.371 | |
| geom_tiplab2 | 0.433 | 0.003 | 0.439 | |
| geom_tippoint | 0.328 | 0.004 | 0.335 | |
| geom_tree | 0.205 | 0.002 | 0.210 | |
| get_taxa_name | 0.163 | 0.001 | 0.166 | |
| ggdensitree | 4.277 | 0.041 | 4.363 | |
| ggexpand | 0.466 | 0.005 | 0.476 | |
| ggtree-format-painter | 0.386 | 0.004 | 0.394 | |
| ggtree | 0.338 | 0.004 | 0.347 | |
| label_pad | 0.001 | 0.000 | 0.001 | |
| open_tree | 0.524 | 0.005 | 0.535 | |
| reexports | 0.537 | 0.007 | 0.553 | |
| revts | 0.430 | 0.005 | 0.441 | |
| rotate | 0.408 | 0.003 | 0.415 | |
| rotate_tree | 0.551 | 0.007 | 0.564 | |
| scaleClade | 0.447 | 0.005 | 0.458 | |
| theme_tree | 0.452 | 0.005 | 0.464 | |
| theme_tree2 | 0.536 | 0.007 | 0.550 | |
| tree-layout | 2.407 | 0.031 | 2.459 | |
| viewClade | 0.376 | 0.004 | 0.382 | |
| xlim_expand | 0.432 | 0.004 | 0.439 | |
| xlim_tree | 0.465 | 0.005 | 0.474 | |
| zoomClade | 0.000 | 0.000 | 0.001 | |