| Back to Multiple platform build/check report for BioC 3.22: simplified long |
|
This page was generated on 2025-10-24 12:05 -0400 (Fri, 24 Oct 2025).
| Hostname | OS | Arch (*) | R version | Installed pkgs |
|---|---|---|---|---|
| nebbiolo2 | Linux (Ubuntu 24.04.3 LTS) | x86_64 | 4.5.1 Patched (2025-08-23 r88802) -- "Great Square Root" | 4898 |
| lconway | macOS 12.7.6 Monterey | x86_64 | 4.5.1 Patched (2025-09-10 r88807) -- "Great Square Root" | 4688 |
| kjohnson3 | macOS 13.7.7 Ventura | arm64 | 4.5.1 Patched (2025-09-10 r88807) -- "Great Square Root" | 4634 |
| taishan | Linux (openEuler 24.03 LTS) | aarch64 | 4.5.0 (2025-04-11) -- "How About a Twenty-Six" | 4658 |
| Click on any hostname to see more info about the system (e.g. compilers) (*) as reported by 'uname -p', except on Windows and Mac OS X | ||||
| Package 813/2359 | Hostname | OS / Arch | INSTALL | BUILD | CHECK | BUILD BIN | ||||||||
| geneAttribution 1.35.1 (landing page) Arthur Wuster
| nebbiolo2 | Linux (Ubuntu 24.04.3 LTS) / x86_64 | OK | OK | OK | |||||||||
| lconway | macOS 12.7.6 Monterey / x86_64 | OK | OK | OK | OK | |||||||||
| kjohnson3 | macOS 13.7.7 Ventura / arm64 | OK | OK | OK | OK | |||||||||
| taishan | Linux (openEuler 24.03 LTS) / aarch64 | OK | OK | NA | ||||||||||
|
To the developers/maintainers of the geneAttribution package: - Allow up to 24 hours (and sometimes 48 hours) for your latest push to git@git.bioconductor.org:packages/geneAttribution.git to reflect on this report. See Troubleshooting Build Report for more information. - Use the following Renviron settings to reproduce errors and warnings. - If 'R CMD check' started to fail recently on the Linux builder(s) over a missing dependency, add the missing dependency to 'Suggests:' in your DESCRIPTION file. See Renviron.bioc for more information. |
| Package: geneAttribution |
| Version: 1.35.1 |
| Command: rm -rf geneAttribution.buildbin-libdir && mkdir geneAttribution.buildbin-libdir && /Users/biocbuild/BBS/utils/build-universal.sh geneAttribution_1.35.1.tar.gz /Library/Frameworks/R.framework/Resources/bin/R geneAttribution.buildbin-libdir |
| StartedAt: 2025-10-24 01:35:39 -0400 (Fri, 24 Oct 2025) |
| EndedAt: 2025-10-24 01:36:27 -0400 (Fri, 24 Oct 2025) |
| EllapsedTime: 48.5 seconds |
| RetCode: 0 |
| Status: OK |
| PackageFile: geneAttribution_1.35.1.tgz |
| PackageFileSize: 63.85 KiB |
############################################################################## ############################################################################## ### ### Running command: ### ### rm -rf geneAttribution.buildbin-libdir && mkdir geneAttribution.buildbin-libdir && /Users/biocbuild/BBS/utils/build-universal.sh geneAttribution_1.35.1.tar.gz /Library/Frameworks/R.framework/Resources/bin/R geneAttribution.buildbin-libdir ### ############################################################################## ############################################################################## >>>>>>> >>>>>>> INSTALLATION WITH 'R CMD INSTALL --preclean --no-multiarch --library=geneAttribution.buildbin-libdir geneAttribution_1.35.1.tar.gz' >>>>>>> * installing *source* package ‘geneAttribution’ ... ** this is package ‘geneAttribution’ version ‘1.35.1’ ** using staged installation ** R ** inst ** byte-compile and prepare package for lazy loading ** help *** installing help indices ** building package indices ** installing vignettes ** testing if installed package can be loaded from temporary location ** testing if installed package can be loaded from final location ** testing if installed package keeps a record of temporary installation path * DONE (geneAttribution)