Back to Multiple platform build/check report for BioC 3.22:   simplified   long
ABCDEF[G]HIJKLMNOPQRSTUVWXYZ

This page was generated on 2025-11-20 12:04 -0500 (Thu, 20 Nov 2025).

HostnameOSArch (*)R versionInstalled pkgs
nebbiolo2Linux (Ubuntu 24.04.3 LTS)x86_644.5.2 (2025-10-31) -- "[Not] Part in a Rumble" 4615
merida1macOS 12.7.6 Montereyx86_644.5.2 Patched (2025-11-05 r88990) -- "[Not] Part in a Rumble" 4610
kjohnson1macOS 13.7.5 Venturaarm644.5.2 Patched (2025-11-04 r88984) -- "[Not] Part in a Rumble" 4598
taishanLinux (openEuler 24.03 LTS)aarch644.5.0 (2025-04-11) -- "How About a Twenty-Six" 4668
Click on any hostname to see more info about the system (e.g. compilers)      (*) as reported by 'uname -p', except on Windows and Mac OS X

Package 806/2361HostnameOS / ArchINSTALLBUILDCHECKBUILD BIN
gDRutils 1.8.0  (landing page)
Arkadiusz Gladki
Snapshot Date: 2025-11-17 13:45 -0500 (Mon, 17 Nov 2025)
git_url: https://git.bioconductor.org/packages/gDRutils
git_branch: RELEASE_3_22
git_last_commit: b7dd34b
git_last_commit_date: 2025-10-29 11:23:43 -0500 (Wed, 29 Oct 2025)
nebbiolo2Linux (Ubuntu 24.04.3 LTS) / x86_64  OK    OK    OK  UNNEEDED, same version is already published
merida1macOS 12.7.6 Monterey / x86_64  OK    OK    OK    OK  UNNEEDED, same version is already published
kjohnson1macOS 13.7.5 Ventura / arm64  OK    OK    OK    OK  UNNEEDED, same version is already published
taishanLinux (openEuler 24.03 LTS) / aarch64  OK    OK    OK  


CHECK results for gDRutils on merida1

To the developers/maintainers of the gDRutils package:
- Allow up to 24 hours (and sometimes 48 hours) for your latest push to git@git.bioconductor.org:packages/gDRutils.git to reflect on this report. See Troubleshooting Build Report for more information.
- Use the following Renviron settings to reproduce errors and warnings.
- If 'R CMD check' started to fail recently on the Linux builder(s) over a missing dependency, add the missing dependency to 'Suggests:' in your DESCRIPTION file. See Renviron.bioc for more information.

raw results


Summary

Package: gDRutils
Version: 1.8.0
Command: /Library/Frameworks/R.framework/Resources/bin/R CMD check --install=check:gDRutils.install-out.txt --library=/Library/Frameworks/R.framework/Resources/library --no-vignettes --timings gDRutils_1.8.0.tar.gz
StartedAt: 2025-11-18 07:51:18 -0500 (Tue, 18 Nov 2025)
EndedAt: 2025-11-18 08:01:06 -0500 (Tue, 18 Nov 2025)
EllapsedTime: 588.2 seconds
RetCode: 0
Status:   OK  
CheckDir: gDRutils.Rcheck
Warnings: 0

Command output

##############################################################################
##############################################################################
###
### Running command:
###
###   /Library/Frameworks/R.framework/Resources/bin/R CMD check --install=check:gDRutils.install-out.txt --library=/Library/Frameworks/R.framework/Resources/library --no-vignettes --timings gDRutils_1.8.0.tar.gz
###
##############################################################################
##############################################################################


* using log directory ‘/Users/biocbuild/bbs-3.22-bioc/meat/gDRutils.Rcheck’
* using R version 4.5.2 Patched (2025-11-05 r88990)
* using platform: x86_64-apple-darwin20
* R was compiled by
    Apple clang version 14.0.0 (clang-1400.0.29.202)
    GNU Fortran (GCC) 14.2.0
* running under: macOS Monterey 12.7.6
* using session charset: UTF-8
* using option ‘--no-vignettes’
* checking for file ‘gDRutils/DESCRIPTION’ ... OK
* checking extension type ... Package
* this is package ‘gDRutils’ version ‘1.8.0’
* package encoding: UTF-8
* checking package namespace information ... OK
* checking package dependencies ... OK
* checking if this is a source package ... OK
* checking if there is a namespace ... OK
* checking for hidden files and directories ... OK
* checking for portable file names ... OK
* checking for sufficient/correct file permissions ... OK
* checking whether package ‘gDRutils’ can be installed ... OK
* checking installed package size ... OK
* checking package directory ... OK
* checking ‘build’ directory ... OK
* checking DESCRIPTION meta-information ... OK
* checking top-level files ... OK
* checking for left-over files ... OK
* checking index information ... OK
* checking package subdirectories ... OK
* checking code files for non-ASCII characters ... OK
* checking R files for syntax errors ... OK
* checking whether the package can be loaded ... OK
* checking whether the package can be loaded with stated dependencies ... OK
* checking whether the package can be unloaded cleanly ... OK
* checking whether the namespace can be loaded with stated dependencies ... OK
* checking whether the namespace can be unloaded cleanly ... OK
* checking dependencies in R code ... OK
* checking S3 generic/method consistency ... OK
* checking replacement functions ... OK
* checking foreign function calls ... OK
* checking R code for possible problems ... OK
* checking Rd files ... OK
* checking Rd metadata ... OK
* checking Rd cross-references ... NOTE
Found the following Rd file(s) with Rd \link{} targets missing package
anchors:
  SE_metadata.Rd: SummarizedExperiment-class
  convert_mae_assay_to_dt.Rd: SummarizedExperiment-class,
    MultiAssayExperiment-class
  convert_se_assay_to_dt.Rd: SummarizedExperiment-class
  is_exp_empty.Rd: SummarizedExperiment-class
  split_SE_components.Rd: SummarizedExperiment-class
  validate_se_assay_name.Rd: SummarizedExperiment-class
Please provide package anchors for all Rd \link{} targets not in the
package itself and the base packages.
* checking for missing documentation entries ... OK
* checking for code/documentation mismatches ... OK
* checking Rd \usage sections ... OK
* checking Rd contents ... OK
* checking for unstated dependencies in examples ... OK
* checking files in ‘vignettes’ ... OK
* checking examples ... OK
Examples with CPU (user + system) or elapsed time > 5s
           user system elapsed
merge_MAE 8.356  0.374   8.874
loop      3.056  0.049   5.653
* checking for unstated dependencies in ‘tests’ ... OK
* checking tests ...
  Running ‘testthat.R’
 OK
* checking for unstated dependencies in vignettes ... OK
* checking package vignettes ... OK
* checking running R code from vignettes ... SKIPPED
* checking re-building of vignette outputs ... SKIPPED
* checking PDF version of manual ... OK
* DONE

Status: 1 NOTE
See
  ‘/Users/biocbuild/bbs-3.22-bioc/meat/gDRutils.Rcheck/00check.log’
for details.


Installation output

gDRutils.Rcheck/00install.out

##############################################################################
##############################################################################
###
### Running command:
###
###   /Library/Frameworks/R.framework/Resources/bin/R CMD INSTALL gDRutils
###
##############################################################################
##############################################################################


* installing to library ‘/Library/Frameworks/R.framework/Versions/4.5-x86_64/Resources/library’
* installing *source* package ‘gDRutils’ ...
** this is package ‘gDRutils’ version ‘1.8.0’
** using staged installation
** R
** inst
** byte-compile and prepare package for lazy loading
** help
*** installing help indices
** building package indices
** installing vignettes
** testing if installed package can be loaded from temporary location
** testing if installed package can be loaded from final location
** testing if installed package keeps a record of temporary installation path
* DONE (gDRutils)

Tests output

gDRutils.Rcheck/tests/testthat.Rout


R version 4.5.2 Patched (2025-11-05 r88990) -- "[Not] Part in a Rumble"
Copyright (C) 2025 The R Foundation for Statistical Computing
Platform: x86_64-apple-darwin20

R is free software and comes with ABSOLUTELY NO WARRANTY.
You are welcome to redistribute it under certain conditions.
Type 'license()' or 'licence()' for distribution details.

R is a collaborative project with many contributors.
Type 'contributors()' for more information and
'citation()' on how to cite R or R packages in publications.

Type 'demo()' for some demos, 'help()' for on-line help, or
'help.start()' for an HTML browser interface to help.
Type 'q()' to quit R.

> library("gDRutils")
> library("testthat")
> 
> test_check("gDRutils")
[ FAIL 0 | WARN 0 | SKIP 0 | PASS 845 ]
> 
> proc.time()
   user  system elapsed 
149.942   7.728 216.114 

Example timings

gDRutils.Rcheck/gDRutils-Ex.timings

nameusersystemelapsed
MAEpply0.9710.1041.136
SE_metadata0.0620.0110.082
addClass0.0040.0010.005
aggregate_assay1.9070.0262.035
apply_bumpy_function3.5740.2834.044
assert_choices0.0010.0010.001
average_biological_replicates_dt0.9430.0281.022
calc_sd0.0020.0010.002
capVals0.5160.0170.535
cap_assay_infinities0.5260.0090.559
cap_xc500.0010.0010.002
convert_colData_to_json0.1790.0020.182
convert_combo_data_to_dt0.6380.0250.667
convert_combo_field_to_assay0.0040.0000.004
convert_mae_assay_to_dt0.1400.0060.150
convert_mae_to_json0.0300.0030.033
convert_metadata_to_json0.0210.0010.023
convert_rowData_to_json0.0060.0010.006
convert_se_assay_to_custom_dt2.0100.1942.298
convert_se_assay_to_dt0.1440.0090.181
convert_se_to_json0.0320.0020.034
define_matrix_grid_positions0.1070.0080.114
demote_fields0.7990.0320.846
df_to_bm_assay0.2700.0030.288
dot-set_invalid_fit_params0.0010.0000.001
dot-standardize_conc0.0010.0000.001
extend_normalization_type_name0.0010.0000.001
fit_curves0.3020.0300.350
flatten0.0160.0010.017
gen_synthetic_data0.0120.0020.017
geometric_mean0.0010.0010.001
get_MAE_identifiers0.0100.0030.015
get_additional_variables0.0270.0010.029
get_assay_dt_duplicated_rows0.3820.0090.405
get_assay_names0.0010.0000.001
get_assay_req_uniq_cols0.2500.0060.276
get_combo_assay_names0.0020.0010.002
get_combo_base_assay_names0.0020.0000.003
get_combo_excess_field_names0.0040.0000.004
get_combo_score_assay_names0.0010.0010.002
get_combo_score_field_names0.0020.0010.002
get_default_identifiers0.0010.0020.003
get_duplicated_rows0.0060.0010.006
get_env_assay_names0.0000.0010.001
get_env_var0.0000.0000.001
get_expect_one_identifiers0.0010.0010.002
get_experiment_groups0.0000.0000.002
get_gDR_session_info2.6161.1273.874
get_identifiers_dt0.0110.0070.022
get_idfs_synonyms0.0000.0010.001
get_isobologram_columns0.1470.0040.157
get_non_empty_assays0.1380.0030.153
get_required_identifiers0.0010.0000.001
get_settings_from_json0.0020.0010.003
get_supported_experiments0.0000.0000.001
get_synthetic_data0.0180.0020.020
get_testdata0.1980.0560.268
get_testdata_codilution0.1830.0140.204
get_testdata_combo0.3910.0440.450
has_assay_dt_duplicated_rows0.2400.0040.245
has_dt_duplicated_rows0.0010.0000.002
has_single_codrug_data0.3660.0040.379
has_valid_codrug_data0.3210.0040.343
headers0.0540.0270.087
identifiers0.0000.0010.001
identify_unique_se_metadata_fields0.0120.0020.014
is_any_exp_empty0.1020.0030.108
is_combo_data0.2110.0200.241
is_exp_empty0.1730.0190.193
is_mae_empty0.0920.0020.093
logisticFit0.0690.0020.071
loop3.0560.0495.653
map_conc_to_standardized_conc0.0100.0090.018
mcolData1.0451.5550.148
merge_MAE8.3560.3748.874
merge_SE3.1020.0383.523
merge_assay0.6470.0200.773
merge_metadata0.0310.0030.041
modifyData0.6470.0060.759
mrowData0.0250.0030.034
predict_conc_from_efficacy0.0000.0000.001
predict_efficacy_from_conc0.0010.0010.001
predict_smooth_from_combo0.3620.0180.462
prettify_flat_metrics0.0870.0020.108
process_batch0.8620.1491.197
promote_fields0.3910.0040.468
refine_coldata0.0180.0030.024
refine_rowdata0.0830.0040.103
remove_codrug_data0.1460.0030.172
remove_drug_batch0.0030.0010.005
rename_DFrame0.0170.0030.025
rename_bumpy0.0600.0030.075
round_concentration0.0000.0010.001
set_constant_fit_params0.0010.0010.003
set_unique_cl_names0.1080.0020.127
set_unique_cl_names_dt0.0450.0010.055
set_unique_drug_names0.1280.0020.153
set_unique_drug_names_dt0.0920.0010.109
set_unique_identifiers0.6560.0100.774
set_unique_names_dt0.0450.0010.051
shorten_normalization_type_name0.0010.0000.001
split_SE_components0.2310.0050.268
split_big_table_for_xlsx0.0110.0030.020
standardize_mae0.2730.0030.326
standardize_se0.0720.0020.085
throw_msg_if_duplicates0.3020.0060.350
update_env_idfs_from_mae0.0030.0000.004
update_idfs_synonyms0.0010.0000.001
validate_MAE0.1970.0020.228
validate_SE0.0630.0020.076
validate_identifiers0.0180.0030.020
validate_json0.0000.0010.001
validate_mae_with_schema0.6220.0861.031
validate_se_assay_name0.0070.0000.009