| Back to Multiple platform build/check report for BioC 3.22: simplified long |
|
This page was generated on 2025-10-24 12:06 -0400 (Fri, 24 Oct 2025).
| Hostname | OS | Arch (*) | R version | Installed pkgs |
|---|---|---|---|---|
| nebbiolo2 | Linux (Ubuntu 24.04.3 LTS) | x86_64 | 4.5.1 Patched (2025-08-23 r88802) -- "Great Square Root" | 4898 |
| lconway | macOS 12.7.6 Monterey | x86_64 | 4.5.1 Patched (2025-09-10 r88807) -- "Great Square Root" | 4688 |
| kjohnson3 | macOS 13.7.7 Ventura | arm64 | 4.5.1 Patched (2025-09-10 r88807) -- "Great Square Root" | 4634 |
| taishan | Linux (openEuler 24.03 LTS) | aarch64 | 4.5.0 (2025-04-11) -- "How About a Twenty-Six" | 4658 |
| Click on any hostname to see more info about the system (e.g. compilers) (*) as reported by 'uname -p', except on Windows and Mac OS X | ||||
| Package 805/2359 | Hostname | OS / Arch | INSTALL | BUILD | CHECK | BUILD BIN | ||||||||
| gDRutils 1.7.18 (landing page) Arkadiusz Gladki
| nebbiolo2 | Linux (Ubuntu 24.04.3 LTS) / x86_64 | OK | OK | OK | |||||||||
| lconway | macOS 12.7.6 Monterey / x86_64 | OK | OK | OK | OK | |||||||||
| kjohnson3 | macOS 13.7.7 Ventura / arm64 | OK | OK | OK | OK | |||||||||
| taishan | Linux (openEuler 24.03 LTS) / aarch64 | OK | OK | NA | ||||||||||
|
To the developers/maintainers of the gDRutils package: - Allow up to 24 hours (and sometimes 48 hours) for your latest push to git@git.bioconductor.org:packages/gDRutils.git to reflect on this report. See Troubleshooting Build Report for more information. - Use the following Renviron settings to reproduce errors and warnings. - If 'R CMD check' started to fail recently on the Linux builder(s) over a missing dependency, add the missing dependency to 'Suggests:' in your DESCRIPTION file. See Renviron.bioc for more information. |
| Package: gDRutils |
| Version: 1.7.18 |
| Command: /Library/Frameworks/R.framework/Resources/bin/R CMD check --install=check:gDRutils.install-out.txt --library=/Library/Frameworks/R.framework/Resources/library --no-vignettes --timings gDRutils_1.7.18.tar.gz |
| StartedAt: 2025-10-23 19:57:47 -0400 (Thu, 23 Oct 2025) |
| EndedAt: 2025-10-23 19:59:34 -0400 (Thu, 23 Oct 2025) |
| EllapsedTime: 107.3 seconds |
| RetCode: 0 |
| Status: OK |
| CheckDir: gDRutils.Rcheck |
| Warnings: 0 |
##############################################################################
##############################################################################
###
### Running command:
###
### /Library/Frameworks/R.framework/Resources/bin/R CMD check --install=check:gDRutils.install-out.txt --library=/Library/Frameworks/R.framework/Resources/library --no-vignettes --timings gDRutils_1.7.18.tar.gz
###
##############################################################################
##############################################################################
* using log directory ‘/Users/biocbuild/bbs-3.22-bioc/meat/gDRutils.Rcheck’
* using R version 4.5.1 Patched (2025-09-10 r88807)
* using platform: aarch64-apple-darwin20
* R was compiled by
Apple clang version 16.0.0 (clang-1600.0.26.6)
GNU Fortran (GCC) 14.2.0
* running under: macOS Ventura 13.7.7
* using session charset: UTF-8
* using option ‘--no-vignettes’
* checking for file ‘gDRutils/DESCRIPTION’ ... OK
* checking extension type ... Package
* this is package ‘gDRutils’ version ‘1.7.18’
* package encoding: UTF-8
* checking package namespace information ... OK
* checking package dependencies ... OK
* checking if this is a source package ... OK
* checking if there is a namespace ... OK
* checking for hidden files and directories ... OK
* checking for portable file names ... OK
* checking for sufficient/correct file permissions ... OK
* checking whether package ‘gDRutils’ can be installed ... OK
* checking installed package size ... OK
* checking package directory ... OK
* checking ‘build’ directory ... OK
* checking DESCRIPTION meta-information ... OK
* checking top-level files ... OK
* checking for left-over files ... OK
* checking index information ... OK
* checking package subdirectories ... OK
* checking code files for non-ASCII characters ... OK
* checking R files for syntax errors ... OK
* checking whether the package can be loaded ... OK
* checking whether the package can be loaded with stated dependencies ... OK
* checking whether the package can be unloaded cleanly ... OK
* checking whether the namespace can be loaded with stated dependencies ... OK
* checking whether the namespace can be unloaded cleanly ... OK
* checking dependencies in R code ... OK
* checking S3 generic/method consistency ... OK
* checking replacement functions ... OK
* checking foreign function calls ... OK
* checking R code for possible problems ... OK
* checking Rd files ... OK
* checking Rd metadata ... OK
* checking Rd cross-references ... NOTE
Found the following Rd file(s) with Rd \link{} targets missing package
anchors:
SE_metadata.Rd: SummarizedExperiment-class
convert_mae_assay_to_dt.Rd: SummarizedExperiment-class,
MultiAssayExperiment-class
convert_se_assay_to_dt.Rd: SummarizedExperiment-class
is_exp_empty.Rd: SummarizedExperiment-class
split_SE_components.Rd: SummarizedExperiment-class
validate_se_assay_name.Rd: SummarizedExperiment-class
Please provide package anchors for all Rd \link{} targets not in the
package itself and the base packages.
* checking for missing documentation entries ... OK
* checking for code/documentation mismatches ... OK
* checking Rd \usage sections ... OK
* checking Rd contents ... OK
* checking for unstated dependencies in examples ... OK
* checking files in ‘vignettes’ ... OK
* checking examples ... OK
* checking for unstated dependencies in ‘tests’ ... OK
* checking tests ...
Running ‘testthat.R’
OK
* checking for unstated dependencies in vignettes ... OK
* checking package vignettes ... OK
* checking running R code from vignettes ... SKIPPED
* checking re-building of vignette outputs ... SKIPPED
* checking PDF version of manual ... OK
* DONE
Status: 1 NOTE
See
‘/Users/biocbuild/bbs-3.22-bioc/meat/gDRutils.Rcheck/00check.log’
for details.
gDRutils.Rcheck/00install.out
############################################################################## ############################################################################## ### ### Running command: ### ### /Library/Frameworks/R.framework/Resources/bin/R CMD INSTALL gDRutils ### ############################################################################## ############################################################################## * installing to library ‘/Library/Frameworks/R.framework/Versions/4.5-arm64/Resources/library’ * installing *source* package ‘gDRutils’ ... ** this is package ‘gDRutils’ version ‘1.7.18’ ** using staged installation ** R ** inst ** byte-compile and prepare package for lazy loading ** help *** installing help indices ** building package indices ** installing vignettes ** testing if installed package can be loaded from temporary location ** testing if installed package can be loaded from final location ** testing if installed package keeps a record of temporary installation path * DONE (gDRutils)
gDRutils.Rcheck/tests/testthat.Rout
R version 4.5.1 Patched (2025-09-10 r88807) -- "Great Square Root"
Copyright (C) 2025 The R Foundation for Statistical Computing
Platform: aarch64-apple-darwin20
R is free software and comes with ABSOLUTELY NO WARRANTY.
You are welcome to redistribute it under certain conditions.
Type 'license()' or 'licence()' for distribution details.
R is a collaborative project with many contributors.
Type 'contributors()' for more information and
'citation()' on how to cite R or R packages in publications.
Type 'demo()' for some demos, 'help()' for on-line help, or
'help.start()' for an HTML browser interface to help.
Type 'q()' to quit R.
> library("gDRutils")
> library("testthat")
>
> test_check("gDRutils")
[ FAIL 0 | WARN 0 | SKIP 0 | PASS 845 ]
>
> proc.time()
user system elapsed
35.889 2.123 38.674
gDRutils.Rcheck/gDRutils-Ex.timings
| name | user | system | elapsed | |
| MAEpply | 0.190 | 0.009 | 0.198 | |
| SE_metadata | 0.013 | 0.002 | 0.015 | |
| addClass | 0.001 | 0.000 | 0.001 | |
| aggregate_assay | 0.172 | 0.011 | 0.214 | |
| apply_bumpy_function | 0.405 | 0.015 | 0.429 | |
| assert_choices | 0 | 0 | 0 | |
| average_biological_replicates_dt | 0.140 | 0.005 | 0.155 | |
| calc_sd | 0.001 | 0.000 | 0.001 | |
| capVals | 0.064 | 0.003 | 0.071 | |
| cap_assay_infinities | 0.351 | 0.008 | 0.366 | |
| cap_xc50 | 0.000 | 0.000 | 0.001 | |
| convert_colData_to_json | 0.015 | 0.000 | 0.015 | |
| convert_combo_data_to_dt | 0.087 | 0.005 | 0.130 | |
| convert_combo_field_to_assay | 0.001 | 0.000 | 0.001 | |
| convert_mae_assay_to_dt | 0.020 | 0.001 | 0.025 | |
| convert_mae_to_json | 0.006 | 0.000 | 0.012 | |
| convert_metadata_to_json | 0.003 | 0.001 | 0.004 | |
| convert_rowData_to_json | 0.001 | 0.000 | 0.001 | |
| convert_se_assay_to_custom_dt | 0.184 | 0.022 | 0.318 | |
| convert_se_assay_to_dt | 0.018 | 0.001 | 0.019 | |
| convert_se_to_json | 0.004 | 0.000 | 0.004 | |
| define_matrix_grid_positions | 0.018 | 0.001 | 0.028 | |
| demote_fields | 0.119 | 0.003 | 0.225 | |
| df_to_bm_assay | 0.041 | 0.000 | 0.052 | |
| dot-set_invalid_fit_params | 0.001 | 0.000 | 0.000 | |
| dot-standardize_conc | 0 | 0 | 0 | |
| extend_normalization_type_name | 0.000 | 0.000 | 0.001 | |
| fit_curves | 0.048 | 0.006 | 0.057 | |
| flatten | 0.003 | 0.001 | 0.002 | |
| gen_synthetic_data | 0.001 | 0.000 | 0.002 | |
| geometric_mean | 0.001 | 0.000 | 0.000 | |
| get_MAE_identifiers | 0.003 | 0.001 | 0.003 | |
| get_additional_variables | 0.004 | 0.000 | 0.004 | |
| get_assay_dt_duplicated_rows | 0.053 | 0.002 | 0.064 | |
| get_assay_names | 0 | 0 | 0 | |
| get_assay_req_uniq_cols | 0.041 | 0.002 | 0.049 | |
| get_combo_assay_names | 0.000 | 0.000 | 0.001 | |
| get_combo_base_assay_names | 0.001 | 0.000 | 0.000 | |
| get_combo_excess_field_names | 0.000 | 0.000 | 0.001 | |
| get_combo_score_assay_names | 0.001 | 0.000 | 0.000 | |
| get_combo_score_field_names | 0 | 0 | 0 | |
| get_default_identifiers | 0.000 | 0.001 | 0.002 | |
| get_duplicated_rows | 0.001 | 0.000 | 0.001 | |
| get_env_assay_names | 0 | 0 | 0 | |
| get_env_var | 0 | 0 | 0 | |
| get_expect_one_identifiers | 0.000 | 0.000 | 0.001 | |
| get_experiment_groups | 0 | 0 | 0 | |
| get_gDR_session_info | 0.448 | 0.195 | 0.653 | |
| get_identifiers_dt | 0.002 | 0.001 | 0.004 | |
| get_idfs_synonyms | 0.000 | 0.001 | 0.000 | |
| get_isobologram_columns | 0.02 | 0.00 | 0.02 | |
| get_non_empty_assays | 0.016 | 0.001 | 0.032 | |
| get_required_identifiers | 0 | 0 | 0 | |
| get_settings_from_json | 0.001 | 0.000 | 0.001 | |
| get_supported_experiments | 0 | 0 | 0 | |
| get_synthetic_data | 0.004 | 0.000 | 0.005 | |
| get_testdata | 0.028 | 0.006 | 0.041 | |
| get_testdata_codilution | 0.025 | 0.002 | 0.031 | |
| get_testdata_combo | 0.082 | 0.008 | 0.109 | |
| has_assay_dt_duplicated_rows | 0.056 | 0.002 | 0.061 | |
| has_dt_duplicated_rows | 0.001 | 0.000 | 0.000 | |
| has_single_codrug_data | 0.043 | 0.000 | 0.050 | |
| has_valid_codrug_data | 0.04 | 0.00 | 0.06 | |
| headers | 0.006 | 0.003 | 0.009 | |
| identifiers | 0.000 | 0.000 | 0.001 | |
| identify_unique_se_metadata_fields | 0.003 | 0.001 | 0.009 | |
| is_any_exp_empty | 0.015 | 0.000 | 0.023 | |
| is_combo_data | 0.074 | 0.009 | 0.092 | |
| is_exp_empty | 0.016 | 0.001 | 0.025 | |
| is_mae_empty | 0.015 | 0.001 | 0.028 | |
| logisticFit | 0.009 | 0.000 | 0.009 | |
| loop | 1.188 | 0.014 | 1.677 | |
| map_conc_to_standardized_conc | 0.001 | 0.004 | 0.006 | |
| mcolData | 0.005 | 0.007 | 0.013 | |
| merge_MAE | 1.032 | 0.101 | 1.420 | |
| merge_SE | 0.411 | 0.019 | 0.499 | |
| merge_assay | 0.083 | 0.004 | 0.090 | |
| merge_metadata | 0.003 | 0.001 | 0.004 | |
| modifyData | 0.076 | 0.001 | 0.077 | |
| mrowData | 0.005 | 0.000 | 0.006 | |
| predict_conc_from_efficacy | 0 | 0 | 0 | |
| predict_efficacy_from_conc | 0 | 0 | 0 | |
| predict_smooth_from_combo | 0.068 | 0.002 | 0.071 | |
| prettify_flat_metrics | 0.011 | 0.000 | 0.011 | |
| process_batch | 0.303 | 0.046 | 0.366 | |
| promote_fields | 0.054 | 0.001 | 0.056 | |
| refine_coldata | 0.004 | 0.000 | 0.005 | |
| refine_rowdata | 0.014 | 0.001 | 0.015 | |
| remove_codrug_data | 0.018 | 0.000 | 0.017 | |
| remove_drug_batch | 0 | 0 | 0 | |
| rename_DFrame | 0.004 | 0.000 | 0.004 | |
| rename_bumpy | 0.01 | 0.00 | 0.01 | |
| round_concentration | 0 | 0 | 0 | |
| set_constant_fit_params | 0.000 | 0.001 | 0.000 | |
| set_unique_cl_names | 0.016 | 0.000 | 0.016 | |
| set_unique_cl_names_dt | 0.005 | 0.000 | 0.006 | |
| set_unique_drug_names | 0.015 | 0.000 | 0.015 | |
| set_unique_drug_names_dt | 0.010 | 0.000 | 0.009 | |
| set_unique_identifiers | 0.077 | 0.002 | 0.078 | |
| set_unique_names_dt | 0.006 | 0.000 | 0.005 | |
| shorten_normalization_type_name | 0.000 | 0.000 | 0.001 | |
| split_SE_components | 0.027 | 0.001 | 0.029 | |
| split_big_table_for_xlsx | 0.001 | 0.000 | 0.002 | |
| standardize_mae | 0.043 | 0.001 | 0.044 | |
| standardize_se | 0.011 | 0.000 | 0.011 | |
| throw_msg_if_duplicates | 0.033 | 0.001 | 0.034 | |
| update_env_idfs_from_mae | 0.000 | 0.000 | 0.001 | |
| update_idfs_synonyms | 0.001 | 0.000 | 0.000 | |
| validate_MAE | 0.022 | 0.000 | 0.025 | |
| validate_SE | 0.008 | 0.000 | 0.009 | |
| validate_identifiers | 0.002 | 0.000 | 0.003 | |
| validate_json | 0 | 0 | 0 | |
| validate_mae_with_schema | 0.140 | 0.014 | 0.139 | |
| validate_se_assay_name | 0.004 | 0.000 | 0.004 | |