| Back to Multiple platform build/check report for BioC 3.22: simplified long |
|
This page was generated on 2025-10-24 12:06 -0400 (Fri, 24 Oct 2025).
| Hostname | OS | Arch (*) | R version | Installed pkgs |
|---|---|---|---|---|
| nebbiolo2 | Linux (Ubuntu 24.04.3 LTS) | x86_64 | 4.5.1 Patched (2025-08-23 r88802) -- "Great Square Root" | 4898 |
| lconway | macOS 12.7.6 Monterey | x86_64 | 4.5.1 Patched (2025-09-10 r88807) -- "Great Square Root" | 4688 |
| kjohnson3 | macOS 13.7.7 Ventura | arm64 | 4.5.1 Patched (2025-09-10 r88807) -- "Great Square Root" | 4634 |
| taishan | Linux (openEuler 24.03 LTS) | aarch64 | 4.5.0 (2025-04-11) -- "How About a Twenty-Six" | 4658 |
| Click on any hostname to see more info about the system (e.g. compilers) (*) as reported by 'uname -p', except on Windows and Mac OS X | ||||
| Package 797/2359 | Hostname | OS / Arch | INSTALL | BUILD | CHECK | BUILD BIN | ||||||||
| gCrisprTools 2.15.0 (landing page) Russell Bainer
| nebbiolo2 | Linux (Ubuntu 24.04.3 LTS) / x86_64 | OK | OK | OK | |||||||||
| lconway | macOS 12.7.6 Monterey / x86_64 | OK | OK | OK | OK | |||||||||
| kjohnson3 | macOS 13.7.7 Ventura / arm64 | OK | OK | OK | OK | |||||||||
| taishan | Linux (openEuler 24.03 LTS) / aarch64 | OK | OK | NA | ||||||||||
|
To the developers/maintainers of the gCrisprTools package: - Allow up to 24 hours (and sometimes 48 hours) for your latest push to git@git.bioconductor.org:packages/gCrisprTools.git to reflect on this report. See Troubleshooting Build Report for more information. - Use the following Renviron settings to reproduce errors and warnings. - If 'R CMD check' started to fail recently on the Linux builder(s) over a missing dependency, add the missing dependency to 'Suggests:' in your DESCRIPTION file. See Renviron.bioc for more information. |
| Package: gCrisprTools |
| Version: 2.15.0 |
| Command: /Library/Frameworks/R.framework/Resources/bin/R CMD check --install=check:gCrisprTools.install-out.txt --library=/Library/Frameworks/R.framework/Resources/library --no-vignettes --timings gCrisprTools_2.15.0.tar.gz |
| StartedAt: 2025-10-23 19:57:03 -0400 (Thu, 23 Oct 2025) |
| EndedAt: 2025-10-23 19:59:40 -0400 (Thu, 23 Oct 2025) |
| EllapsedTime: 156.9 seconds |
| RetCode: 0 |
| Status: OK |
| CheckDir: gCrisprTools.Rcheck |
| Warnings: 0 |
##############################################################################
##############################################################################
###
### Running command:
###
### /Library/Frameworks/R.framework/Resources/bin/R CMD check --install=check:gCrisprTools.install-out.txt --library=/Library/Frameworks/R.framework/Resources/library --no-vignettes --timings gCrisprTools_2.15.0.tar.gz
###
##############################################################################
##############################################################################
* using log directory ‘/Users/biocbuild/bbs-3.22-bioc/meat/gCrisprTools.Rcheck’
* using R version 4.5.1 Patched (2025-09-10 r88807)
* using platform: aarch64-apple-darwin20
* R was compiled by
Apple clang version 16.0.0 (clang-1600.0.26.6)
GNU Fortran (GCC) 14.2.0
* running under: macOS Ventura 13.7.7
* using session charset: UTF-8
* using option ‘--no-vignettes’
* checking for file ‘gCrisprTools/DESCRIPTION’ ... OK
* checking extension type ... Package
* this is package ‘gCrisprTools’ version ‘2.15.0’
* package encoding: UTF-8
* checking package namespace information ... OK
* checking package dependencies ... OK
* checking if this is a source package ... OK
* checking if there is a namespace ... OK
* checking for hidden files and directories ... OK
* checking for portable file names ... OK
* checking for sufficient/correct file permissions ... OK
* checking whether package ‘gCrisprTools’ can be installed ... OK
* checking installed package size ... OK
* checking package directory ... OK
* checking ‘build’ directory ... OK
* checking DESCRIPTION meta-information ... OK
* checking top-level files ... OK
* checking for left-over files ... OK
* checking index information ... OK
* checking package subdirectories ... OK
* checking code files for non-ASCII characters ... OK
* checking R files for syntax errors ... OK
* checking whether the package can be loaded ... OK
* checking whether the package can be loaded with stated dependencies ... OK
* checking whether the package can be unloaded cleanly ... OK
* checking whether the namespace can be loaded with stated dependencies ... OK
* checking whether the namespace can be unloaded cleanly ... OK
* checking dependencies in R code ... NOTE
Namespace in Imports field not imported from: ‘RobustRankAggreg’
All declared Imports should be used.
* checking S3 generic/method consistency ... OK
* checking replacement functions ... OK
* checking foreign function calls ... OK
* checking R code for possible problems ... OK
* checking Rd files ... OK
* checking Rd metadata ... OK
* checking Rd cross-references ... OK
* checking for missing documentation entries ... OK
* checking for code/documentation mismatches ... OK
* checking Rd \usage sections ... NOTE
Documented arguments not in \usage in Rd file 'ct.targetSetEnrichment.Rd':
‘pvalue.cutoff’ ‘organism’ ‘db.cut’ ‘species’
Functions with \usage entries need to have the appropriate \alias
entries, and all their arguments documented.
The \usage entries must correspond to syntactically valid R code.
See chapter ‘Writing R documentation files’ in the ‘Writing R
Extensions’ manual.
* checking Rd contents ... OK
* checking for unstated dependencies in examples ... OK
* checking contents of ‘data’ directory ... OK
* checking data for non-ASCII characters ... OK
* checking data for ASCII and uncompressed saves ... OK
* checking files in ‘vignettes’ ... OK
* checking examples ... OK
Examples with CPU (user + system) or elapsed time > 5s
user system elapsed
ct.GREATdb 26.543 0.507 27.466
ct.guideCDF 5.163 2.244 7.552
ct.makeReport 6.266 1.071 7.372
* checking for unstated dependencies in ‘tests’ ... OK
* checking tests ...
Running ‘unit.tests.R’
OK
* checking for unstated dependencies in vignettes ... OK
* checking package vignettes ... OK
* checking running R code from vignettes ... SKIPPED
* checking re-building of vignette outputs ... SKIPPED
* checking PDF version of manual ... OK
* DONE
Status: 2 NOTEs
See
‘/Users/biocbuild/bbs-3.22-bioc/meat/gCrisprTools.Rcheck/00check.log’
for details.
gCrisprTools.Rcheck/00install.out
############################################################################## ############################################################################## ### ### Running command: ### ### /Library/Frameworks/R.framework/Resources/bin/R CMD INSTALL gCrisprTools ### ############################################################################## ############################################################################## * installing to library ‘/Library/Frameworks/R.framework/Versions/4.5-arm64/Resources/library’ * installing *source* package ‘gCrisprTools’ ... ** this is package ‘gCrisprTools’ version ‘2.15.0’ ** using staged installation ** R ** data ** inst ** byte-compile and prepare package for lazy loading ** help *** installing help indices ** building package indices ** installing vignettes ** testing if installed package can be loaded from temporary location ** testing if installed package can be loaded from final location ** testing if installed package keeps a record of temporary installation path * DONE (gCrisprTools)
gCrisprTools.Rcheck/tests/unit.tests.Rout
R version 4.5.1 Patched (2025-09-10 r88807) -- "Great Square Root"
Copyright (C) 2025 The R Foundation for Statistical Computing
Platform: aarch64-apple-darwin20
R is free software and comes with ABSOLUTELY NO WARRANTY.
You are welcome to redistribute it under certain conditions.
Type 'license()' or 'licence()' for distribution details.
R is a collaborative project with many contributors.
Type 'contributors()' for more information and
'citation()' on how to cite R or R packages in publications.
Type 'demo()' for some demos, 'help()' for on-line help, or
'help.start()' for an HTML browser interface to help.
Type 'q()' to quit R.
> #require("BiocGenerics", quietly = TRUE)
> BiocGenerics:::testPackage("gCrisprTools")
RUNIT TEST PROTOCOL -- Thu Oct 23 19:59:36 2025
***********************************************
Number of test functions: 0
Number of errors: 0
Number of failures: 0
1 Test Suite :
gCrisprTools RUnit Tests - 0 test functions, 0 errors, 0 failures
Number of test functions: 0
Number of errors: 0
Number of failures: 0
>
> proc.time()
user system elapsed
3.143 0.119 3.260
gCrisprTools.Rcheck/gCrisprTools-Ex.timings
| name | user | system | elapsed | |
| aln | 0.001 | 0.001 | 0.002 | |
| ann | 0.025 | 0.001 | 0.027 | |
| ct.CAT | 0.477 | 0.024 | 0.515 | |
| ct.DirectionalTests | 0.117 | 0.072 | 0.192 | |
| ct.GCbias | 2.787 | 0.124 | 2.940 | |
| ct.GREATdb | 26.543 | 0.507 | 27.466 | |
| ct.PRC | 0.926 | 0.062 | 1.067 | |
| ct.ROC | 0.497 | 0.006 | 0.503 | |
| ct.RRAaPvals | 0.126 | 0.007 | 0.133 | |
| ct.RRAalpha | 0.103 | 0.003 | 0.106 | |
| ct.alignmentChart | 0.001 | 0.001 | 0.003 | |
| ct.alphaBeta | 0 | 0 | 0 | |
| ct.applyAlpha | 0.000 | 0.002 | 0.002 | |
| ct.buildSE | 0.183 | 0.005 | 0.190 | |
| ct.compareContrasts | 3.279 | 0.393 | 3.703 | |
| ct.contrastBarchart | 2.137 | 0.032 | 2.172 | |
| ct.expandAnnotation | 0.027 | 0.001 | 0.028 | |
| ct.filterReads | 0.091 | 0.010 | 0.118 | |
| ct.gRNARankByReplicate | 0.147 | 0.015 | 0.184 | |
| ct.generateResults | 0.184 | 0.011 | 0.220 | |
| ct.guideCDF | 5.163 | 2.244 | 7.552 | |
| ct.keyCheck | 0.043 | 0.003 | 0.045 | |
| ct.makeContrastReport | 2.987 | 0.423 | 3.454 | |
| ct.makeQCReport | 1.383 | 0.193 | 1.617 | |
| ct.makeReport | 6.266 | 1.071 | 7.372 | |
| ct.makeRhoNull | 0 | 0 | 0 | |
| ct.normalizeBySlope | 0.575 | 0.045 | 0.626 | |
| ct.normalizeFQ | 0.316 | 0.031 | 0.350 | |
| ct.normalizeGuides | 1.194 | 0.120 | 1.320 | |
| ct.normalizeMedians | 0.262 | 0.031 | 0.292 | |
| ct.normalizeNTC | 0.322 | 0.022 | 0.345 | |
| ct.normalizeSpline | 0.377 | 0.036 | 0.414 | |
| ct.parseGeneSymbol | 0 | 0 | 0 | |
| ct.prepareAnnotation | 0.230 | 0.009 | 0.239 | |
| ct.preprocessFit | 0.515 | 0.063 | 0.579 | |
| ct.rankSimple | 1.270 | 0.009 | 1.282 | |
| ct.rawCountDensities | 0.057 | 0.004 | 0.060 | |
| ct.regularizeContrasts | 0.038 | 0.001 | 0.039 | |
| ct.resultCheck | 0.025 | 0.001 | 0.026 | |
| ct.scatter | 0.117 | 0.001 | 0.118 | |
| ct.seas | 3.923 | 0.358 | 4.156 | |
| ct.seasPrep | 0.719 | 0.120 | 0.838 | |
| ct.signalSummary | 0.509 | 0.013 | 0.522 | |
| ct.simpleResult | 0.453 | 0.048 | 0.505 | |
| ct.softLog | 0 | 0 | 0 | |
| ct.stackGuides | 1.878 | 0.410 | 2.290 | |
| ct.targetSetEnrichment | 0.429 | 0.032 | 0.461 | |
| ct.topTargets | 0.141 | 0.011 | 0.152 | |
| ct.upSet | 2.898 | 0.352 | 3.252 | |
| ct.viewControls | 0.088 | 0.015 | 0.103 | |
| ct.viewGuides | 0.125 | 0.007 | 0.132 | |
| es | 0.023 | 0.002 | 0.026 | |
| essential.genes | 0.000 | 0.001 | 0.001 | |
| fit | 0.076 | 0.004 | 0.080 | |
| resultsDF | 0.025 | 0.001 | 0.027 | |