Back to Multiple platform build/check report for BioC 3.22:   simplified   long
ABCDEF[G]HIJKLMNOPQRSTUVWXYZ

This page was generated on 2025-11-15 11:58 -0500 (Sat, 15 Nov 2025).

HostnameOSArch (*)R versionInstalled pkgs
nebbiolo2Linux (Ubuntu 24.04.3 LTS)x86_644.5.1 Patched (2025-08-23 r88802) -- "Great Square Root" 4903
taishanLinux (openEuler 24.03 LTS)aarch644.5.0 (2025-04-11) -- "How About a Twenty-Six" 4668
Click on any hostname to see more info about the system (e.g. compilers)      (*) as reported by 'uname -p', except on Windows and Mac OS X

Package 798/2361HostnameOS / ArchINSTALLBUILDCHECKBUILD BIN
gCrisprTools 2.16.0  (landing page)
Russell Bainer
Snapshot Date: 2025-11-14 13:45 -0500 (Fri, 14 Nov 2025)
git_url: https://git.bioconductor.org/packages/gCrisprTools
git_branch: RELEASE_3_22
git_last_commit: 7b3b1fd
git_last_commit_date: 2025-10-29 10:34:14 -0500 (Wed, 29 Oct 2025)
nebbiolo2Linux (Ubuntu 24.04.3 LTS) / x86_64  OK    OK    OK  UNNEEDED, same version is already published
taishanLinux (openEuler 24.03 LTS) / aarch64  OK    OK    OK  


CHECK results for gCrisprTools on nebbiolo2

To the developers/maintainers of the gCrisprTools package:
- Allow up to 24 hours (and sometimes 48 hours) for your latest push to git@git.bioconductor.org:packages/gCrisprTools.git to reflect on this report. See Troubleshooting Build Report for more information.
- Use the following Renviron settings to reproduce errors and warnings.
- If 'R CMD check' started to fail recently on the Linux builder(s) over a missing dependency, add the missing dependency to 'Suggests:' in your DESCRIPTION file. See Renviron.bioc for more information.

raw results


Summary

Package: gCrisprTools
Version: 2.16.0
Command: /home/biocbuild/bbs-3.22-bioc/R/bin/R CMD check --install=check:gCrisprTools.install-out.txt --library=/home/biocbuild/bbs-3.22-bioc/R/site-library --timings gCrisprTools_2.16.0.tar.gz
StartedAt: 2025-11-14 23:56:04 -0500 (Fri, 14 Nov 2025)
EndedAt: 2025-11-15 00:07:30 -0500 (Sat, 15 Nov 2025)
EllapsedTime: 685.7 seconds
RetCode: 0
Status:   OK  
CheckDir: gCrisprTools.Rcheck
Warnings: 0

Command output

##############################################################################
##############################################################################
###
### Running command:
###
###   /home/biocbuild/bbs-3.22-bioc/R/bin/R CMD check --install=check:gCrisprTools.install-out.txt --library=/home/biocbuild/bbs-3.22-bioc/R/site-library --timings gCrisprTools_2.16.0.tar.gz
###
##############################################################################
##############################################################################


* using log directory ‘/home/biocbuild/bbs-3.22-bioc/meat/gCrisprTools.Rcheck’
* using R version 4.5.1 Patched (2025-08-23 r88802)
* using platform: x86_64-pc-linux-gnu
* R was compiled by
    gcc (Ubuntu 13.3.0-6ubuntu2~24.04) 13.3.0
    GNU Fortran (Ubuntu 13.3.0-6ubuntu2~24.04) 13.3.0
* running under: Ubuntu 24.04.3 LTS
* using session charset: UTF-8
* checking for file ‘gCrisprTools/DESCRIPTION’ ... OK
* checking extension type ... Package
* this is package ‘gCrisprTools’ version ‘2.16.0’
* package encoding: UTF-8
* checking package namespace information ... OK
* checking package dependencies ... OK
* checking if this is a source package ... OK
* checking if there is a namespace ... OK
* checking for hidden files and directories ... OK
* checking for portable file names ... OK
* checking for sufficient/correct file permissions ... OK
* checking whether package ‘gCrisprTools’ can be installed ... OK
* checking installed package size ... OK
* checking package directory ... OK
* checking ‘build’ directory ... OK
* checking DESCRIPTION meta-information ... OK
* checking top-level files ... OK
* checking for left-over files ... OK
* checking index information ... OK
* checking package subdirectories ... OK
* checking code files for non-ASCII characters ... OK
* checking R files for syntax errors ... OK
* checking whether the package can be loaded ... OK
* checking whether the package can be loaded with stated dependencies ... OK
* checking whether the package can be unloaded cleanly ... OK
* checking whether the namespace can be loaded with stated dependencies ... OK
* checking whether the namespace can be unloaded cleanly ... OK
* checking loading without being on the library search path ... OK
* checking dependencies in R code ... NOTE
Namespace in Imports field not imported from: ‘RobustRankAggreg’
  All declared Imports should be used.
* checking S3 generic/method consistency ... OK
* checking replacement functions ... OK
* checking foreign function calls ... OK
* checking R code for possible problems ... OK
* checking Rd files ... OK
* checking Rd metadata ... OK
* checking Rd cross-references ... OK
* checking for missing documentation entries ... OK
* checking for code/documentation mismatches ... OK
* checking Rd \usage sections ... NOTE
Documented arguments not in \usage in Rd file 'ct.targetSetEnrichment.Rd':
  ‘pvalue.cutoff’ ‘organism’ ‘db.cut’ ‘species’

Functions with \usage entries need to have the appropriate \alias
entries, and all their arguments documented.
The \usage entries must correspond to syntactically valid R code.
See chapter ‘Writing R documentation files’ in the ‘Writing R
Extensions’ manual.
* checking Rd contents ... OK
* checking for unstated dependencies in examples ... OK
* checking contents of ‘data’ directory ... OK
* checking data for non-ASCII characters ... OK
* checking data for ASCII and uncompressed saves ... OK
* checking files in ‘vignettes’ ... OK
* checking examples ... OK
Examples with CPU (user + system) or elapsed time > 5s
                        user system elapsed
ct.GREATdb            64.495  2.415  66.476
ct.makeReport         17.379  0.193  17.587
ct.seas                9.987  1.837  10.477
ct.guideCDF            9.910  0.514  10.424
ct.makeContrastReport  8.533  0.119   8.644
ct.compareContrasts    7.641  0.182   7.824
ct.upSet               6.862  0.752   7.615
ct.contrastBarchart    5.925  0.080   6.005
ct.stackGuides         4.753  0.823   5.577
ct.GCbias              5.332  0.141   5.473
ct.makeQCReport        5.329  0.060   5.398
* checking for unstated dependencies in ‘tests’ ... OK
* checking tests ...
  Running ‘unit.tests.R’
 OK
* checking for unstated dependencies in vignettes ... OK
* checking package vignettes ... OK
* checking re-building of vignette outputs ... OK
* checking PDF version of manual ... OK
* DONE

Status: 2 NOTEs
See
  ‘/home/biocbuild/bbs-3.22-bioc/meat/gCrisprTools.Rcheck/00check.log’
for details.


Installation output

gCrisprTools.Rcheck/00install.out

##############################################################################
##############################################################################
###
### Running command:
###
###   /home/biocbuild/bbs-3.22-bioc/R/bin/R CMD INSTALL gCrisprTools
###
##############################################################################
##############################################################################


* installing to library ‘/home/biocbuild/bbs-3.22-bioc/R/site-library’
* installing *source* package ‘gCrisprTools’ ...
** this is package ‘gCrisprTools’ version ‘2.16.0’
** using staged installation
** R
** data
** inst
** byte-compile and prepare package for lazy loading
** help
*** installing help indices
** building package indices
** installing vignettes
** testing if installed package can be loaded from temporary location
** testing if installed package can be loaded from final location
** testing if installed package keeps a record of temporary installation path
* DONE (gCrisprTools)

Tests output

gCrisprTools.Rcheck/tests/unit.tests.Rout


R version 4.5.1 Patched (2025-08-23 r88802) -- "Great Square Root"
Copyright (C) 2025 The R Foundation for Statistical Computing
Platform: x86_64-pc-linux-gnu

R is free software and comes with ABSOLUTELY NO WARRANTY.
You are welcome to redistribute it under certain conditions.
Type 'license()' or 'licence()' for distribution details.

R is a collaborative project with many contributors.
Type 'contributors()' for more information and
'citation()' on how to cite R or R packages in publications.

Type 'demo()' for some demos, 'help()' for on-line help, or
'help.start()' for an HTML browser interface to help.
Type 'q()' to quit R.

> #require("BiocGenerics", quietly = TRUE)
> BiocGenerics:::testPackage("gCrisprTools")


RUNIT TEST PROTOCOL -- Sat Nov 15 00:02:18 2025 
*********************************************** 
Number of test functions: 0 
Number of errors: 0 
Number of failures: 0 

 
1 Test Suite : 
gCrisprTools RUnit Tests - 0 test functions, 0 errors, 0 failures
Number of test functions: 0 
Number of errors: 0 
Number of failures: 0 
> 
> proc.time()
   user  system elapsed 
  8.180   0.947   9.117 

Example timings

gCrisprTools.Rcheck/gCrisprTools-Ex.timings

nameusersystemelapsed
aln0.0020.0000.002
ann0.0550.0070.062
ct.CAT2.0320.1612.193
ct.DirectionalTests0.2340.0380.271
ct.GCbias5.3320.1415.473
ct.GREATdb64.495 2.41566.476
ct.PRC2.1090.0402.146
ct.ROC1.3270.0131.340
ct.RRAaPvals0.2980.0070.305
ct.RRAalpha0.2280.0040.232
ct.alignmentChart0.0040.0000.004
ct.alphaBeta000
ct.applyAlpha0.0010.0000.002
ct.buildSE0.3710.0040.375
ct.compareContrasts7.6410.1827.824
ct.contrastBarchart5.9250.0806.005
ct.expandAnnotation0.0550.0010.055
ct.filterReads0.2280.0070.234
ct.gRNARankByReplicate0.3840.0090.393
ct.generateResults0.4700.0080.477
ct.guideCDF 9.910 0.51410.424
ct.keyCheck0.0970.0020.099
ct.makeContrastReport8.5330.1198.644
ct.makeQCReport5.3290.0605.398
ct.makeReport17.379 0.19317.587
ct.makeRhoNull0.0010.0000.001
ct.normalizeBySlope1.2540.0131.267
ct.normalizeFQ0.8190.0160.835
ct.normalizeGuides3.0610.0303.091
ct.normalizeMedians0.7080.0160.723
ct.normalizeNTC0.8250.0180.842
ct.normalizeSpline0.9340.0180.951
ct.parseGeneSymbol0.0020.0000.001
ct.prepareAnnotation0.4890.0100.499
ct.preprocessFit1.4970.0371.534
ct.rankSimple3.4900.0263.516
ct.rawCountDensities0.1310.0060.138
ct.regularizeContrasts0.0860.0000.086
ct.resultCheck0.0510.0010.052
ct.scatter0.3510.0000.351
ct.seas 9.987 1.83710.477
ct.seasPrep1.9800.1262.106
ct.signalSummary1.5020.0691.571
ct.simpleResult1.2150.0411.256
ct.softLog000
ct.stackGuides4.7530.8235.577
ct.targetSetEnrichment1.2920.1411.433
ct.topTargets0.3210.0110.333
ct.upSet6.8620.7527.615
ct.viewControls0.2170.0140.230
ct.viewGuides0.3020.0070.310
es0.0500.0020.052
essential.genes0.0010.0000.001
fit0.1720.0020.174
resultsDF0.0540.0000.054