| Back to Multiple platform build/check report for BioC 3.22: simplified long |
|
This page was generated on 2025-10-25 12:04 -0400 (Sat, 25 Oct 2025).
| Hostname | OS | Arch (*) | R version | Installed pkgs |
|---|---|---|---|---|
| nebbiolo2 | Linux (Ubuntu 24.04.3 LTS) | x86_64 | 4.5.1 Patched (2025-08-23 r88802) -- "Great Square Root" | 4901 |
| lconway | macOS 12.7.6 Monterey | x86_64 | 4.5.1 Patched (2025-09-10 r88807) -- "Great Square Root" | 4691 |
| kjohnson3 | macOS 13.7.7 Ventura | arm64 | 4.5.1 Patched (2025-09-10 r88807) -- "Great Square Root" | 4637 |
| taishan | Linux (openEuler 24.03 LTS) | aarch64 | 4.5.0 (2025-04-11) -- "How About a Twenty-Six" | 4658 |
| Click on any hostname to see more info about the system (e.g. compilers) (*) as reported by 'uname -p', except on Windows and Mac OS X | ||||
| Package 712/2361 | Hostname | OS / Arch | INSTALL | BUILD | CHECK | BUILD BIN | ||||||||
| extraChIPs 1.13.3 (landing page) Stevie Pederson
| nebbiolo2 | Linux (Ubuntu 24.04.3 LTS) / x86_64 | OK | OK | OK | |||||||||
| lconway | macOS 12.7.6 Monterey / x86_64 | OK | OK | OK | OK | |||||||||
| kjohnson3 | macOS 13.7.7 Ventura / arm64 | OK | OK | OK | OK | |||||||||
| taishan | Linux (openEuler 24.03 LTS) / aarch64 | OK | NA | NA | ||||||||||
|
To the developers/maintainers of the extraChIPs package: - Allow up to 24 hours (and sometimes 48 hours) for your latest push to git@git.bioconductor.org:packages/extraChIPs.git to reflect on this report. See Troubleshooting Build Report for more information. - Use the following Renviron settings to reproduce errors and warnings. - If 'R CMD check' started to fail recently on the Linux builder(s) over a missing dependency, add the missing dependency to 'Suggests:' in your DESCRIPTION file. See Renviron.bioc for more information. |
| Package: extraChIPs |
| Version: 1.13.3 |
| Command: /Library/Frameworks/R.framework/Resources/bin/R CMD check --install=check:extraChIPs.install-out.txt --library=/Library/Frameworks/R.framework/Resources/library --no-vignettes --timings extraChIPs_1.13.3.tar.gz |
| StartedAt: 2025-10-24 21:11:12 -0400 (Fri, 24 Oct 2025) |
| EndedAt: 2025-10-24 21:19:17 -0400 (Fri, 24 Oct 2025) |
| EllapsedTime: 485.4 seconds |
| RetCode: 0 |
| Status: OK |
| CheckDir: extraChIPs.Rcheck |
| Warnings: 0 |
##############################################################################
##############################################################################
###
### Running command:
###
### /Library/Frameworks/R.framework/Resources/bin/R CMD check --install=check:extraChIPs.install-out.txt --library=/Library/Frameworks/R.framework/Resources/library --no-vignettes --timings extraChIPs_1.13.3.tar.gz
###
##############################################################################
##############################################################################
* using log directory ‘/Users/biocbuild/bbs-3.22-bioc/meat/extraChIPs.Rcheck’
* using R version 4.5.1 Patched (2025-09-10 r88807)
* using platform: x86_64-apple-darwin20
* R was compiled by
Apple clang version 14.0.0 (clang-1400.0.29.202)
GNU Fortran (GCC) 14.2.0
* running under: macOS Monterey 12.7.6
* using session charset: UTF-8
* using option ‘--no-vignettes’
* checking for file ‘extraChIPs/DESCRIPTION’ ... OK
* this is package ‘extraChIPs’ version ‘1.13.3’
* package encoding: UTF-8
* checking package namespace information ... OK
* checking package dependencies ... INFO
Depends: includes the non-default packages:
'BiocParallel', 'GenomicRanges', 'ggplot2', 'ggside', 'Seqinfo',
'SummarizedExperiment', 'tibble'
Adding so many packages to the search path is excessive and importing
selectively is preferable.
Imports includes 21 non-default packages.
Importing from so many packages makes the package vulnerable to any of
them becoming unavailable. Move as many as possible to Suggests and
use conditionally.
* checking if this is a source package ... OK
* checking if there is a namespace ... OK
* checking for hidden files and directories ... NOTE
Found the following hidden files and directories:
.BBSoptions
These were most likely included in error. See section ‘Package
structure’ in the ‘Writing R Extensions’ manual.
* checking for portable file names ... OK
* checking for sufficient/correct file permissions ... OK
* checking whether package ‘extraChIPs’ can be installed ... OK
* used C compiler: ‘Apple clang version 14.0.0 (clang-1400.0.29.202)’
* used SDK: ‘MacOSX11.3.1.sdk’
* checking installed package size ... OK
* checking package directory ... OK
* checking ‘build’ directory ... OK
* checking DESCRIPTION meta-information ... OK
* checking top-level files ... OK
* checking for left-over files ... OK
* checking index information ... OK
* checking package subdirectories ... OK
* checking code files for non-ASCII characters ... OK
* checking R files for syntax errors ... OK
* checking whether the package can be loaded ... OK
* checking whether the package can be loaded with stated dependencies ... OK
* checking whether the package can be unloaded cleanly ... OK
* checking whether the namespace can be loaded with stated dependencies ... OK
* checking whether the namespace can be unloaded cleanly ... OK
* checking dependencies in R code ... OK
* checking S3 generic/method consistency ... OK
* checking replacement functions ... OK
* checking foreign function calls ... OK
* checking R code for possible problems ... OK
* checking Rd files ... OK
* checking Rd metadata ... OK
* checking Rd cross-references ... OK
* checking for missing documentation entries ... OK
* checking for code/documentation mismatches ... OK
* checking Rd \usage sections ... OK
* checking Rd contents ... OK
* checking for unstated dependencies in examples ... OK
* checking contents of ‘data’ directory ... OK
* checking data for non-ASCII characters ... OK
* checking data for ASCII and uncompressed saves ... OK
* checking line endings in C/C++/Fortran sources/headers ... OK
* checking compiled code ... NOTE
Note: information on .o files is not available
* checking files in ‘vignettes’ ... OK
* checking examples ... OK
Examples with CPU (user + system) or elapsed time > 5s
user system elapsed
defineRegions 5.285 0.101 5.424
* checking for unstated dependencies in ‘tests’ ... OK
* checking tests ...
Running ‘testthat.R’
OK
* checking for unstated dependencies in vignettes ... OK
* checking package vignettes ... OK
* checking running R code from vignettes ... SKIPPED
* checking re-building of vignette outputs ... SKIPPED
* checking PDF version of manual ... OK
* DONE
Status: 2 NOTEs
See
‘/Users/biocbuild/bbs-3.22-bioc/meat/extraChIPs.Rcheck/00check.log’
for details.
extraChIPs.Rcheck/00install.out
############################################################################## ############################################################################## ### ### Running command: ### ### /Library/Frameworks/R.framework/Resources/bin/R CMD INSTALL extraChIPs ### ############################################################################## ############################################################################## * installing to library ‘/Library/Frameworks/R.framework/Versions/4.5-x86_64/Resources/library’ * installing *source* package ‘extraChIPs’ ... ** this is package ‘extraChIPs’ version ‘1.13.3’ ** using staged installation ** libs using C compiler: ‘Apple clang version 14.0.0 (clang-1400.0.29.202)’ using SDK: ‘MacOSX11.3.1.sdk’ clang -arch x86_64 -I"/Library/Frameworks/R.framework/Resources/include" -DNDEBUG -I/opt/R/x86_64/include -fPIC -falign-functions=64 -Wall -g -O2 -c HMPfuns.c -o HMPfuns.o clang -arch x86_64 -I"/Library/Frameworks/R.framework/Resources/include" -DNDEBUG -I/opt/R/x86_64/include -fPIC -falign-functions=64 -Wall -g -O2 -c init.c -o init.o clang -arch x86_64 -I"/Library/Frameworks/R.framework/Resources/include" -DNDEBUG -I/opt/R/x86_64/include -fPIC -falign-functions=64 -Wall -g -O2 -c lookup_tables.c -o lookup_tables.o clang -arch x86_64 -dynamiclib -Wl,-headerpad_max_install_names -undefined dynamic_lookup -L/Library/Frameworks/R.framework/Resources/lib -L/opt/R/x86_64/lib -o extraChIPs.so HMPfuns.o init.o lookup_tables.o -F/Library/Frameworks/R.framework/.. -framework R installing to /Library/Frameworks/R.framework/Versions/4.5-x86_64/Resources/library/00LOCK-extraChIPs/00new/extraChIPs/libs ** R ** data ** inst ** byte-compile and prepare package for lazy loading ** help *** installing help indices *** copying figures ** building package indices ** installing vignettes ** testing if installed package can be loaded from temporary location ** checking absolute paths in shared objects and dynamic libraries ** testing if installed package can be loaded from final location ** testing if installed package keeps a record of temporary installation path * DONE (extraChIPs)
extraChIPs.Rcheck/tests/testthat.Rout
R version 4.5.1 Patched (2025-09-10 r88807) -- "Great Square Root"
Copyright (C) 2025 The R Foundation for Statistical Computing
Platform: x86_64-apple-darwin20
R is free software and comes with ABSOLUTELY NO WARRANTY.
You are welcome to redistribute it under certain conditions.
Type 'license()' or 'licence()' for distribution details.
R is a collaborative project with many contributors.
Type 'contributors()' for more information and
'citation()' on how to cite R or R packages in publications.
Type 'demo()' for some demos, 'help()' for on-line help, or
'help.start()' for an HTML browser interface to help.
Type 'q()' to quit R.
> library(testthat)
> library(extraChIPs)
Loading required package: BiocParallel
Loading required package: GenomicRanges
Loading required package: stats4
Loading required package: BiocGenerics
Loading required package: generics
Attaching package: 'generics'
The following objects are masked from 'package:base':
as.difftime, as.factor, as.ordered, intersect, is.element, setdiff,
setequal, union
Attaching package: 'BiocGenerics'
The following objects are masked from 'package:stats':
IQR, mad, sd, var, xtabs
The following objects are masked from 'package:base':
Filter, Find, Map, Position, Reduce, anyDuplicated, aperm, append,
as.data.frame, basename, cbind, colnames, dirname, do.call,
duplicated, eval, evalq, get, grep, grepl, is.unsorted, lapply,
mapply, match, mget, order, paste, pmax, pmax.int, pmin, pmin.int,
rank, rbind, rownames, sapply, saveRDS, table, tapply, unique,
unsplit, which.max, which.min
Loading required package: S4Vectors
Attaching package: 'S4Vectors'
The following object is masked from 'package:utils':
findMatches
The following objects are masked from 'package:base':
I, expand.grid, unname
Loading required package: IRanges
Loading required package: Seqinfo
Loading required package: ggplot2
Loading required package: ggside
Loading required package: SummarizedExperiment
Loading required package: MatrixGenerics
Loading required package: matrixStats
Attaching package: 'MatrixGenerics'
The following objects are masked from 'package:matrixStats':
colAlls, colAnyNAs, colAnys, colAvgsPerRowSet, colCollapse,
colCounts, colCummaxs, colCummins, colCumprods, colCumsums,
colDiffs, colIQRDiffs, colIQRs, colLogSumExps, colMadDiffs,
colMads, colMaxs, colMeans2, colMedians, colMins, colOrderStats,
colProds, colQuantiles, colRanges, colRanks, colSdDiffs, colSds,
colSums2, colTabulates, colVarDiffs, colVars, colWeightedMads,
colWeightedMeans, colWeightedMedians, colWeightedSds,
colWeightedVars, rowAlls, rowAnyNAs, rowAnys, rowAvgsPerColSet,
rowCollapse, rowCounts, rowCummaxs, rowCummins, rowCumprods,
rowCumsums, rowDiffs, rowIQRDiffs, rowIQRs, rowLogSumExps,
rowMadDiffs, rowMads, rowMaxs, rowMeans2, rowMedians, rowMins,
rowOrderStats, rowProds, rowQuantiles, rowRanges, rowRanks,
rowSdDiffs, rowSds, rowSums2, rowTabulates, rowVarDiffs, rowVars,
rowWeightedMads, rowWeightedMeans, rowWeightedMedians,
rowWeightedSds, rowWeightedVars
Loading required package: Biobase
Welcome to Bioconductor
Vignettes contain introductory material; view with
'browseVignettes()'. To cite Bioconductor, see
'citation("Biobase")', and for packages 'citation("pkgname")'.
Attaching package: 'Biobase'
The following object is masked from 'package:MatrixGenerics':
rowMedians
The following objects are masked from 'package:matrixStats':
anyMissing, rowMedians
Loading required package: tibble
>
> test_check("extraChIPs")
Loading required package: Biostrings
Loading required package: XVector
Attaching package: 'Biostrings'
The following object is masked from 'package:base':
strsplit
Getting coverage across all 1 peaks...done (0.69s)
Finding centres by chromosome...done (0.38s)
Getting coverage across all 1 peaks...done (0.55s)
Finding centres by chromosome...done (0.38s)
Getting coverage across all 1 peaks...done (0.52s)
Finding centres by chromosome...done (0.37s)
Getting coverage across all 1 peaks...done (0.35s)
Finding centres by chromosome...done (0.35s)
Creating DESeqDataSet...
converting counts to integer mode
Calculating none normalisation factors...
Estimating dispersions using fitType = local...
gene-wise dispersion estimates
mean-dispersion relationship
final dispersion estimates
using 'apeglm' for LFC shrinkage. If used in published research, please cite:
Zhu, A., Ibrahim, J.G., Love, M.I. (2018) Heavy-tailed prior distributions for
sequence count data: removing the noise and preserving large differences.
Bioinformatics. https://doi.org/10.1093/bioinformatics/bty895
Creating DGE list...
Calculating experiment-wide normalisation factors...
Estimating dispersions...
Running glmQLFit...
Creating DGE list...
Calculating experiment-wide normalisation factors...
Estimating dispersions...
Running glmQLFit...
[ FAIL 0 | WARN 0 | SKIP 0 | PASS 603 ]
>
> proc.time()
user system elapsed
97.144 5.719 102.978
extraChIPs.Rcheck/extraChIPs-Ex.timings
| name | user | system | elapsed | |
| addDiffStatus-methods | 0.256 | 0.008 | 0.267 | |
| as_tibble | 0.514 | 0.036 | 0.555 | |
| bestOverlap-methods | 1.170 | 0.034 | 1.215 | |
| centrePeaks-methods | 0.614 | 0.013 | 0.633 | |
| chopMC | 0.211 | 0.003 | 0.215 | |
| colToRanges-methods | 0.256 | 0.005 | 0.265 | |
| collapseGenes | 0.003 | 0.000 | 0.004 | |
| cytobands | 0.012 | 0.006 | 0.019 | |
| defineRegions | 5.285 | 0.101 | 5.424 | |
| defineSeqinfo | 0.014 | 0.004 | 0.016 | |
| distinctMC | 0.392 | 0.003 | 0.397 | |
| dualFilter | 0 | 0 | 0 | |
| ex_datasets | 0.026 | 0.005 | 0.031 | |
| fitAssayDiff-methods | 0.211 | 0.005 | 0.218 | |
| fixed_width_datasets | 0.060 | 0.006 | 0.066 | |
| getProfileData-methods | 1.919 | 0.049 | 1.983 | |
| grlToSE-methods | 0.518 | 0.004 | 0.525 | |
| importPeaks | 0.166 | 0.005 | 0.172 | |
| makeConsensus | 1.126 | 0.015 | 1.151 | |
| mapByFeature | 0.756 | 0.006 | 0.768 | |
| mapGrlCols | 1.763 | 0.012 | 1.786 | |
| mergeByCol-methods | 0.354 | 0.004 | 0.361 | |
| mergeByHMP-methods | 0.494 | 0.004 | 0.502 | |
| mergeBySig-methods | 0.496 | 0.007 | 0.508 | |
| partitionRanges-methods | 1.117 | 0.007 | 1.131 | |
| plotAssayDensities-methods | 1.326 | 0.021 | 1.352 | |
| plotAssayHeatmap-methods | 0.567 | 0.023 | 0.597 | |
| plotAssayPCA-methods | 1.143 | 0.028 | 1.180 | |
| plotAssayRle-methods | 1.159 | 0.013 | 1.180 | |
| plotGrlCol | 2.279 | 0.028 | 2.323 | |
| plotHFGC | 0 | 0 | 0 | |
| plotOverlaps-methods | 3.420 | 0.045 | 3.488 | |
| plotPairwise | 4.326 | 0.038 | 4.392 | |
| plotPie-methods | 2.260 | 0.035 | 2.308 | |
| plotProfileHeatmap-methods | 0 | 0 | 0 | |
| plotSplitDonut-methods | 1.832 | 0.016 | 1.860 | |
| propOverlap-methods | 0.317 | 0.002 | 0.321 | |
| reduceMC | 0.299 | 0.002 | 0.302 | |
| setoptsMC-methods | 1.148 | 0.009 | 1.166 | |
| stitchRanges | 0.343 | 0.002 | 0.346 | |
| voomWeightsFromCPM | 0.294 | 0.010 | 0.312 | |