| Back to Multiple platform build/check report for BioC 3.22: simplified long |
|
This page was generated on 2025-10-25 12:04 -0400 (Sat, 25 Oct 2025).
| Hostname | OS | Arch (*) | R version | Installed pkgs |
|---|---|---|---|---|
| nebbiolo2 | Linux (Ubuntu 24.04.3 LTS) | x86_64 | 4.5.1 Patched (2025-08-23 r88802) -- "Great Square Root" | 4901 |
| lconway | macOS 12.7.6 Monterey | x86_64 | 4.5.1 Patched (2025-09-10 r88807) -- "Great Square Root" | 4691 |
| kjohnson3 | macOS 13.7.7 Ventura | arm64 | 4.5.1 Patched (2025-09-10 r88807) -- "Great Square Root" | 4637 |
| taishan | Linux (openEuler 24.03 LTS) | aarch64 | 4.5.0 (2025-04-11) -- "How About a Twenty-Six" | 4658 |
| Click on any hostname to see more info about the system (e.g. compilers) (*) as reported by 'uname -p', except on Windows and Mac OS X | ||||
| Package 625/2361 | Hostname | OS / Arch | INSTALL | BUILD | CHECK | BUILD BIN | ||||||||
| drawProteins 1.29.0 (landing page) Paul Brennan
| nebbiolo2 | Linux (Ubuntu 24.04.3 LTS) / x86_64 | OK | OK | ERROR | |||||||||
| lconway | macOS 12.7.6 Monterey / x86_64 | OK | OK | ERROR | OK | |||||||||
| kjohnson3 | macOS 13.7.7 Ventura / arm64 | OK | OK | ERROR | OK | |||||||||
| taishan | Linux (openEuler 24.03 LTS) / aarch64 | OK | NA | NA | ||||||||||
|
To the developers/maintainers of the drawProteins package: - Allow up to 24 hours (and sometimes 48 hours) for your latest push to git@git.bioconductor.org:packages/drawProteins.git to reflect on this report. See Troubleshooting Build Report for more information. - Use the following Renviron settings to reproduce errors and warnings. - If 'R CMD check' started to fail recently on the Linux builder(s) over a missing dependency, add the missing dependency to 'Suggests:' in your DESCRIPTION file. See Renviron.bioc for more information. |
| Package: drawProteins |
| Version: 1.29.0 |
| Command: /Library/Frameworks/R.framework/Resources/bin/R CMD check --install=check:drawProteins.install-out.txt --library=/Library/Frameworks/R.framework/Resources/library --no-vignettes --timings drawProteins_1.29.0.tar.gz |
| StartedAt: 2025-10-24 20:54:35 -0400 (Fri, 24 Oct 2025) |
| EndedAt: 2025-10-24 20:55:42 -0400 (Fri, 24 Oct 2025) |
| EllapsedTime: 67.5 seconds |
| RetCode: 1 |
| Status: ERROR |
| CheckDir: drawProteins.Rcheck |
| Warnings: NA |
##############################################################################
##############################################################################
###
### Running command:
###
### /Library/Frameworks/R.framework/Resources/bin/R CMD check --install=check:drawProteins.install-out.txt --library=/Library/Frameworks/R.framework/Resources/library --no-vignettes --timings drawProteins_1.29.0.tar.gz
###
##############################################################################
##############################################################################
* using log directory ‘/Users/biocbuild/bbs-3.22-bioc/meat/drawProteins.Rcheck’
* using R version 4.5.1 Patched (2025-09-10 r88807)
* using platform: x86_64-apple-darwin20
* R was compiled by
Apple clang version 14.0.0 (clang-1400.0.29.202)
GNU Fortran (GCC) 14.2.0
* running under: macOS Monterey 12.7.6
* using session charset: UTF-8
* using option ‘--no-vignettes’
* checking for file ‘drawProteins/DESCRIPTION’ ... OK
* this is package ‘drawProteins’ version ‘1.29.0’
* package encoding: UTF-8
* checking package namespace information ... OK
* checking package dependencies ... OK
* checking if this is a source package ... OK
* checking if there is a namespace ... OK
* checking for hidden files and directories ... OK
* checking for portable file names ... OK
* checking for sufficient/correct file permissions ... OK
* checking whether package ‘drawProteins’ can be installed ... OK
* checking installed package size ... OK
* checking package directory ... OK
* checking ‘build’ directory ... OK
* checking DESCRIPTION meta-information ... NOTE
License stub is invalid DCF.
* checking top-level files ... OK
* checking for left-over files ... OK
* checking index information ... OK
* checking package subdirectories ... NOTE
Problems with news in ‘NEWS’:
Cannot process chunk/lines:
CHANGES VERSION 0.98.1
* checking code files for non-ASCII characters ... OK
* checking R files for syntax errors ... OK
* checking whether the package can be loaded ... OK
* checking whether the package can be loaded with stated dependencies ... OK
* checking whether the package can be unloaded cleanly ... OK
* checking whether the namespace can be loaded with stated dependencies ... OK
* checking whether the namespace can be unloaded cleanly ... OK
* checking dependencies in R code ... OK
* checking S3 generic/method consistency ... OK
* checking replacement functions ... OK
* checking foreign function calls ... OK
* checking R code for possible problems ... OK
* checking Rd files ... OK
* checking Rd metadata ... OK
* checking Rd cross-references ... OK
* checking for missing documentation entries ... OK
* checking for code/documentation mismatches ... OK
* checking Rd \usage sections ... OK
* checking Rd contents ... OK
* checking for unstated dependencies in examples ... OK
* checking contents of ‘data’ directory ... OK
* checking data for non-ASCII characters ... OK
* checking LazyData ... OK
* checking data for ASCII and uncompressed saves ... OK
* checking files in ‘vignettes’ ... OK
* checking examples ... OK
* checking for unstated dependencies in ‘tests’ ... OK
* checking tests ...
Running ‘testthat.R’
ERROR
Running the tests in ‘tests/testthat.R’ failed.
Last 13 lines of output:
1/1 mismatches
[1] 1 - 11 == -10
── Failure ('test-parsers.R:78:3'): parse_gff ──────────────────────────────────
mode(p) not equal to "list".
1/1 mismatches
x[1]: "object"
y[1]: "list"
── Failure ('test-parsers.R:79:3'): parse_gff ──────────────────────────────────
length(p) not equal to 11.
1/1 mismatches
[1] 1 - 11 == -10
[ FAIL 24 | WARN 1 | SKIP 0 | PASS 159 ]
Error: Test failures
Execution halted
* checking for unstated dependencies in vignettes ... OK
* checking package vignettes ... OK
* checking running R code from vignettes ... SKIPPED
* checking re-building of vignette outputs ... SKIPPED
* checking PDF version of manual ... OK
* DONE
Status: 1 ERROR, 2 NOTEs
See
‘/Users/biocbuild/bbs-3.22-bioc/meat/drawProteins.Rcheck/00check.log’
for details.
drawProteins.Rcheck/00install.out
############################################################################## ############################################################################## ### ### Running command: ### ### /Library/Frameworks/R.framework/Resources/bin/R CMD INSTALL drawProteins ### ############################################################################## ############################################################################## * installing to library ‘/Library/Frameworks/R.framework/Versions/4.5-x86_64/Resources/library’ * installing *source* package ‘drawProteins’ ... ** this is package ‘drawProteins’ version ‘1.29.0’ ** using staged installation ** R ** data *** moving datasets to lazyload DB ** inst ** byte-compile and prepare package for lazy loading ** help *** installing help indices ** building package indices ** installing vignettes ** testing if installed package can be loaded from temporary location ** testing if installed package can be loaded from final location ** testing if installed package keeps a record of temporary installation path * DONE (drawProteins)
drawProteins.Rcheck/tests/testthat.Rout.fail
R version 4.5.1 Patched (2025-09-10 r88807) -- "Great Square Root"
Copyright (C) 2025 The R Foundation for Statistical Computing
Platform: x86_64-apple-darwin20
R is free software and comes with ABSOLUTELY NO WARRANTY.
You are welcome to redistribute it under certain conditions.
Type 'license()' or 'licence()' for distribution details.
R is a collaborative project with many contributors.
Type 'contributors()' for more information and
'citation()' on how to cite R or R packages in publications.
Type 'demo()' for some demos, 'help()' for on-line help, or
'help.start()' for an HTML browser interface to help.
Type 'q()' to quit R.
> library(testthat)
> library(drawProteins)
>
> test_check("drawProteins")
[1] "Download has worked"
[1] "An error has occured. Code: 400"
[ FAIL 24 | WARN 1 | SKIP 0 | PASS 159 ]
══ Failed tests ════════════════════════════════════════════════════════════════
── Failure ('test-geoms.R:18:3'): draw_canvas ──────────────────────────────────
mode(p) not equal to "list".
1/1 mismatches
x[1]: "object"
y[1]: "list"
── Failure ('test-geoms.R:19:3'): draw_canvas ──────────────────────────────────
length(p) not equal to 11.
1/1 mismatches
[1] 1 - 11 == -10
── Failure ('test-geoms.R:47:3'): draw_chains ──────────────────────────────────
mode(p) not equal to "list".
1/1 mismatches
x[1]: "object"
y[1]: "list"
── Failure ('test-geoms.R:48:3'): draw_chains ──────────────────────────────────
length(p) not equal to 11.
1/1 mismatches
[1] 1 - 11 == -10
── Failure ('test-geoms.R:81:3'): draw_domains ─────────────────────────────────
mode(p) not equal to "list".
1/1 mismatches
x[1]: "object"
y[1]: "list"
── Failure ('test-geoms.R:82:3'): draw_domains ─────────────────────────────────
length(p) not equal to 11.
1/1 mismatches
[1] 1 - 11 == -10
── Failure ('test-geoms.R:119:3'): draw_phospho ────────────────────────────────
mode(p) not equal to "list".
1/1 mismatches
x[1]: "object"
y[1]: "list"
── Failure ('test-geoms.R:120:3'): draw_phospho ────────────────────────────────
length(p) not equal to 11.
1/1 mismatches
[1] 1 - 11 == -10
── Failure ('test-geoms.R:153:3'): draw_motif ──────────────────────────────────
mode(p) not equal to "list".
1/1 mismatches
x[1]: "object"
y[1]: "list"
── Failure ('test-geoms.R:154:3'): draw_motif ──────────────────────────────────
length(p) not equal to 11.
1/1 mismatches
[1] 1 - 11 == -10
── Failure ('test-geoms.R:198:3'): draw_regions ────────────────────────────────
mode(p) not equal to "list".
1/1 mismatches
x[1]: "object"
y[1]: "list"
── Failure ('test-geoms.R:199:3'): draw_regions ────────────────────────────────
length(p) not equal to 11.
1/1 mismatches
[1] 1 - 11 == -10
── Failure ('test-geoms.R:244:3'): draw_repeat ─────────────────────────────────
mode(p) not equal to "list".
1/1 mismatches
x[1]: "object"
y[1]: "list"
── Failure ('test-geoms.R:245:3'): draw_repeat ─────────────────────────────────
length(p) not equal to 11.
1/1 mismatches
[1] 1 - 11 == -10
── Failure ('test-geoms.R:288:3'): draw_recept_dom ─────────────────────────────
mode(p) not equal to "list".
1/1 mismatches
x[1]: "object"
y[1]: "list"
── Failure ('test-geoms.R:289:3'): draw_recept_dom ─────────────────────────────
length(p) not equal to 11.
1/1 mismatches
[1] 1 - 11 == -10
── Failure ('test-geoms.R:315:3'): draw_recept_dom ─────────────────────────────
mode(p) not equal to "list".
1/1 mismatches
x[1]: "object"
y[1]: "list"
── Failure ('test-geoms.R:316:3'): draw_recept_dom ─────────────────────────────
length(p) not equal to 11.
1/1 mismatches
[1] 1 - 11 == -10
── Failure ('test-geoms.R:373:3'): draw_folding ────────────────────────────────
mode(p) not equal to "list".
1/1 mismatches
x[1]: "object"
y[1]: "list"
── Failure ('test-geoms.R:374:3'): draw_folding ────────────────────────────────
length(p) not equal to 11.
1/1 mismatches
[1] 1 - 11 == -10
── Failure ('test-parsers.R:30:3'): parse_gff ──────────────────────────────────
mode(p) not equal to "list".
1/1 mismatches
x[1]: "object"
y[1]: "list"
── Failure ('test-parsers.R:31:3'): parse_gff ──────────────────────────────────
length(p) not equal to 11.
1/1 mismatches
[1] 1 - 11 == -10
── Failure ('test-parsers.R:78:3'): parse_gff ──────────────────────────────────
mode(p) not equal to "list".
1/1 mismatches
x[1]: "object"
y[1]: "list"
── Failure ('test-parsers.R:79:3'): parse_gff ──────────────────────────────────
length(p) not equal to 11.
1/1 mismatches
[1] 1 - 11 == -10
[ FAIL 24 | WARN 1 | SKIP 0 | PASS 159 ]
Error: Test failures
Execution halted
drawProteins.Rcheck/drawProteins-Ex.timings
| name | user | system | elapsed | |
| draw_canvas | 0.245 | 0.017 | 0.279 | |
| draw_chains | 0.604 | 0.009 | 0.616 | |
| draw_domains | 0.439 | 0.005 | 0.482 | |
| draw_folding | 0.560 | 0.006 | 0.613 | |
| draw_motif | 0.280 | 0.002 | 0.293 | |
| draw_phospho | 0.241 | 0.004 | 0.252 | |
| draw_recept_dom | 0.428 | 0.004 | 0.438 | |
| draw_regions | 0.359 | 0.004 | 0.363 | |
| draw_repeat | 0.307 | 0.003 | 0.312 | |
| extract_feat_acc | 0.010 | 0.001 | 0.012 | |
| extract_names | 0.003 | 0.001 | 0.005 | |
| extract_transcripts | 0.028 | 0.001 | 0.029 | |
| feature_to_dataframe | 0.018 | 0.003 | 0.020 | |
| get_features | 0.063 | 0.013 | 4.285 | |
| parse_gff | 0.559 | 0.048 | 1.864 | |
| phospho_site_info | 0.003 | 0.003 | 0.006 | |