| Back to Multiple platform build/check report for BioC 3.22: simplified long |
|
This page was generated on 2025-10-24 12:04 -0400 (Fri, 24 Oct 2025).
| Hostname | OS | Arch (*) | R version | Installed pkgs |
|---|---|---|---|---|
| nebbiolo2 | Linux (Ubuntu 24.04.3 LTS) | x86_64 | 4.5.1 Patched (2025-08-23 r88802) -- "Great Square Root" | 4898 |
| lconway | macOS 12.7.6 Monterey | x86_64 | 4.5.1 Patched (2025-09-10 r88807) -- "Great Square Root" | 4688 |
| kjohnson3 | macOS 13.7.7 Ventura | arm64 | 4.5.1 Patched (2025-09-10 r88807) -- "Great Square Root" | 4634 |
| taishan | Linux (openEuler 24.03 LTS) | aarch64 | 4.5.0 (2025-04-11) -- "How About a Twenty-Six" | 4658 |
| Click on any hostname to see more info about the system (e.g. compilers) (*) as reported by 'uname -p', except on Windows and Mac OS X | ||||
| Package 534/2359 | Hostname | OS / Arch | INSTALL | BUILD | CHECK | BUILD BIN | ||||||||
| decompTumor2Sig 2.25.1 (landing page) Rosario M. Piro
| nebbiolo2 | Linux (Ubuntu 24.04.3 LTS) / x86_64 | OK | OK | OK | |||||||||
| lconway | macOS 12.7.6 Monterey / x86_64 | OK | OK | OK | OK | |||||||||
| kjohnson3 | macOS 13.7.7 Ventura / arm64 | OK | TIMEOUT | skipped | skipped | |||||||||
| taishan | Linux (openEuler 24.03 LTS) / aarch64 | OK | OK | OK | ||||||||||
|
To the developers/maintainers of the decompTumor2Sig package: - Allow up to 24 hours (and sometimes 48 hours) for your latest push to git@git.bioconductor.org:packages/decompTumor2Sig.git to reflect on this report. See Troubleshooting Build Report for more information. - Use the following Renviron settings to reproduce errors and warnings. - If 'R CMD check' started to fail recently on the Linux builder(s) over a missing dependency, add the missing dependency to 'Suggests:' in your DESCRIPTION file. See Renviron.bioc for more information. |
| Package: decompTumor2Sig |
| Version: 2.25.1 |
| Command: /Library/Frameworks/R.framework/Resources/bin/R CMD check --install=check:decompTumor2Sig.install-out.txt --library=/Library/Frameworks/R.framework/Resources/library --no-vignettes --timings decompTumor2Sig_2.25.1.tar.gz |
| StartedAt: 2025-10-23 20:31:36 -0400 (Thu, 23 Oct 2025) |
| EndedAt: 2025-10-23 20:39:15 -0400 (Thu, 23 Oct 2025) |
| EllapsedTime: 459.2 seconds |
| RetCode: 0 |
| Status: OK |
| CheckDir: decompTumor2Sig.Rcheck |
| Warnings: 0 |
##############################################################################
##############################################################################
###
### Running command:
###
### /Library/Frameworks/R.framework/Resources/bin/R CMD check --install=check:decompTumor2Sig.install-out.txt --library=/Library/Frameworks/R.framework/Resources/library --no-vignettes --timings decompTumor2Sig_2.25.1.tar.gz
###
##############################################################################
##############################################################################
* using log directory ‘/Users/biocbuild/bbs-3.22-bioc/meat/decompTumor2Sig.Rcheck’
* using R version 4.5.1 Patched (2025-09-10 r88807)
* using platform: x86_64-apple-darwin20
* R was compiled by
Apple clang version 14.0.0 (clang-1400.0.29.202)
GNU Fortran (GCC) 14.2.0
* running under: macOS Monterey 12.7.6
* using session charset: UTF-8
* using option ‘--no-vignettes’
* checking for file ‘decompTumor2Sig/DESCRIPTION’ ... OK
* checking extension type ... Package
* this is package ‘decompTumor2Sig’ version ‘2.25.1’
* package encoding: UTF-8
* checking package namespace information ... OK
* checking package dependencies ... OK
* checking if this is a source package ... OK
* checking if there is a namespace ... OK
* checking for hidden files and directories ... OK
* checking for portable file names ... OK
* checking for sufficient/correct file permissions ... OK
* checking whether package ‘decompTumor2Sig’ can be installed ... OK
* checking installed package size ... OK
* checking package directory ... OK
* checking ‘build’ directory ... OK
* checking DESCRIPTION meta-information ... OK
* checking top-level files ... NOTE
File
inst/LICENSE
will install at top-level and is not mentioned in the DESCRIPTION file.
* checking for left-over files ... OK
* checking index information ... OK
* checking package subdirectories ... OK
* checking code files for non-ASCII characters ... OK
* checking R files for syntax errors ... OK
* checking whether the package can be loaded ... OK
* checking whether the package can be loaded with stated dependencies ... OK
* checking whether the package can be unloaded cleanly ... OK
* checking whether the namespace can be loaded with stated dependencies ... OK
* checking whether the namespace can be unloaded cleanly ... OK
* checking whether startup messages can be suppressed ... OK
* checking dependencies in R code ... OK
* checking S3 generic/method consistency ... OK
* checking replacement functions ... OK
* checking foreign function calls ... OK
* checking R code for possible problems ... OK
* checking Rd files ... OK
* checking Rd metadata ... OK
* checking Rd cross-references ... OK
* checking for missing documentation entries ... OK
* checking for code/documentation mismatches ... OK
* checking Rd \usage sections ... OK
* checking Rd contents ... OK
* checking for unstated dependencies in examples ... OK
* checking files in ‘vignettes’ ... OK
* checking examples ... OK
Examples with CPU (user + system) or elapsed time > 5s
user system elapsed
plotExplainedVariance 74.910 0.518 76.015
convertGenomesFromVRanges 8.718 0.596 9.414
adjustSignaturesForRegionSet 5.814 0.437 7.954
readGenomesFromVCF 4.904 0.450 5.428
readGenomesFromMPF 4.292 0.610 5.405
plotMutationDistribution 3.696 0.130 5.432
* checking for unstated dependencies in vignettes ... OK
* checking package vignettes ... OK
* checking running R code from vignettes ... SKIPPED
* checking re-building of vignette outputs ... SKIPPED
* checking PDF version of manual ... OK
* DONE
Status: 1 NOTE
See
‘/Users/biocbuild/bbs-3.22-bioc/meat/decompTumor2Sig.Rcheck/00check.log’
for details.
decompTumor2Sig.Rcheck/00install.out
############################################################################## ############################################################################## ### ### Running command: ### ### /Library/Frameworks/R.framework/Resources/bin/R CMD INSTALL decompTumor2Sig ### ############################################################################## ############################################################################## * installing to library ‘/Library/Frameworks/R.framework/Versions/4.5-x86_64/Resources/library’ * installing *source* package ‘decompTumor2Sig’ ... ** this is package ‘decompTumor2Sig’ version ‘2.25.1’ ** using staged installation ** R ** inst ** byte-compile and prepare package for lazy loading ** help *** installing help indices ** building package indices ** installing vignettes ** testing if installed package can be loaded from temporary location ** testing if installed package can be loaded from final location ** testing if installed package keeps a record of temporary installation path * DONE (decompTumor2Sig)
decompTumor2Sig.Rcheck/decompTumor2Sig-Ex.timings
| name | user | system | elapsed | |
| adjustSignaturesForRegionSet | 5.814 | 0.437 | 7.954 | |
| composeGenomesFromExposures | 0.211 | 0.026 | 1.302 | |
| computeExplainedVariance | 0.266 | 0.026 | 1.030 | |
| convertAlexandrov2Shiraishi | 0.069 | 0.004 | 0.707 | |
| convertGenomesFromVRanges | 8.718 | 0.596 | 9.414 | |
| decomposeTumorGenomes | 3.371 | 0.378 | 4.455 | |
| determineSignatureDistances | 0.077 | 0.005 | 0.978 | |
| downgradeShiraishiSignatures | 0.007 | 0.003 | 0.010 | |
| evaluateDecompositionQuality | 0.213 | 0.009 | 0.857 | |
| getGenomesFromMutFeatData | 0.428 | 0.007 | 0.439 | |
| getSignaturesFromEstParam | 0.149 | 0.002 | 0.153 | |
| isAlexandrovSet | 0.049 | 0.003 | 0.693 | |
| isExposureSet | 3.224 | 0.410 | 4.347 | |
| isShiraishiSet | 0.079 | 0.004 | 0.730 | |
| isSignatureSet | 0.045 | 0.003 | 0.686 | |
| mapSignatureSets | 0.130 | 0.003 | 0.770 | |
| plotDecomposedContribution | 0.708 | 0.019 | 1.615 | |
| plotExplainedVariance | 74.910 | 0.518 | 76.015 | |
| plotMutationDistribution | 3.696 | 0.130 | 5.432 | |
| readAlexandrovSignatures | 0.042 | 0.004 | 0.719 | |
| readGenomesFromMPF | 4.292 | 0.610 | 5.405 | |
| readGenomesFromVCF | 4.904 | 0.450 | 5.428 | |
| readShiraishiSignatures | 0.006 | 0.001 | 0.007 | |
| sameSignatureFormat | 0.080 | 0.005 | 0.720 | |