| Back to Multiple platform build/check report for BioC 3.22: simplified long |
|
This page was generated on 2025-08-15 12:06 -0400 (Fri, 15 Aug 2025).
| Hostname | OS | Arch (*) | R version | Installed pkgs |
|---|---|---|---|---|
| nebbiolo2 | Linux (Ubuntu 24.04.3 LTS) | x86_64 | 4.5.1 (2025-06-13) -- "Great Square Root" | 4818 |
| palomino8 | Windows Server 2022 Datacenter | x64 | 4.5.1 (2025-06-13 ucrt) -- "Great Square Root" | 4554 |
| lconway | macOS 12.7.1 Monterey | x86_64 | 4.5.1 (2025-06-13) -- "Great Square Root" | 4595 |
| kjohnson3 | macOS 13.7.7 Ventura | arm64 | 4.5.1 Patched (2025-06-14 r88325) -- "Great Square Root" | 4537 |
| taishan | Linux (openEuler 24.03 LTS) | aarch64 | 4.5.0 (2025-04-11) -- "How About a Twenty-Six" | 4535 |
| Click on any hostname to see more info about the system (e.g. compilers) (*) as reported by 'uname -p', except on Windows and Mac OS X | ||||
| Package 473/2317 | Hostname | OS / Arch | INSTALL | BUILD | CHECK | BUILD BIN | ||||||||
| csaw 1.43.1 (landing page) Aaron Lun
| nebbiolo2 | Linux (Ubuntu 24.04.3 LTS) / x86_64 | OK | OK | OK | |||||||||
| palomino8 | Windows Server 2022 Datacenter / x64 | OK | OK | OK | OK | |||||||||
| lconway | macOS 12.7.1 Monterey / x86_64 | OK | OK | OK | OK | |||||||||
| kjohnson3 | macOS 13.7.7 Ventura / arm64 | OK | OK | WARNINGS | OK | |||||||||
| taishan | Linux (openEuler 24.03 LTS) / aarch64 | OK | OK | OK | ||||||||||
|
To the developers/maintainers of the csaw package: - Allow up to 24 hours (and sometimes 48 hours) for your latest push to git@git.bioconductor.org:packages/csaw.git to reflect on this report. See Troubleshooting Build Report for more information. - Use the following Renviron settings to reproduce errors and warnings. - If 'R CMD check' started to fail recently on the Linux builder(s) over a missing dependency, add the missing dependency to 'Suggests:' in your DESCRIPTION file. See Renviron.bioc for more information. |
| Package: csaw |
| Version: 1.43.1 |
| Command: F:\biocbuild\bbs-3.22-bioc\R\bin\R.exe CMD check --no-multiarch --install=check:csaw.install-out.txt --library=F:\biocbuild\bbs-3.22-bioc\R\library --no-vignettes --timings csaw_1.43.1.tar.gz |
| StartedAt: 2025-08-15 02:06:29 -0400 (Fri, 15 Aug 2025) |
| EndedAt: 2025-08-15 02:18:41 -0400 (Fri, 15 Aug 2025) |
| EllapsedTime: 731.5 seconds |
| RetCode: 0 |
| Status: OK |
| CheckDir: csaw.Rcheck |
| Warnings: 0 |
##############################################################################
##############################################################################
###
### Running command:
###
### F:\biocbuild\bbs-3.22-bioc\R\bin\R.exe CMD check --no-multiarch --install=check:csaw.install-out.txt --library=F:\biocbuild\bbs-3.22-bioc\R\library --no-vignettes --timings csaw_1.43.1.tar.gz
###
##############################################################################
##############################################################################
* using log directory 'F:/biocbuild/bbs-3.22-bioc/meat/csaw.Rcheck'
* using R version 4.5.1 (2025-06-13 ucrt)
* using platform: x86_64-w64-mingw32
* R was compiled by
gcc.exe (GCC) 14.2.0
GNU Fortran (GCC) 14.2.0
* running under: Windows Server 2022 x64 (build 20348)
* using session charset: UTF-8
* using option '--no-vignettes'
* checking for file 'csaw/DESCRIPTION' ... OK
* this is package 'csaw' version '1.43.1'
* checking package namespace information ... OK
* checking package dependencies ... OK
* checking if this is a source package ... OK
* checking if there is a namespace ... OK
* checking for hidden files and directories ... OK
* checking for portable file names ... OK
* checking whether package 'csaw' can be installed ... OK
* used C++ compiler: 'G__~1.EXE (GCC) 14.2.0'
* checking C++ specification ... NOTE
Specified C++11: please drop specification unless essential
* checking installed package size ... INFO
installed size is 13.0Mb
sub-directories of 1Mb or more:
libs 12.3Mb
* checking package directory ... OK
* checking 'build' directory ... OK
* checking DESCRIPTION meta-information ... OK
* checking top-level files ... OK
* checking for left-over files ... OK
* checking index information ... OK
* checking package subdirectories ... OK
* checking code files for non-ASCII characters ... OK
* checking R files for syntax errors ... OK
* checking whether the package can be loaded ... OK
* checking whether the package can be loaded with stated dependencies ... OK
* checking whether the package can be unloaded cleanly ... OK
* checking whether the namespace can be loaded with stated dependencies ... OK
* checking whether the namespace can be unloaded cleanly ... OK
* checking dependencies in R code ... OK
* checking S3 generic/method consistency ... OK
* checking replacement functions ... OK
* checking foreign function calls ... OK
* checking R code for possible problems ... OK
* checking Rd files ... OK
* checking Rd metadata ... OK
* checking Rd cross-references ... NOTE
Found the following Rd file(s) with Rd \link{} targets missing package
anchors:
SEmethods.Rd: DGEList
calculateCPM.Rd: scaleOffset, addPriorCount
checkBimodality.Rd: BamFile-class, GenomicRanges-class,
BiocParallelParam-class
clusterWindows.Rd: GRanges-class, RangedSummarizedExperiment-class,
GRanges, DataFrame-class
clusterWindowsList.Rd: GRanges-class,
RangedSummarizedExperiment-class
combineTests.Rd: DataFrame-class, groupedSimes, glmQLFTest
correlateReads.Rd: BamFile-class, BiocParallelParam-class
detailRanges.Rd: GRanges-class
empiricalFDR.Rd: DataFrame-class
extractReads.Rd: BamFile-class, GRanges-class, GRangesList-class
filterWindows.Rd: RangedSummarizedExperiment-class, rowRanges,
resize, aveLogCPM
findMaxima.Rd: aveLogCPM
getBestTest.Rd: DataFrame-class, glmQLFTest
mergeResults.Rd: GRanges-class, RangedSummarizedExperiment-class,
findOverlaps, DataFrame-class, Hits-class
mergeResultsList.Rd: GRanges-class, RangedSummarizedExperiment-class,
mcols, findOverlaps, DataFrame-class, Hits-class
mergeWindows.Rd: GRanges-class, RangedSummarizedExperiment-class
mergeWindowsList.Rd: RangedSummarizedExperiment-class, GRanges-class,
findOverlaps, Hits-class
minimalTests.Rd: DataFrame-class, groupedHolmMin, glmQLFTest
mixedTests.Rd: glmTreat, DataFrame-class
normFactors.Rd: SummarizedExperiment-class, colData, DGEList,
calcNormFactors
normOffsets.Rd: SummarizedExperiment-class, colData, DGEList,
loessFit, normalizeCyclicLoess
overlapStats.Rd: Hits-class, findOverlaps,
RangedSummarizedExperiment-class, DataFrame-class
profileSites.Rd: BamFile-class, GenomicRanges-class,
BiocParallelParam-class
readParam.Rd: GRanges-class, BiocParallelParam
regionCounts.Rd: BamFile-class, GenomicRanges-class,
BiocParallelParam-class, countOverlaps,
RangedSummarizedExperiment-class
scaledAverage.Rd: SummarizedExperiment-class, aveLogCPM,
addPriorCount, aveLogCPM.DGEList
strandedCounts.Rd: BamFile-class
windowCounts.Rd: BamFile-class, BiocParallelParam-class,
RangedSummarizedExperiment-class
Please provide package anchors for all Rd \link{} targets not in the
package itself and the base packages.
* checking for missing documentation entries ... OK
* checking for code/documentation mismatches ... OK
* checking Rd \usage sections ... OK
* checking Rd contents ... OK
* checking for unstated dependencies in examples ... OK
* checking line endings in C/C++/Fortran sources/headers ... OK
* checking line endings in Makefiles ... OK
* checking compilation flags in Makevars ... OK
* checking for GNU extensions in Makefiles ... INFO
GNU make is a SystemRequirements.
* checking for portable use of $(BLAS_LIBS) and $(LAPACK_LIBS) ... OK
* checking use of PKG_*FLAGS in Makefiles ... OK
* checking compiled code ... NOTE
Note: information on .o files for x64 is not available
File 'F:/biocbuild/bbs-3.22-bioc/R/library/csaw/libs/x64/csaw.dll':
Found '_assert', possibly from 'assert' (C)
Found '_exit', possibly from '_exit' (C)
Found 'abort', possibly from 'abort' (C), 'runtime' (Fortran)
Found 'exit', possibly from 'exit' (C), 'stop' (Fortran)
Compiled code should not call entry points which might terminate R nor
write to stdout/stderr instead of to the console, nor use Fortran I/O
nor system RNGs nor [v]sprintf. The detected symbols are linked into
the code but might come from libraries and not actually be called.
See 'Writing portable packages' in the 'Writing R Extensions' manual.
* checking files in 'vignettes' ... OK
* checking examples ... OK
Examples with CPU (user + system) or elapsed time > 5s
user system elapsed
detailRanges 15.32 0.51 15.94
* checking for unstated dependencies in 'tests' ... OK
* checking tests ...
Running 'testthat.R'
OK
* checking for unstated dependencies in vignettes ... OK
* checking package vignettes ... OK
* checking running R code from vignettes ... SKIPPED
* checking re-building of vignette outputs ... SKIPPED
* checking PDF version of manual ... OK
* DONE
Status: 3 NOTEs
See
'F:/biocbuild/bbs-3.22-bioc/meat/csaw.Rcheck/00check.log'
for details.
csaw.Rcheck/00install.out
##############################################################################
##############################################################################
###
### Running command:
###
### F:\biocbuild\bbs-3.22-bioc\R\bin\R.exe CMD INSTALL csaw
###
##############################################################################
##############################################################################
* installing to library 'F:/biocbuild/bbs-3.22-bioc/R/library'
* installing *source* package 'csaw' ...
** this is package 'csaw' version '1.43.1'
** using staged installation
** libs
using C++ compiler: 'G__~1.EXE (GCC) 14.2.0'
using C++11
g++ -std=gnu++11 -I"F:/biocbuild/bbs-3.22-bioc/R/include" -DNDEBUG -D_FILE_OFFSET_BITS=64 -I'F:/biocbuild/bbs-3.22-bioc/R/library/Rhtslib/include' -I'F:/biocbuild/bbs-3.22-bioc/R/library/Rcpp/include' -I"C:/rtools45/x86_64-w64-mingw32.static.posix/include" -O2 -Wall -mfpmath=sse -msse2 -mstackrealign -c annotator.cpp -o annotator.o
annotator.cpp: In function 'SEXPREC* annotate_overlaps(SEXP, SEXP, SEXP, SEXP, SEXP, SEXP, SEXP, SEXP)':
annotator.cpp:47:24: warning: comparison of integer expressions of different signedness: 'size_t' {aka 'long long unsigned int'} and 'const int' [-Wsign-compare]
47 | while (counter < nolaps && query[counter]==curreg) {
| ~~~~~~~~^~~~~~~~
g++ -std=gnu++11 -I"F:/biocbuild/bbs-3.22-bioc/R/include" -DNDEBUG -D_FILE_OFFSET_BITS=64 -I'F:/biocbuild/bbs-3.22-bioc/R/library/Rhtslib/include' -I'F:/biocbuild/bbs-3.22-bioc/R/library/Rcpp/include' -I"C:/rtools45/x86_64-w64-mingw32.static.posix/include" -O2 -Wall -mfpmath=sse -msse2 -mstackrealign -c bam_utils.cpp -o bam_utils.o
g++ -std=gnu++11 -I"F:/biocbuild/bbs-3.22-bioc/R/include" -DNDEBUG -D_FILE_OFFSET_BITS=64 -I'F:/biocbuild/bbs-3.22-bioc/R/library/Rhtslib/include' -I'F:/biocbuild/bbs-3.22-bioc/R/library/Rcpp/include' -I"C:/rtools45/x86_64-w64-mingw32.static.posix/include" -O2 -Wall -mfpmath=sse -msse2 -mstackrealign -c best_in_cluster.cpp -o best_in_cluster.o
best_in_cluster.cpp: In function 'SEXPREC* best_in_cluster(SEXP, SEXP, SEXP)':
best_in_cluster.cpp:11:17: warning: comparison of integer expressions of different signedness: 'const size_t' {aka 'const long long unsigned int'} and 'R_xlen_t' {aka 'long long int'} [-Wsign-compare]
11 | if (nwin!=clustids.size() || nwin!=winweight.size()) {
| ~~~~^~~~~~~~~~~~~~~~~
best_in_cluster.cpp:11:42: warning: comparison of integer expressions of different signedness: 'const size_t' {aka 'const long long unsigned int'} and 'R_xlen_t' {aka 'long long int'} [-Wsign-compare]
11 | if (nwin!=clustids.size() || nwin!=winweight.size()) {
| ~~~~^~~~~~~~~~~~~~~~~~
g++ -std=gnu++11 -I"F:/biocbuild/bbs-3.22-bioc/R/include" -DNDEBUG -D_FILE_OFFSET_BITS=64 -I'F:/biocbuild/bbs-3.22-bioc/R/library/Rhtslib/include' -I'F:/biocbuild/bbs-3.22-bioc/R/library/Rcpp/include' -I"C:/rtools45/x86_64-w64-mingw32.static.posix/include" -O2 -Wall -mfpmath=sse -msse2 -mstackrealign -c check_bimodality.cpp -o check_bimodality.o
g++ -std=gnu++11 -I"F:/biocbuild/bbs-3.22-bioc/R/include" -DNDEBUG -D_FILE_OFFSET_BITS=64 -I'F:/biocbuild/bbs-3.22-bioc/R/library/Rhtslib/include' -I'F:/biocbuild/bbs-3.22-bioc/R/library/Rcpp/include' -I"C:/rtools45/x86_64-w64-mingw32.static.posix/include" -O2 -Wall -mfpmath=sse -msse2 -mstackrealign -c correlate_reads.cpp -o correlate_reads.o
g++ -std=gnu++11 -I"F:/biocbuild/bbs-3.22-bioc/R/include" -DNDEBUG -D_FILE_OFFSET_BITS=64 -I'F:/biocbuild/bbs-3.22-bioc/R/library/Rhtslib/include' -I'F:/biocbuild/bbs-3.22-bioc/R/library/Rcpp/include' -I"C:/rtools45/x86_64-w64-mingw32.static.posix/include" -O2 -Wall -mfpmath=sse -msse2 -mstackrealign -c find_maxima.cpp -o find_maxima.o
g++ -std=gnu++11 -I"F:/biocbuild/bbs-3.22-bioc/R/include" -DNDEBUG -D_FILE_OFFSET_BITS=64 -I'F:/biocbuild/bbs-3.22-bioc/R/library/Rhtslib/include' -I'F:/biocbuild/bbs-3.22-bioc/R/library/Rcpp/include' -I"C:/rtools45/x86_64-w64-mingw32.static.posix/include" -O2 -Wall -mfpmath=sse -msse2 -mstackrealign -c get_profile.cpp -o get_profile.o
g++ -std=gnu++11 -I"F:/biocbuild/bbs-3.22-bioc/R/include" -DNDEBUG -D_FILE_OFFSET_BITS=64 -I'F:/biocbuild/bbs-3.22-bioc/R/library/Rhtslib/include' -I'F:/biocbuild/bbs-3.22-bioc/R/library/Rcpp/include' -I"C:/rtools45/x86_64-w64-mingw32.static.posix/include" -O2 -Wall -mfpmath=sse -msse2 -mstackrealign -c get_rle_counts.cpp -o get_rle_counts.o
g++ -std=gnu++11 -I"F:/biocbuild/bbs-3.22-bioc/R/include" -DNDEBUG -D_FILE_OFFSET_BITS=64 -I'F:/biocbuild/bbs-3.22-bioc/R/library/Rhtslib/include' -I'F:/biocbuild/bbs-3.22-bioc/R/library/Rcpp/include' -I"C:/rtools45/x86_64-w64-mingw32.static.posix/include" -O2 -Wall -mfpmath=sse -msse2 -mstackrealign -c init.cpp -o init.o
g++ -std=gnu++11 -I"F:/biocbuild/bbs-3.22-bioc/R/include" -DNDEBUG -D_FILE_OFFSET_BITS=64 -I'F:/biocbuild/bbs-3.22-bioc/R/library/Rhtslib/include' -I'F:/biocbuild/bbs-3.22-bioc/R/library/Rcpp/include' -I"C:/rtools45/x86_64-w64-mingw32.static.posix/include" -O2 -Wall -mfpmath=sse -msse2 -mstackrealign -c intersector.cpp -o intersector.o
intersector.cpp: In constructor 'intersector::intersector(SEXP, SEXP)':
intersector.cpp:8:10: warning: comparison of integer expressions of different signedness: 'const size_t' {aka 'const long long unsigned int'} and 'R_xlen_t' {aka 'long long int'} [-Wsign-compare]
8 | if (N!=elements.size()) {
| ~^~~~~~~~~~~~~~~~~
intersector.cpp:32:36: warning: comparison of integer expressions of different signedness: 'int' and 'const size_t' {aka 'const long long unsigned int'} [-Wsign-compare]
32 | if (current < 0 || current >= nelements) {
| ~~~~~~~~^~~~~~~~~~~~
g++ -std=gnu++11 -I"F:/biocbuild/bbs-3.22-bioc/R/include" -DNDEBUG -D_FILE_OFFSET_BITS=64 -I'F:/biocbuild/bbs-3.22-bioc/R/library/Rhtslib/include' -I'F:/biocbuild/bbs-3.22-bioc/R/library/Rcpp/include' -I"C:/rtools45/x86_64-w64-mingw32.static.posix/include" -O2 -Wall -mfpmath=sse -msse2 -mstackrealign -c merge_windows.cpp -o merge_windows.o
g++ -std=gnu++11 -I"F:/biocbuild/bbs-3.22-bioc/R/include" -DNDEBUG -D_FILE_OFFSET_BITS=64 -I'F:/biocbuild/bbs-3.22-bioc/R/library/Rhtslib/include' -I'F:/biocbuild/bbs-3.22-bioc/R/library/Rcpp/include' -I"C:/rtools45/x86_64-w64-mingw32.static.posix/include" -O2 -Wall -mfpmath=sse -msse2 -mstackrealign -c pair_reads.cpp -o pair_reads.o
g++ -std=gnu++11 -I"F:/biocbuild/bbs-3.22-bioc/R/include" -DNDEBUG -D_FILE_OFFSET_BITS=64 -I'F:/biocbuild/bbs-3.22-bioc/R/library/Rhtslib/include' -I'F:/biocbuild/bbs-3.22-bioc/R/library/Rcpp/include' -I"C:/rtools45/x86_64-w64-mingw32.static.posix/include" -O2 -Wall -mfpmath=sse -msse2 -mstackrealign -c single_reads.cpp -o single_reads.o
g++ -std=gnu++11 -I"F:/biocbuild/bbs-3.22-bioc/R/include" -DNDEBUG -D_FILE_OFFSET_BITS=64 -I'F:/biocbuild/bbs-3.22-bioc/R/library/Rhtslib/include' -I'F:/biocbuild/bbs-3.22-bioc/R/library/Rcpp/include' -I"C:/rtools45/x86_64-w64-mingw32.static.posix/include" -O2 -Wall -mfpmath=sse -msse2 -mstackrealign -c utils.cpp -o utils.o
g++ -shared -s -static-libgcc -o csaw.dll tmp.def annotator.o bam_utils.o best_in_cluster.o check_bimodality.o correlate_reads.o find_maxima.o get_profile.o get_rle_counts.o init.o intersector.o merge_windows.o pair_reads.o single_reads.o utils.o F:/biocbuild/bbs-3.22-bioc/R/library/Rhtslib/usrlib/x64/libhts.a -lm -lbz2 -llzma -lcurl -lnghttp2 -lpsl -lbrotlidec -lbrotlicommon -lbcrypt -lidn2 -lunistring -liconv -lssl -lcrypto -lz -lcrypt32 -lwsock32 -lwldap32 -lssh2 -lgcrypt -lgpg-error -lws2_32 -lzstd -lregex -LC:/rtools45/x86_64-w64-mingw32.static.posix/lib/x64 -LC:/rtools45/x86_64-w64-mingw32.static.posix/lib -LF:/biocbuild/bbs-3.22-bioc/R/bin/x64 -lR
installing to F:/biocbuild/bbs-3.22-bioc/R/library/00LOCK-csaw/00new/csaw/libs/x64
** R
** inst
** byte-compile and prepare package for lazy loading
** help
*** installing help indices
** building package indices
** installing vignettes
** testing if installed package can be loaded from temporary location
** testing if installed package can be loaded from final location
** testing if installed package keeps a record of temporary installation path
* DONE (csaw)
csaw.Rcheck/tests/testthat.Rout
R version 4.5.1 (2025-06-13 ucrt) -- "Great Square Root"
Copyright (C) 2025 The R Foundation for Statistical Computing
Platform: x86_64-w64-mingw32/x64
R is free software and comes with ABSOLUTELY NO WARRANTY.
You are welcome to redistribute it under certain conditions.
Type 'license()' or 'licence()' for distribution details.
R is a collaborative project with many contributors.
Type 'contributors()' for more information and
'citation()' on how to cite R or R packages in publications.
Type 'demo()' for some demos, 'help()' for on-line help, or
'help.start()' for an HTML browser interface to help.
Type 'q()' to quit R.
> library(testthat)
> library(csaw)
Loading required package: GenomicRanges
Loading required package: stats4
Loading required package: BiocGenerics
Loading required package: generics
Attaching package: 'generics'
The following objects are masked from 'package:base':
as.difftime, as.factor, as.ordered, intersect, is.element, setdiff,
setequal, union
Attaching package: 'BiocGenerics'
The following objects are masked from 'package:stats':
IQR, mad, sd, var, xtabs
The following objects are masked from 'package:base':
Filter, Find, Map, Position, Reduce, anyDuplicated, aperm, append,
as.data.frame, basename, cbind, colnames, dirname, do.call,
duplicated, eval, evalq, get, grep, grepl, is.unsorted, lapply,
mapply, match, mget, order, paste, pmax, pmax.int, pmin, pmin.int,
rank, rbind, rownames, sapply, saveRDS, table, tapply, unique,
unsplit, which.max, which.min
Loading required package: S4Vectors
Attaching package: 'S4Vectors'
The following object is masked from 'package:utils':
findMatches
The following objects are masked from 'package:base':
I, expand.grid, unname
Loading required package: IRanges
Attaching package: 'IRanges'
The following object is masked from 'package:grDevices':
windows
Loading required package: Seqinfo
Loading required package: SummarizedExperiment
Loading required package: MatrixGenerics
Loading required package: matrixStats
Attaching package: 'MatrixGenerics'
The following objects are masked from 'package:matrixStats':
colAlls, colAnyNAs, colAnys, colAvgsPerRowSet, colCollapse,
colCounts, colCummaxs, colCummins, colCumprods, colCumsums,
colDiffs, colIQRDiffs, colIQRs, colLogSumExps, colMadDiffs,
colMads, colMaxs, colMeans2, colMedians, colMins, colOrderStats,
colProds, colQuantiles, colRanges, colRanks, colSdDiffs, colSds,
colSums2, colTabulates, colVarDiffs, colVars, colWeightedMads,
colWeightedMeans, colWeightedMedians, colWeightedSds,
colWeightedVars, rowAlls, rowAnyNAs, rowAnys, rowAvgsPerColSet,
rowCollapse, rowCounts, rowCummaxs, rowCummins, rowCumprods,
rowCumsums, rowDiffs, rowIQRDiffs, rowIQRs, rowLogSumExps,
rowMadDiffs, rowMads, rowMaxs, rowMeans2, rowMedians, rowMins,
rowOrderStats, rowProds, rowQuantiles, rowRanges, rowRanks,
rowSdDiffs, rowSds, rowSums2, rowTabulates, rowVarDiffs, rowVars,
rowWeightedMads, rowWeightedMeans, rowWeightedMedians,
rowWeightedSds, rowWeightedVars
Loading required package: Biobase
Welcome to Bioconductor
Vignettes contain introductory material; view with
'browseVignettes()'. To cite Bioconductor, see
'citation("Biobase")', and for packages 'citation("pkgname")'.
Attaching package: 'Biobase'
The following object is masked from 'package:MatrixGenerics':
rowMedians
The following objects are masked from 'package:matrixStats':
anyMissing, rowMedians
>
> test_check("csaw")
[E::sam_itr_next] Null iterator
[ FAIL 0 | WARN 37 | SKIP 0 | PASS 2695 ]
[ FAIL 0 | WARN 37 | SKIP 0 | PASS 2695 ]
>
>
> proc.time()
user system elapsed
319.62 11.39 355.10
csaw.Rcheck/csaw-Ex.timings
| name | user | system | elapsed | |
| SEmethods | 0.56 | 0.02 | 0.58 | |
| calculateCPM | 0.40 | 0.00 | 0.41 | |
| checkBimodality | 0.72 | 0.00 | 0.72 | |
| clusterFDR | 1.86 | 0.08 | 1.94 | |
| clusterWindows | 2.12 | 0.08 | 2.20 | |
| clusterWindowsList | 3.55 | 0.08 | 3.62 | |
| combineTests | 0.17 | 0.00 | 0.18 | |
| correlateReads | 0.34 | 0.03 | 0.37 | |
| csawUsersGuide | 0 | 0 | 0 | |
| defunct | 0 | 0 | 0 | |
| detailRanges | 15.32 | 0.51 | 15.94 | |
| empiricalFDR | 0.15 | 0.00 | 0.15 | |
| extractReads | 1.19 | 0.13 | 1.32 | |
| filterWindows | 1.10 | 0.00 | 1.11 | |
| findMaxima | 0.27 | 0.00 | 0.27 | |
| getBestTest | 0.16 | 0.00 | 0.15 | |
| getPESizes | 0.11 | 0.03 | 0.14 | |
| getWidths | 0.73 | 0.02 | 0.75 | |
| maximizeCcf | 0 | 0 | 0 | |
| mergeResults | 0.20 | 0.00 | 0.21 | |
| mergeResultsList | 0.27 | 0.03 | 0.29 | |
| mergeWindows | 0.09 | 0.00 | 0.10 | |
| mergeWindowsList | 0.77 | 0.04 | 0.81 | |
| minimalTests | 0.01 | 0.00 | 0.02 | |
| mixedTests | 0.10 | 0.00 | 0.09 | |
| normFactors | 0.03 | 0.00 | 0.03 | |
| normOffsets | 0.08 | 0.00 | 0.08 | |
| overlapStats | 0.81 | 0.00 | 0.81 | |
| profileSites | 1.09 | 0.03 | 1.12 | |
| readParam | 0.07 | 0.00 | 0.07 | |
| regionCounts | 0.48 | 0.02 | 0.50 | |
| scaledAverage | 0.58 | 0.00 | 0.57 | |
| strandedCounts | 2.75 | 0.04 | 2.80 | |
| upweightSummit | 0.00 | 0.00 | 0.02 | |
| windowCounts | 1.36 | 0.04 | 1.39 | |
| wwhm | 0.13 | 0.00 | 0.12 | |