| Back to Multiple platform build/check report for BioC 3.22: simplified long | 
 | 
This page was generated on 2025-08-15 12:06 -0400 (Fri, 15 Aug 2025).
| Hostname | OS | Arch (*) | R version | Installed pkgs | 
|---|---|---|---|---|
| nebbiolo2 | Linux (Ubuntu 24.04.3 LTS) | x86_64 | 4.5.1 (2025-06-13) -- "Great Square Root" | 4818 | 
| palomino8 | Windows Server 2022 Datacenter | x64 | 4.5.1 (2025-06-13 ucrt) -- "Great Square Root" | 4554 | 
| lconway | macOS 12.7.1 Monterey | x86_64 | 4.5.1 (2025-06-13) -- "Great Square Root" | 4595 | 
| kjohnson3 | macOS 13.7.7 Ventura | arm64 | 4.5.1 Patched (2025-06-14 r88325) -- "Great Square Root" | 4537 | 
| taishan | Linux (openEuler 24.03 LTS) | aarch64 | 4.5.0 (2025-04-11) -- "How About a Twenty-Six" | 4535 | 
| Click on any hostname to see more info about the system (e.g. compilers) (*) as reported by 'uname -p', except on Windows and Mac OS X | ||||
| Package 178/2317 | Hostname | OS / Arch | INSTALL | BUILD | CHECK | BUILD BIN | ||||||||
| bioCancer 1.37.0  (landing page) Karim Mezhoud 
 | nebbiolo2 | Linux (Ubuntu 24.04.3 LTS) / x86_64 | OK | OK | OK |  | ||||||||
| palomino8 | Windows Server 2022 Datacenter / x64 | OK | OK | OK | OK |  | ||||||||
| lconway | macOS 12.7.1 Monterey / x86_64 | OK | OK | OK | OK |  | ||||||||
| kjohnson3 | macOS 13.7.7 Ventura / arm64 | OK | OK | OK | OK |  | ||||||||
| taishan | Linux (openEuler 24.03 LTS) / aarch64 | OK | OK | OK | ||||||||||
| To the developers/maintainers of the bioCancer package: - Allow up to 24 hours (and sometimes 48 hours) for your latest push to git@git.bioconductor.org:packages/bioCancer.git to reflect on this report. See Troubleshooting Build Report for more information. - Use the following Renviron settings to reproduce errors and warnings. - If 'R CMD check' started to fail recently on the Linux builder(s) over a missing dependency, add the missing dependency to 'Suggests:' in your DESCRIPTION file. See Renviron.bioc for more information. | 
| Package: bioCancer | 
| Version: 1.37.0 | 
| Command: chmod a+r bioCancer -R && F:\biocbuild\bbs-3.22-bioc\R\bin\R.exe CMD build --keep-empty-dirs --no-resave-data bioCancer | 
| StartedAt: 2025-08-14 18:43:05 -0400 (Thu, 14 Aug 2025) | 
| EndedAt: 2025-08-14 18:44:58 -0400 (Thu, 14 Aug 2025) | 
| EllapsedTime: 113.6 seconds | 
| RetCode: 0 | 
| Status: OK | 
| PackageFile: bioCancer_1.37.0.tar.gz | 
| PackageFileSize: 9.457 MiB | 
##############################################################################
##############################################################################
###
### Running command:
###
###   chmod a+r bioCancer -R && F:\biocbuild\bbs-3.22-bioc\R\bin\R.exe CMD build --keep-empty-dirs --no-resave-data bioCancer
###
##############################################################################
##############################################################################
* checking for file 'bioCancer/DESCRIPTION' ... OK
* preparing 'bioCancer':
* checking DESCRIPTION meta-information ... OK
* installing the package to build vignettes
* creating vignettes ... OK
* checking for LF line-endings in source and make files and shell scripts
* checking for empty or unneeded directories
  NB: this package now depends on R (>= 4.1.0)
  WARNING: Added dependency on R >= 4.1.0 because package code uses the
  pipe |> or function shorthand \(...) syntax added in R 4.1.0.
  File(s) using such syntax:
    'Enrich.R' 'cgdsr.R' 'geNetClassifier.R' 'getListProfData.R'
* building 'bioCancer_1.37.0.tar.gz'