| Back to Multiple platform build/check report for BioC 3.22: simplified long |
|
This page was generated on 2025-10-24 12:06 -0400 (Fri, 24 Oct 2025).
| Hostname | OS | Arch (*) | R version | Installed pkgs |
|---|---|---|---|---|
| nebbiolo2 | Linux (Ubuntu 24.04.3 LTS) | x86_64 | 4.5.1 Patched (2025-08-23 r88802) -- "Great Square Root" | 4898 |
| lconway | macOS 12.7.6 Monterey | x86_64 | 4.5.1 Patched (2025-09-10 r88807) -- "Great Square Root" | 4688 |
| kjohnson3 | macOS 13.7.7 Ventura | arm64 | 4.5.1 Patched (2025-09-10 r88807) -- "Great Square Root" | 4634 |
| taishan | Linux (openEuler 24.03 LTS) | aarch64 | 4.5.0 (2025-04-11) -- "How About a Twenty-Six" | 4658 |
| Click on any hostname to see more info about the system (e.g. compilers) (*) as reported by 'uname -p', except on Windows and Mac OS X | ||||
| Package 155/2359 | Hostname | OS / Arch | INSTALL | BUILD | CHECK | BUILD BIN | ||||||||
| bcSeq 1.31.0 (landing page) Jiaxing Lin
| nebbiolo2 | Linux (Ubuntu 24.04.3 LTS) / x86_64 | OK | OK | WARNINGS | |||||||||
| lconway | macOS 12.7.6 Monterey / x86_64 | OK | ERROR | skipped | skipped | |||||||||
| kjohnson3 | macOS 13.7.7 Ventura / arm64 | OK | OK | WARNINGS | OK | |||||||||
| taishan | Linux (openEuler 24.03 LTS) / aarch64 | OK | OK | WARNINGS | ||||||||||
|
To the developers/maintainers of the bcSeq package: - Allow up to 24 hours (and sometimes 48 hours) for your latest push to git@git.bioconductor.org:packages/bcSeq.git to reflect on this report. See Troubleshooting Build Report for more information. - Use the following Renviron settings to reproduce errors and warnings. - If 'R CMD check' started to fail recently on the Linux builder(s) over a missing dependency, add the missing dependency to 'Suggests:' in your DESCRIPTION file. See Renviron.bioc for more information. |
| Package: bcSeq |
| Version: 1.31.0 |
| Command: rm -rf bcSeq.buildbin-libdir && mkdir bcSeq.buildbin-libdir && /Users/biocbuild/BBS/utils/build-universal.sh bcSeq_1.31.0.tar.gz /Library/Frameworks/R.framework/Resources/bin/R bcSeq.buildbin-libdir |
| StartedAt: 2025-10-23 23:01:22 -0400 (Thu, 23 Oct 2025) |
| EndedAt: 2025-10-23 23:01:35 -0400 (Thu, 23 Oct 2025) |
| EllapsedTime: 13.4 seconds |
| RetCode: 0 |
| Status: OK |
| PackageFile: bcSeq_1.31.0.tgz |
| PackageFileSize: 350.6 KiB |
##############################################################################
##############################################################################
###
### Running command:
###
### rm -rf bcSeq.buildbin-libdir && mkdir bcSeq.buildbin-libdir && /Users/biocbuild/BBS/utils/build-universal.sh bcSeq_1.31.0.tar.gz /Library/Frameworks/R.framework/Resources/bin/R bcSeq.buildbin-libdir
###
##############################################################################
##############################################################################
>>>>>>>
>>>>>>> INSTALLATION WITH 'R CMD INSTALL --preclean --no-multiarch --library=bcSeq.buildbin-libdir bcSeq_1.31.0.tar.gz'
>>>>>>>
* installing *source* package ‘bcSeq’ ...
** this is package ‘bcSeq’ version ‘1.31.0’
** using staged installation
** libs
using C compiler: ‘Apple clang version 15.0.0 (clang-1500.1.0.2.5)’
using C++ compiler: ‘Apple clang version 15.0.0 (clang-1500.1.0.2.5)’
using C++11
using SDK: ‘MacOSX11.3.1.sdk’
clang++ -arch arm64 -std=gnu++11 -I"/Library/Frameworks/R.framework/Resources/include" -DNDEBUG -I'/Library/Frameworks/R.framework/Versions/4.5-arm64/Resources/library/Rcpp/include' -I'/Library/Frameworks/R.framework/Versions/4.5-arm64/Resources/library/Matrix/include' -I/opt/R/arm64/include -pthread -fPIC -falign-functions=64 -Wall -g -O2 -c CRISPR_matching.cpp -o CRISPR_matching.o
In file included from CRISPR_matching.cpp:3:
In file included from ./helper/count.h:6:
./helper/fastqCheck.h:54:26: warning: unqualified call to 'std::move' [-Wunqualified-std-cast-call]
sequence.push_back(move(line));
^
std::
./helper/fastqCheck.h:55:30: warning: unqualified call to 'std::move' [-Wunqualified-std-cast-call]
sequence_ids.push_back(move(id));
^
std::
./helper/fastqCheck.h:56:28: warning: unqualified call to 'std::move' [-Wunqualified-std-cast-call]
phredScore.push_back(move(phred));
^
std::
In file included from CRISPR_matching.cpp:3:
./helper/count.h:37:25: warning: unqualified call to 'std::move' [-Wunqualified-std-cast-call]
library.push_back(move(line));
^
std::
./helper/count.h:38:29: warning: unqualified call to 'std::move' [-Wunqualified-std-cast-call]
library_ids.push_back(move(id));
^
std::
./helper/count.h:72:25: warning: unqualified call to 'std::move' [-Wunqualified-std-cast-call]
library.push_back(move(line));
^
std::
./helper/count.h:73:29: warning: unqualified call to 'std::move' [-Wunqualified-std-cast-call]
library_ids.push_back(move(id));
^
std::
7 warnings generated.
clang++ -arch arm64 -std=gnu++11 -I"/Library/Frameworks/R.framework/Resources/include" -DNDEBUG -I'/Library/Frameworks/R.framework/Versions/4.5-arm64/Resources/library/Rcpp/include' -I'/Library/Frameworks/R.framework/Versions/4.5-arm64/Resources/library/Matrix/include' -I/opt/R/arm64/include -pthread -fPIC -falign-functions=64 -Wall -g -O2 -c RcppExports.cpp -o RcppExports.o
clang++ -arch arm64 -std=gnu++11 -I"/Library/Frameworks/R.framework/Resources/include" -DNDEBUG -I'/Library/Frameworks/R.framework/Versions/4.5-arm64/Resources/library/Rcpp/include' -I'/Library/Frameworks/R.framework/Versions/4.5-arm64/Resources/library/Matrix/include' -I/opt/R/arm64/include -pthread -fPIC -falign-functions=64 -Wall -g -O2 -c Trie_edit.cpp -o Trie_edit.o
clang++ -arch arm64 -std=gnu++11 -I"/Library/Frameworks/R.framework/Resources/include" -DNDEBUG -I'/Library/Frameworks/R.framework/Versions/4.5-arm64/Resources/library/Rcpp/include' -I'/Library/Frameworks/R.framework/Versions/4.5-arm64/Resources/library/Matrix/include' -I/opt/R/arm64/include -pthread -fPIC -falign-functions=64 -Wall -g -O2 -c Trie_hamming.cpp -o Trie_hamming.o
clang++ -arch arm64 -std=gnu++11 -I"/Library/Frameworks/R.framework/Resources/include" -DNDEBUG -I'/Library/Frameworks/R.framework/Versions/4.5-arm64/Resources/library/Rcpp/include' -I'/Library/Frameworks/R.framework/Versions/4.5-arm64/Resources/library/Matrix/include' -I/opt/R/arm64/include -pthread -fPIC -falign-functions=64 -Wall -g -O2 -c Trie_util.cpp -o Trie_util.o
clang++ -arch arm64 -std=gnu++11 -I"/Library/Frameworks/R.framework/Resources/include" -DNDEBUG -I'/Library/Frameworks/R.framework/Versions/4.5-arm64/Resources/library/Rcpp/include' -I'/Library/Frameworks/R.framework/Versions/4.5-arm64/Resources/library/Matrix/include' -I/opt/R/arm64/include -pthread -fPIC -falign-functions=64 -Wall -g -O2 -c alignment.cpp -o alignment.o
clang -arch arm64 -std=gnu2x -I"/Library/Frameworks/R.framework/Resources/include" -DNDEBUG -I'/Library/Frameworks/R.framework/Versions/4.5-arm64/Resources/library/Rcpp/include' -I'/Library/Frameworks/R.framework/Versions/4.5-arm64/Resources/library/Matrix/include' -I/opt/R/arm64/include -fPIC -falign-functions=64 -Wall -g -O2 -c init.c -o init.o
clang++ -arch arm64 -std=gnu++11 -I"/Library/Frameworks/R.framework/Resources/include" -DNDEBUG -I'/Library/Frameworks/R.framework/Versions/4.5-arm64/Resources/library/Rcpp/include' -I'/Library/Frameworks/R.framework/Versions/4.5-arm64/Resources/library/Matrix/include' -I/opt/R/arm64/include -pthread -fPIC -falign-functions=64 -Wall -g -O2 -c trimRead.cpp -o trimRead.o
clang++ -arch arm64 -std=gnu++11 -I"/Library/Frameworks/R.framework/Resources/include" -DNDEBUG -I'/Library/Frameworks/R.framework/Versions/4.5-arm64/Resources/library/Rcpp/include' -I'/Library/Frameworks/R.framework/Versions/4.5-arm64/Resources/library/Matrix/include' -I/opt/R/arm64/include -pthread -fPIC -falign-functions=64 -Wall -g -O2 -c uniqueBar.cpp -o uniqueBar.o
clang++ -arch arm64 -std=gnu++11 -dynamiclib -Wl,-headerpad_max_install_names -undefined dynamic_lookup -L/Library/Frameworks/R.framework/Resources/lib -L/opt/R/arm64/lib -o bcSeq.so CRISPR_matching.o RcppExports.o Trie_edit.o Trie_hamming.o Trie_util.o alignment.o init.o trimRead.o uniqueBar.o -F/Library/Frameworks/R.framework/.. -framework R
installing to /Users/biocbuild/bbs-3.22-bioc/meat/bcSeq.buildbin-libdir/00LOCK-bcSeq/00new/bcSeq/libs
** R
** inst
** byte-compile and prepare package for lazy loading
** help
*** installing help indices
** building package indices
** installing vignettes
** testing if installed package can be loaded from temporary location
** checking absolute paths in shared objects and dynamic libraries
** testing if installed package can be loaded from final location
** testing if installed package keeps a record of temporary installation path
* DONE (bcSeq)
>>>>>>>
>>>>>>> FIXING PATHS TO DYNAMIC LIBRARIES FOR bcSeq.buildbin-libdir/bcSeq/libs/bcSeq.so
>>>>>>>
>>>>>>> Paths before fix:
bcSeq.buildbin-libdir/bcSeq/libs/bcSeq.so:
bcSeq.so (compatibility version 0.0.0, current version 0.0.0)
/Library/Frameworks/R.framework/Versions/4.5-arm64/Resources/lib/libR.dylib (compatibility version 4.5.0, current version 4.5.1)
/usr/lib/libc++.1.dylib (compatibility version 1.0.0, current version 905.6.0)
/usr/lib/libSystem.B.dylib (compatibility version 1.0.0, current version 1292.100.5)
>>>>>>> Fix with install_name_tool:
install_name_tool -change "/usr/local/lib/libgcc_s.1.1.dylib" "/Library/Frameworks/R.framework/Versions/4.5-arm64/Resources/lib/libgcc_s.1.1.dylib" "bcSeq.buildbin-libdir/bcSeq/libs/bcSeq.so"
install_name_tool -change "/usr/local/lib/libgfortran.5.dylib" "/Library/Frameworks/R.framework/Versions/4.5-arm64/Resources/lib/libgfortran.5.dylib" "bcSeq.buildbin-libdir/bcSeq/libs/bcSeq.so"
install_name_tool -change "/usr/local/lib/libquadmath.0.dylib" "/Library/Frameworks/R.framework/Versions/4.5-arm64/Resources/lib/libquadmath.0.dylib" "bcSeq.buildbin-libdir/bcSeq/libs/bcSeq.so"
>>>>>>> Paths after fix:
bcSeq.buildbin-libdir/bcSeq/libs/bcSeq.so:
bcSeq.so (compatibility version 0.0.0, current version 0.0.0)
/Library/Frameworks/R.framework/Versions/4.5-arm64/Resources/lib/libR.dylib (compatibility version 4.5.0, current version 4.5.1)
/usr/lib/libc++.1.dylib (compatibility version 1.0.0, current version 905.6.0)
/usr/lib/libSystem.B.dylib (compatibility version 1.0.0, current version 1292.100.5)