| Back to Multiple platform build/check report for BioC 3.22: simplified long |
|
This page was generated on 2025-10-25 12:03 -0400 (Sat, 25 Oct 2025).
| Hostname | OS | Arch (*) | R version | Installed pkgs |
|---|---|---|---|---|
| nebbiolo2 | Linux (Ubuntu 24.04.3 LTS) | x86_64 | 4.5.1 Patched (2025-08-23 r88802) -- "Great Square Root" | 4901 |
| lconway | macOS 12.7.6 Monterey | x86_64 | 4.5.1 Patched (2025-09-10 r88807) -- "Great Square Root" | 4691 |
| kjohnson3 | macOS 13.7.7 Ventura | arm64 | 4.5.1 Patched (2025-09-10 r88807) -- "Great Square Root" | 4637 |
| taishan | Linux (openEuler 24.03 LTS) | aarch64 | 4.5.0 (2025-04-11) -- "How About a Twenty-Six" | 4658 |
| Click on any hostname to see more info about the system (e.g. compilers) (*) as reported by 'uname -p', except on Windows and Mac OS X | ||||
| Package 119/2361 | Hostname | OS / Arch | INSTALL | BUILD | CHECK | BUILD BIN | ||||||||
| autonomics 1.17.16 (landing page) Aditya Bhagwat
| nebbiolo2 | Linux (Ubuntu 24.04.3 LTS) / x86_64 | OK | OK | OK | |||||||||
| lconway | macOS 12.7.6 Monterey / x86_64 | OK | OK | OK | OK | |||||||||
| kjohnson3 | macOS 13.7.7 Ventura / arm64 | OK | OK | OK | OK | |||||||||
| taishan | Linux (openEuler 24.03 LTS) / aarch64 | OK | NA | NA | ||||||||||
|
To the developers/maintainers of the autonomics package: - Allow up to 24 hours (and sometimes 48 hours) for your latest push to git@git.bioconductor.org:packages/autonomics.git to reflect on this report. See Troubleshooting Build Report for more information. - Use the following Renviron settings to reproduce errors and warnings. - If 'R CMD check' started to fail recently on the Linux builder(s) over a missing dependency, add the missing dependency to 'Suggests:' in your DESCRIPTION file. See Renviron.bioc for more information. |
| Package: autonomics |
| Version: 1.17.16 |
| Command: /home/biocbuild/bbs-3.22-bioc/R/bin/R CMD check --install=check:autonomics.install-out.txt --library=/home/biocbuild/bbs-3.22-bioc/R/site-library --timings autonomics_1.17.16.tar.gz |
| StartedAt: 2025-10-24 21:16:50 -0400 (Fri, 24 Oct 2025) |
| EndedAt: 2025-10-24 21:36:35 -0400 (Fri, 24 Oct 2025) |
| EllapsedTime: 1185.1 seconds |
| RetCode: 0 |
| Status: OK |
| CheckDir: autonomics.Rcheck |
| Warnings: 0 |
##############################################################################
##############################################################################
###
### Running command:
###
### /home/biocbuild/bbs-3.22-bioc/R/bin/R CMD check --install=check:autonomics.install-out.txt --library=/home/biocbuild/bbs-3.22-bioc/R/site-library --timings autonomics_1.17.16.tar.gz
###
##############################################################################
##############################################################################
* using log directory ‘/home/biocbuild/bbs-3.22-bioc/meat/autonomics.Rcheck’
* using R version 4.5.1 Patched (2025-08-23 r88802)
* using platform: x86_64-pc-linux-gnu
* R was compiled by
gcc (Ubuntu 13.3.0-6ubuntu2~24.04) 13.3.0
GNU Fortran (Ubuntu 13.3.0-6ubuntu2~24.04) 13.3.0
* running under: Ubuntu 24.04.3 LTS
* using session charset: UTF-8
* checking for file ‘autonomics/DESCRIPTION’ ... OK
* checking extension type ... Package
* this is package ‘autonomics’ version ‘1.17.16’
* package encoding: UTF-8
* checking package namespace information ... OK
* checking package dependencies ... INFO
Imports includes 32 non-default packages.
Importing from so many packages makes the package vulnerable to any of
them becoming unavailable. Move as many as possible to Suggests and
use conditionally.
* checking if this is a source package ... OK
* checking if there is a namespace ... OK
* checking for hidden files and directories ... NOTE
Found the following hidden files and directories:
.BBSoptions
These were most likely included in error. See section ‘Package
structure’ in the ‘Writing R Extensions’ manual.
* checking for portable file names ... OK
* checking for sufficient/correct file permissions ... OK
* checking whether package ‘autonomics’ can be installed ... OK
* checking installed package size ... OK
* checking package directory ... OK
* checking ‘build’ directory ... OK
* checking DESCRIPTION meta-information ... OK
* checking top-level files ... OK
* checking for left-over files ... OK
* checking index information ... OK
* checking package subdirectories ... OK
* checking code files for non-ASCII characters ... OK
* checking R files for syntax errors ... OK
* checking whether the package can be loaded ... OK
* checking whether the package can be loaded with stated dependencies ... OK
* checking whether the package can be unloaded cleanly ... OK
* checking whether the namespace can be loaded with stated dependencies ... OK
* checking whether the namespace can be unloaded cleanly ... OK
* checking loading without being on the library search path ... OK
* checking dependencies in R code ... OK
* checking S3 generic/method consistency ... OK
* checking replacement functions ... OK
* checking foreign function calls ... OK
* checking R code for possible problems ... OK
* checking Rd files ... OK
* checking Rd metadata ... OK
* checking Rd cross-references ... NOTE
Non-topic package-anchored link(s) in Rd file 'reexports.Rd':
‘[magrittr:compound]{%<>%}’ ‘[magrittr:pipe]{%>%}’
‘[magrittr:aliases]{extract}’
See section 'Cross-references' in the 'Writing R Extensions' manual.
* checking for missing documentation entries ... OK
* checking for code/documentation mismatches ... OK
* checking Rd \usage sections ... OK
* checking Rd contents ... OK
* checking for unstated dependencies in examples ... OK
* checking files in ‘vignettes’ ... OK
* checking examples ... OK
Examples with CPU (user + system) or elapsed time > 5s
user system elapsed
write_xl 161.122 1.694 162.778
read_diann_proteingroups 98.887 0.883 94.888
awblinmod 40.325 0.109 39.041
read_rnaseq_counts 27.939 0.870 28.557
LINMOD 24.793 0.417 24.530
rm_diann_contaminants 21.460 0.519 20.609
plot_exprs 19.796 0.048 19.710
plot_exprs_per_coef 19.235 0.107 19.250
default_formula 17.943 0.214 17.710
plot_volcano 13.471 0.016 13.438
analyze 13.128 0.058 13.088
plot_summary 13.013 0.071 12.947
read_metabolon 12.742 0.024 12.678
read_somascan 12.730 0.023 12.676
fit_survival 10.221 0.180 10.404
explore-transforms 9.553 0.181 9.735
plot_densities 9.429 0.026 9.326
fcluster 8.977 0.214 9.133
ftype 8.347 0.112 8.066
plot_detections 7.097 0.022 7.060
biplot_covariates 6.577 0.011 6.566
plot_xy_density 6.308 0.031 6.340
read_fragpipe 5.900 0.005 5.634
plot_subgroup_points 5.818 0.006 5.777
subtract_baseline 4.981 0.128 5.053
log2transform 4.962 0.072 5.035
* checking for unstated dependencies in ‘tests’ ... OK
* checking tests ...
Running ‘testthat.R’
OK
* checking for unstated dependencies in vignettes ... OK
* checking package vignettes ... OK
* checking re-building of vignette outputs ... OK
* checking PDF version of manual ... OK
* DONE
Status: 2 NOTEs
See
‘/home/biocbuild/bbs-3.22-bioc/meat/autonomics.Rcheck/00check.log’
for details.
autonomics.Rcheck/00install.out
############################################################################## ############################################################################## ### ### Running command: ### ### /home/biocbuild/bbs-3.22-bioc/R/bin/R CMD INSTALL autonomics ### ############################################################################## ############################################################################## * installing to library ‘/home/biocbuild/bbs-3.22-bioc/R/site-library’ * installing *source* package ‘autonomics’ ... ** this is package ‘autonomics’ version ‘1.17.16’ ** using staged installation ** R ** inst ** byte-compile and prepare package for lazy loading Note: wrong number of arguments to 'seq_along' Note: wrong number of arguments to 'sqrt' ** help *** installing help indices ** building package indices ** installing vignettes ** testing if installed package can be loaded from temporary location ** testing if installed package can be loaded from final location ** testing if installed package keeps a record of temporary installation path * DONE (autonomics)
autonomics.Rcheck/tests/testthat.Rout
R version 4.5.1 Patched (2025-08-23 r88802) -- "Great Square Root"
Copyright (C) 2025 The R Foundation for Statistical Computing
Platform: x86_64-pc-linux-gnu
R is free software and comes with ABSOLUTELY NO WARRANTY.
You are welcome to redistribute it under certain conditions.
Type 'license()' or 'licence()' for distribution details.
R is a collaborative project with many contributors.
Type 'contributors()' for more information and
'citation()' on how to cite R or R packages in publications.
Type 'demo()' for some demos, 'help()' for on-line help, or
'help.start()' for an HTML browser interface to help.
Type 'q()' to quit R.
> library(testthat)
> library(autonomics)
Attaching package: 'autonomics'
The following objects are masked from 'package:stats':
biplot, loadings
The following object is masked from 'package:base':
beta
>
> test_check("autonomics")
[ FAIL 0 | WARN 3 | SKIP 0 | PASS 158 ]
[ FAIL 0 | WARN 3 | SKIP 0 | PASS 158 ]
>
> proc.time()
user system elapsed
144.315 4.193 146.088
autonomics.Rcheck/autonomics-Ex.timings
| name | user | system | elapsed | |
| AUTONOMICS_DATASETS | 0.000 | 0.000 | 0.001 | |
| COMPOUNDDISCOVERER_PATTERNS | 0.000 | 0.000 | 0.001 | |
| LINMOD | 24.793 | 0.417 | 24.530 | |
| LINMODENGINES | 0.000 | 0.000 | 0.001 | |
| MAXQUANT_PATTERNS | 0 | 0 | 0 | |
| TAXON_TO_ORGNAME | 0.000 | 0.000 | 0.001 | |
| TESTS | 0 | 0 | 0 | |
| X | 1.195 | 0.012 | 1.168 | |
| abstract_fit | 0.987 | 0.014 | 0.976 | |
| add_adjusted_pvalues | 0.500 | 0.011 | 0.512 | |
| add_assay_means | 0.333 | 0.003 | 0.336 | |
| add_facetvars | 1.411 | 0.019 | 1.391 | |
| add_opentargets_by_uniprot | 0.366 | 0.007 | 0.374 | |
| add_psp | 0.496 | 0.014 | 0.510 | |
| add_smiles | 0.463 | 0.006 | 0.447 | |
| all_non_numeric | 0.591 | 0.001 | 0.593 | |
| analysis | 0.462 | 0.004 | 0.466 | |
| analyze | 13.128 | 0.058 | 13.088 | |
| annotate_maxquant | 0.921 | 0.065 | 0.986 | |
| annotate_uniprot_rest | 1.257 | 0.142 | 3.315 | |
| assert_is_valid_sumexp | 0.514 | 0.013 | 0.505 | |
| awblinmod | 40.325 | 0.109 | 39.041 | |
| biplot | 3.616 | 0.016 | 3.593 | |
| biplot_corrections | 3.305 | 0.007 | 3.290 | |
| biplot_covariates | 6.577 | 0.011 | 6.566 | |
| block2limma | 0.002 | 0.000 | 0.002 | |
| block2lm | 0.003 | 0.000 | 0.004 | |
| block2lme | 0.002 | 0.000 | 0.002 | |
| block2lmer | 0.003 | 0.000 | 0.004 | |
| block_has_two_levels | 0.653 | 0.008 | 0.624 | |
| center | 1.811 | 0.004 | 1.811 | |
| code | 4.684 | 0.005 | 4.667 | |
| collapsed_entrezg_to_symbol | 0.887 | 0.039 | 0.926 | |
| contrast_subgroup_cols | 0.568 | 0.008 | 0.553 | |
| contrastdt | 0.562 | 0.000 | 0.561 | |
| count_in | 0.001 | 0.000 | 0.001 | |
| counts | 0.344 | 0.001 | 0.345 | |
| counts2cpm | 0.291 | 0.000 | 0.290 | |
| counts2tpm | 0.278 | 0.000 | 0.278 | |
| cpm | 0.332 | 0.000 | 0.332 | |
| create_design | 0.680 | 0.007 | 0.665 | |
| default_formula | 17.943 | 0.214 | 17.710 | |
| default_geom | 0.481 | 0.007 | 0.457 | |
| default_sfile | 0.002 | 0.000 | 0.002 | |
| demultiplex | 0.012 | 0.001 | 0.013 | |
| densities | 0.202 | 0.000 | 0.203 | |
| dequantify | 0.001 | 0.001 | 0.002 | |
| dequantify_compounddiscoverer | 0.001 | 0.000 | 0.001 | |
| dot-coxph | 0.351 | 0.005 | 0.356 | |
| dot-merge | 0.018 | 0.000 | 0.018 | |
| dot-read_maxquant_proteingroups | 0.111 | 0.002 | 0.112 | |
| download_data | 0.001 | 0.000 | 0.000 | |
| download_gtf | 0 | 0 | 0 | |
| download_mcclain21 | 0.001 | 0.000 | 0.000 | |
| dt2mat | 0.003 | 0.000 | 0.003 | |
| enrichment | 1.102 | 0.000 | 1.101 | |
| entrezg_to_symbol | 0.128 | 0.001 | 0.127 | |
| explore-transforms | 9.553 | 0.181 | 9.735 | |
| extract_contrast_features | 4.304 | 0.078 | 4.360 | |
| extract_rectangle | 0.109 | 0.007 | 0.116 | |
| factor.vars | 0.182 | 0.010 | 0.193 | |
| factorize | 0.773 | 0.042 | 0.815 | |
| fcluster | 8.977 | 0.214 | 9.133 | |
| fcor | 1.409 | 0.013 | 1.422 | |
| fdata | 0.484 | 0.008 | 0.492 | |
| fdr2p | 0.917 | 0.015 | 0.892 | |
| filter_exprs_replicated_in_some_subgroup | 0.964 | 0.009 | 0.871 | |
| filter_features | 0.524 | 0.009 | 0.494 | |
| filter_medoid | 0.527 | 0.003 | 0.530 | |
| filter_samples | 0.532 | 0.011 | 0.503 | |
| fit_survival | 10.221 | 0.180 | 10.404 | |
| fits | 0.283 | 0.002 | 0.286 | |
| fix_xlgenes | 0.002 | 0.000 | 0.002 | |
| flevels | 0.368 | 0.006 | 0.374 | |
| fnames | 0.447 | 0.009 | 0.457 | |
| formula2str | 0.001 | 0.000 | 0.000 | |
| ftype | 8.347 | 0.112 | 8.066 | |
| fvalues | 0.376 | 0.001 | 0.377 | |
| fvars | 0.364 | 0.001 | 0.366 | |
| genome_to_orgdb | 0.000 | 0.000 | 0.001 | |
| group_by_level | 0.000 | 0.001 | 0.001 | |
| guess_compounddiscoverer_quantity | 0.001 | 0.000 | 0.001 | |
| guess_fitsep | 0.490 | 0.017 | 0.507 | |
| guess_maxquant_quantity | 0.006 | 0.000 | 0.006 | |
| guess_sep | 0.462 | 0.007 | 0.447 | |
| has_multiple_levels | 0.055 | 0.000 | 0.055 | |
| hdlproteins | 0.039 | 0.004 | 0.046 | |
| impute | 3.275 | 0.005 | 3.280 | |
| invert_subgroups | 0.656 | 0.000 | 0.655 | |
| is_character_matrix | 0.139 | 0.000 | 0.139 | |
| is_collapsed_subset | 0 | 0 | 0 | |
| is_compounddiscoverer_output | 0.087 | 0.031 | 0.188 | |
| is_correlation_matrix | 0.001 | 0.000 | 0.001 | |
| is_diann_report | 0.130 | 0.010 | 0.105 | |
| is_fastadt | 0.065 | 0.000 | 0.061 | |
| is_file | 0.000 | 0.000 | 0.001 | |
| is_fraction | 0.002 | 0.000 | 0.002 | |
| is_fragpipe_tsv | 0.106 | 0.004 | 0.074 | |
| is_imputed | 0.754 | 0.009 | 0.757 | |
| is_maxquant_phosphosites | 0.083 | 0.005 | 0.066 | |
| is_maxquant_proteingroups | 0.079 | 0.002 | 0.059 | |
| is_positive_number | 0.002 | 0.000 | 0.002 | |
| is_scalar_subset | 0.296 | 0.003 | 0.299 | |
| is_sig | 1.375 | 0.005 | 1.380 | |
| is_valid_formula | 0.04 | 0.00 | 0.04 | |
| keep_estimable_features | 0.756 | 0.005 | 0.713 | |
| label2index | 0.001 | 0.000 | 0.000 | |
| list2mat | 0.001 | 0.000 | 0.000 | |
| log2counts | 0.355 | 0.002 | 0.357 | |
| log2cpm | 0.286 | 0.000 | 0.286 | |
| log2diffs | 0.316 | 0.000 | 0.315 | |
| log2proteins | 0.308 | 0.000 | 0.308 | |
| log2sites | 0.357 | 0.000 | 0.357 | |
| log2tpm | 0.287 | 0.002 | 0.289 | |
| log2transform | 4.962 | 0.072 | 5.035 | |
| logical2factor | 0.001 | 0.000 | 0.002 | |
| make_alpha_palette | 0.501 | 0.014 | 0.493 | |
| make_colors | 0.009 | 0.000 | 0.010 | |
| make_volcano_dt | 0.833 | 0.041 | 0.875 | |
| map_fvalues | 0.354 | 0.009 | 0.363 | |
| matrix2sumexp | 0.996 | 0.010 | 0.983 | |
| mclust_breaks | 0.493 | 0.024 | 0.518 | |
| merge_sample_file | 0.458 | 0.005 | 0.463 | |
| merge_sdata | 0.588 | 0.014 | 0.579 | |
| message_df | 0.002 | 0.000 | 0.002 | |
| model_coefs | 0.700 | 0.006 | 0.683 | |
| modelvar | 4.402 | 0.204 | 4.553 | |
| object1 | 0.465 | 0.000 | 0.465 | |
| order_on_p | 1.255 | 0.009 | 1.242 | |
| overall_parameters | 0.027 | 0.000 | 0.027 | |
| pca | 3.036 | 0.019 | 3.033 | |
| pg_to_canonical | 0.005 | 0.000 | 0.005 | |
| plot_coef_densities | 1.250 | 0.010 | 1.239 | |
| plot_contrast_venn | 2.154 | 0.007 | 2.087 | |
| plot_contrastogram | 2.672 | 0.023 | 2.626 | |
| plot_data | 1.568 | 0.005 | 1.540 | |
| plot_densities | 9.429 | 0.026 | 9.326 | |
| plot_design | 0.677 | 0.000 | 0.677 | |
| plot_detections | 7.097 | 0.022 | 7.060 | |
| plot_exprs | 19.796 | 0.048 | 19.710 | |
| plot_exprs_per_coef | 19.235 | 0.107 | 19.250 | |
| plot_fit_summary | 2.145 | 0.006 | 2.100 | |
| plot_heatmap | 1.910 | 0.003 | 1.912 | |
| plot_matrix | 0.506 | 0.009 | 0.491 | |
| plot_subgroup_points | 5.818 | 0.006 | 5.777 | |
| plot_summary | 13.013 | 0.071 | 12.947 | |
| plot_venn | 0.016 | 0.000 | 0.016 | |
| plot_venn_heatmap | 0.02 | 0.00 | 0.02 | |
| plot_violins | 4.820 | 0.038 | 4.837 | |
| plot_volcano | 13.471 | 0.016 | 13.438 | |
| plot_xy_density | 6.308 | 0.031 | 6.340 | |
| preprocess_rnaseq_counts | 0.311 | 0.002 | 0.314 | |
| pull_columns | 0.002 | 0.000 | 0.002 | |
| pvalues_estimable | 0.038 | 0.000 | 0.037 | |
| read_affymetrix | 0 | 0 | 0 | |
| read_diann_proteingroups | 98.887 | 0.883 | 94.888 | |
| read_fragpipe | 5.900 | 0.005 | 5.634 | |
| read_maxquant_phosphosites | 1.478 | 0.008 | 1.486 | |
| read_maxquant_proteingroups | 1.204 | 0.005 | 1.209 | |
| read_metabolon | 12.742 | 0.024 | 12.678 | |
| read_msigdt | 0.001 | 0.000 | 0.001 | |
| read_olink | 1.341 | 0.008 | 1.253 | |
| read_rectangles | 1.318 | 0.042 | 1.361 | |
| read_rnaseq_counts | 27.939 | 0.870 | 28.557 | |
| read_salmon | 0 | 0 | 0 | |
| read_somascan | 12.730 | 0.023 | 12.676 | |
| read_uniprotdt | 0.288 | 0.000 | 0.289 | |
| reset_fit | 4.571 | 0.032 | 4.505 | |
| rm_diann_contaminants | 21.460 | 0.519 | 20.609 | |
| rm_missing_in_some_samples | 0.497 | 0.007 | 0.480 | |
| rm_unmatched_samples | 0.690 | 0.002 | 0.693 | |
| sbind | 4.130 | 0.006 | 4.136 | |
| scaledlibsizes | 0.294 | 0.001 | 0.294 | |
| scoremat | 0.866 | 0.004 | 0.848 | |
| slevels | 0.387 | 0.004 | 0.392 | |
| snames | 0.381 | 0.002 | 0.383 | |
| split_extract_fixed | 0.536 | 0.011 | 0.523 | |
| split_samples | 1.209 | 0.029 | 1.216 | |
| stepauc | 0.329 | 0.039 | 0.368 | |
| stri_any_regex | 0 | 0 | 0 | |
| stri_detect_fixed_in_collapsed | 0.328 | 0.005 | 0.333 | |
| subgroup_matrix | 0.565 | 0.063 | 0.592 | |
| subtract_baseline | 4.981 | 0.128 | 5.053 | |
| sumexp_to_longdt | 1.896 | 0.012 | 1.849 | |
| sumexp_to_tsv | 0.463 | 0.002 | 0.465 | |
| sumexplist_to_longdt | 1.483 | 0.008 | 1.490 | |
| summarize_fit | 1.732 | 0.004 | 1.627 | |
| survobj | 0.139 | 0.000 | 0.139 | |
| svalues | 0.375 | 0.003 | 0.378 | |
| svars | 0.364 | 0.008 | 0.372 | |
| systematic_nas | 0.579 | 0.004 | 0.583 | |
| tag_features | 1.077 | 0.022 | 1.100 | |
| tag_hdlproteins | 0.577 | 0.041 | 0.618 | |
| taxon2org | 0.001 | 0.000 | 0.001 | |
| tpm | 0.323 | 0.015 | 0.338 | |
| uncollapse | 0.029 | 0.001 | 0.029 | |
| values | 0.511 | 0.013 | 0.525 | |
| varlevels_dont_clash | 0.022 | 0.001 | 0.023 | |
| venn_detects | 0.510 | 0.028 | 0.538 | |
| weights | 0.308 | 0.006 | 0.315 | |
| write_xl | 161.122 | 1.694 | 162.778 | |
| zero_to_na | 0.002 | 0.000 | 0.001 | |