| Back to Multiple platform build/check report for BioC 3.22: simplified long |
|
This page was generated on 2025-11-20 12:04 -0500 (Thu, 20 Nov 2025).
| Hostname | OS | Arch (*) | R version | Installed pkgs |
|---|---|---|---|---|
| nebbiolo2 | Linux (Ubuntu 24.04.3 LTS) | x86_64 | 4.5.2 (2025-10-31) -- "[Not] Part in a Rumble" | 4615 |
| merida1 | macOS 12.7.6 Monterey | x86_64 | 4.5.2 Patched (2025-11-05 r88990) -- "[Not] Part in a Rumble" | 4610 |
| kjohnson1 | macOS 13.7.5 Ventura | arm64 | 4.5.2 Patched (2025-11-04 r88984) -- "[Not] Part in a Rumble" | 4598 |
| taishan | Linux (openEuler 24.03 LTS) | aarch64 | 4.5.0 (2025-04-11) -- "How About a Twenty-Six" | 4668 |
| Click on any hostname to see more info about the system (e.g. compilers) (*) as reported by 'uname -p', except on Windows and Mac OS X | ||||
| Package 119/2361 | Hostname | OS / Arch | INSTALL | BUILD | CHECK | BUILD BIN | ||||||||
| autonomics 1.18.0 (landing page) Aditya Bhagwat
| nebbiolo2 | Linux (Ubuntu 24.04.3 LTS) / x86_64 | OK | OK | OK | |||||||||
| merida1 | macOS 12.7.6 Monterey / x86_64 | OK | OK | TIMEOUT | OK | |||||||||
| kjohnson1 | macOS 13.7.5 Ventura / arm64 | OK | OK | OK | OK | |||||||||
| taishan | Linux (openEuler 24.03 LTS) / aarch64 | OK | OK | OK | ||||||||||
|
To the developers/maintainers of the autonomics package: - Allow up to 24 hours (and sometimes 48 hours) for your latest push to git@git.bioconductor.org:packages/autonomics.git to reflect on this report. See Troubleshooting Build Report for more information. - Use the following Renviron settings to reproduce errors and warnings. - If 'R CMD check' started to fail recently on the Linux builder(s) over a missing dependency, add the missing dependency to 'Suggests:' in your DESCRIPTION file. See Renviron.bioc for more information. |
| Package: autonomics |
| Version: 1.18.0 |
| Command: /Library/Frameworks/R.framework/Resources/bin/R CMD check --install=check:autonomics.install-out.txt --library=/Library/Frameworks/R.framework/Resources/library --no-vignettes --timings autonomics_1.18.0.tar.gz |
| StartedAt: 2025-11-18 03:56:47 -0500 (Tue, 18 Nov 2025) |
| EndedAt: 2025-11-18 04:36:47 -0500 (Tue, 18 Nov 2025) |
| EllapsedTime: 2400.4 seconds |
| RetCode: None |
| Status: TIMEOUT |
| CheckDir: autonomics.Rcheck |
| Warnings: NA |
##############################################################################
##############################################################################
###
### Running command:
###
### /Library/Frameworks/R.framework/Resources/bin/R CMD check --install=check:autonomics.install-out.txt --library=/Library/Frameworks/R.framework/Resources/library --no-vignettes --timings autonomics_1.18.0.tar.gz
###
##############################################################################
##############################################################################
* using log directory ‘/Users/biocbuild/bbs-3.22-bioc/meat/autonomics.Rcheck’
* using R version 4.5.2 Patched (2025-11-05 r88990)
* using platform: x86_64-apple-darwin20
* R was compiled by
Apple clang version 14.0.0 (clang-1400.0.29.202)
GNU Fortran (GCC) 14.2.0
* running under: macOS Monterey 12.7.6
* using session charset: UTF-8
* using option ‘--no-vignettes’
* checking for file ‘autonomics/DESCRIPTION’ ... OK
* checking extension type ... Package
* this is package ‘autonomics’ version ‘1.18.0’
* package encoding: UTF-8
* checking package namespace information ... OK
* checking package dependencies ... INFO
Imports includes 32 non-default packages.
Importing from so many packages makes the package vulnerable to any of
them becoming unavailable. Move as many as possible to Suggests and
use conditionally.
* checking if this is a source package ... OK
* checking if there is a namespace ... OK
* checking for hidden files and directories ... NOTE
Found the following hidden files and directories:
.BBSoptions
These were most likely included in error. See section ‘Package
structure’ in the ‘Writing R Extensions’ manual.
* checking for portable file names ... OK
* checking for sufficient/correct file permissions ... OK
* checking whether package ‘autonomics’ can be installed ... OK
* checking installed package size ... OK
* checking package directory ... OK
* checking ‘build’ directory ... OK
* checking DESCRIPTION meta-information ... OK
* checking top-level files ... OK
* checking for left-over files ... OK
* checking index information ... OK
* checking package subdirectories ... OK
* checking code files for non-ASCII characters ... OK
* checking R files for syntax errors ... OK
* checking whether the package can be loaded ... OK
* checking whether the package can be loaded with stated dependencies ... OK
* checking whether the package can be unloaded cleanly ... OK
* checking whether the namespace can be loaded with stated dependencies ... OK
* checking whether the namespace can be unloaded cleanly ... OK
* checking dependencies in R code ... OK
* checking S3 generic/method consistency ... OK
* checking replacement functions ... OK
* checking foreign function calls ... OK
* checking R code for possible problems ... OK
* checking Rd files ... OK
* checking Rd metadata ... OK
* checking Rd cross-references ... NOTE
Non-topic package-anchored link(s) in Rd file 'reexports.Rd':
‘[magrittr:compound]{%<>%}’ ‘[magrittr:pipe]{%>%}’
‘[magrittr:aliases]{extract}’
See section 'Cross-references' in the 'Writing R Extensions' manual.
* checking for missing documentation entries ... OK
* checking for code/documentation mismatches ... OK
* checking Rd \usage sections ... OK
* checking Rd contents ... OK
* checking for unstated dependencies in examples ... OK
* checking files in ‘vignettes’ ... OK
* checking examples ...
autonomics.Rcheck/00install.out
############################################################################## ############################################################################## ### ### Running command: ### ### /Library/Frameworks/R.framework/Resources/bin/R CMD INSTALL autonomics ### ############################################################################## ############################################################################## * installing to library ‘/Library/Frameworks/R.framework/Versions/4.5-x86_64/Resources/library’ * installing *source* package ‘autonomics’ ... ** this is package ‘autonomics’ version ‘1.18.0’ ** using staged installation ** R ** inst ** byte-compile and prepare package for lazy loading Note: wrong number of arguments to 'seq_along' Note: wrong number of arguments to 'sqrt' ** help *** installing help indices ** building package indices ** installing vignettes ** testing if installed package can be loaded from temporary location ** testing if installed package can be loaded from final location ** testing if installed package keeps a record of temporary installation path * DONE (autonomics)
autonomics.Rcheck/autonomics-Ex.timings
| name | user | system | elapsed | |
| AUTONOMICS_DATASETS | 0.000 | 0.002 | 0.002 | |
| COMPOUNDDISCOVERER_PATTERNS | 0.000 | 0.000 | 0.001 | |
| LINMOD | 56.494 | 0.549 | 58.131 | |
| LINMODENGINES | 0.000 | 0.001 | 0.001 | |
| MAXQUANT_PATTERNS | 0.000 | 0.001 | 0.002 | |
| TAXON_TO_ORGNAME | 0.001 | 0.000 | 0.002 | |
| TESTS | 0.000 | 0.000 | 0.001 | |
| X | 2.968 | 0.075 | 3.051 | |
| abstract_fit | 2.526 | 0.086 | 2.624 | |
| add_adjusted_pvalues | 1.152 | 0.022 | 1.180 | |
| add_assay_means | 0.831 | 0.011 | 0.843 | |
| add_facetvars | 3.399 | 0.102 | 3.513 | |
| add_opentargets_by_uniprot | 0.901 | 0.010 | 0.915 | |
| add_psp | 1.092 | 0.023 | 1.119 | |
| add_smiles | 1.110 | 0.064 | 1.175 | |
| all_non_numeric | 1.432 | 0.005 | 1.441 | |
| analysis | 0.856 | 0.008 | 0.867 | |
| analyze | 33.505 | 0.294 | 34.122 | |
| annotate_maxquant | 2.144 | 0.129 | 2.380 | |
| annotate_uniprot_rest | 0.151 | 0.022 | 9.507 | |
| assert_is_valid_sumexp | 1.331 | 0.072 | 1.429 | |
| awblinmod | 102.943 | 0.585 | 109.827 | |
| biplot | 9.248 | 0.109 | 9.907 | |
| biplot_corrections | 8.579 | 0.092 | 9.178 | |
| biplot_covariates | 16.921 | 0.125 | 18.016 | |
| block2limma | 0.004 | 0.002 | 0.006 | |
| block2lm | 0.006 | 0.001 | 0.009 | |
| block2lme | 0.005 | 0.001 | 0.007 | |
| block2lmer | 0.009 | 0.001 | 0.011 | |
| block_has_two_levels | 1.537 | 0.070 | 1.693 | |
| center | 4.246 | 0.034 | 4.548 | |
| code | 11.676 | 0.110 | 12.445 | |
| collapsed_entrezg_to_symbol | 1.906 | 0.101 | 2.120 | |
| contrast_subgroup_cols | 1.403 | 0.079 | 1.569 | |
| contrastdt | 1.398 | 0.015 | 1.492 | |
| count_in | 0.002 | 0.002 | 0.005 | |
| counts | 0.819 | 0.006 | 0.860 | |
| counts2cpm | 0.765 | 0.007 | 0.811 | |
| counts2tpm | 0.695 | 0.005 | 0.741 | |
| cpm | 0.891 | 0.005 | 0.935 | |
| create_design | 1.675 | 0.082 | 1.841 | |
| default_formula | 40.688 | 0.937 | 57.007 | |
| default_geom | 1.153 | 0.073 | 1.335 | |
| default_sfile | 0.002 | 0.001 | 0.004 | |
| demultiplex | 0.037 | 0.003 | 0.045 | |
| densities | 0.527 | 0.010 | 0.585 | |
| dequantify | 0.004 | 0.001 | 0.008 | |
| dequantify_compounddiscoverer | 0.003 | 0.001 | 0.003 | |
| dot-coxph | 0.836 | 0.057 | 0.975 | |
| dot-merge | 0.035 | 0.002 | 0.040 | |
| dot-read_maxquant_proteingroups | 0.204 | 0.010 | 0.232 | |
| download_data | 0.000 | 0.001 | 0.002 | |
| download_gtf | 0.001 | 0.001 | 0.001 | |
| download_mcclain21 | 1.158 | 0.617 | 4.834 | |
| dt2mat | 0.007 | 0.002 | 0.009 | |
| enrichment | 2.740 | 0.013 | 2.923 | |
| entrezg_to_symbol | 0.290 | 0.009 | 0.314 | |
| explore-transforms | 24.103 | 0.128 | 26.841 | |
| extract_contrast_features | 11.224 | 0.104 | 12.151 | |
| extract_rectangle | 0.283 | 0.066 | 0.370 | |
| factor.vars | 0.409 | 0.002 | 0.413 | |
| factorize | 1.888 | 0.026 | 1.976 | |
| fcluster | 21.923 | 0.116 | 23.569 | |
| fcor | 3.422 | 0.051 | 3.642 | |
| fdata | 1.281 | 0.031 | 1.380 | |
| fdr2p | 2.131 | 0.077 | 2.343 | |
| filter_exprs_replicated_in_some_subgroup | 2.268 | 0.073 | 2.453 | |
| filter_features | 1.201 | 0.067 | 1.367 | |
| filter_medoid | 1.440 | 0.011 | 1.720 | |
| filter_samples | 1.140 | 0.069 | 1.413 | |
| fit_survival | 25.568 | 0.199 | 29.045 | |
| fits | 0.725 | 0.003 | 0.813 | |
| fix_xlgenes | 0.003 | 0.000 | 0.004 | |
| flevels | 0.897 | 0.009 | 1.008 | |
| fnames | 0.957 | 0.009 | 1.085 | |
| formula2str | 0.000 | 0.001 | 0.005 | |
| ftype | 18.694 | 0.481 | 29.204 | |
| fvalues | 0.866 | 0.010 | 1.042 | |
| fvars | 0.851 | 0.010 | 1.036 | |
| genome_to_orgdb | 0.001 | 0.001 | 0.002 | |
| group_by_level | 0.002 | 0.001 | 0.004 | |
| guess_compounddiscoverer_quantity | 0.002 | 0.001 | 0.003 | |
| guess_fitsep | 1.051 | 0.013 | 1.261 | |
| guess_maxquant_quantity | 0.012 | 0.004 | 0.019 | |
| guess_sep | 1.092 | 0.064 | 1.328 | |
| has_multiple_levels | 0.129 | 0.006 | 0.159 | |
| hdlproteins | 0.111 | 0.093 | 0.840 | |
| impute | 7.752 | 0.050 | 8.449 | |
| invert_subgroups | 1.368 | 0.009 | 1.439 | |
| is_character_matrix | 0.326 | 0.002 | 0.339 | |
| is_collapsed_subset | 0.001 | 0.001 | 0.001 | |
| is_compounddiscoverer_output | 0.680 | 1.042 | 6.893 | |
| is_correlation_matrix | 0.002 | 0.001 | 0.003 | |
| is_diann_report | 0.143 | 0.034 | 0.178 | |
| is_fastadt | 0.135 | 0.004 | 0.140 | |
| is_file | 0.000 | 0.001 | 0.002 | |
| is_fraction | 0.004 | 0.002 | 0.005 | |
| is_fragpipe_tsv | 0.084 | 0.016 | 0.100 | |
| is_imputed | 1.630 | 0.011 | 1.676 | |
| is_maxquant_phosphosites | 0.088 | 0.016 | 0.104 | |
| is_maxquant_proteingroups | 0.083 | 0.015 | 0.098 | |
| is_positive_number | 0.004 | 0.001 | 0.005 | |
| is_scalar_subset | 0.698 | 0.007 | 0.713 | |
| is_sig | 3.133 | 0.018 | 3.202 | |
| is_valid_formula | 0.100 | 0.002 | 0.104 | |
| keep_estimable_features | 1.749 | 0.068 | 1.835 | |
| label2index | 0.001 | 0.001 | 0.002 | |
| list2mat | 0.001 | 0.001 | 0.002 | |
| log2counts | 0.765 | 0.006 | 0.773 | |
| log2cpm | 0.699 | 0.003 | 0.707 | |
| log2diffs | 0.698 | 0.009 | 0.710 | |
| log2proteins | 0.691 | 0.009 | 0.702 | |
| log2sites | 0.745 | 0.011 | 0.788 | |
| log2tpm | 0.696 | 0.003 | 0.704 | |
| log2transform | 11.247 | 0.089 | 11.498 | |
| logical2factor | 0.002 | 0.000 | 0.003 | |
| make_alpha_palette | 1.174 | 0.065 | 1.243 | |
| make_colors | 0.016 | 0.002 | 0.018 | |
| make_volcano_dt | 1.739 | 0.013 | 1.753 | |
| map_fvalues | 0.863 | 0.011 | 0.874 | |
| matrix2sumexp | 2.308 | 0.065 | 2.395 | |
| mclust_breaks | 1.238 | 0.100 | 1.347 | |
| merge_sample_file | 1.051 | 0.018 | 1.073 | |
| merge_sdata | 1.268 | 0.106 | 1.379 | |
| message_df | 0.004 | 0.000 | 0.004 | |
| model_coefs | 1.790 | 0.079 | 1.879 | |
| modelvar | 8.141 | 0.102 | 8.499 | |
| object1 | 1.171 | 0.005 | 1.229 | |
| order_on_p | 3.163 | 0.072 | 3.316 | |
| overall_parameters | 0.062 | 0.002 | 0.066 | |
| pca | 7.835 | 0.107 | 8.754 | |
| pg_to_canonical | 0.014 | 0.001 | 0.018 | |
| plot_coef_densities | 3.183 | 0.083 | 3.844 | |
| plot_contrast_venn | 5.601 | 0.083 | 6.732 | |
| plot_contrastogram | 7.124 | 0.230 | 10.694 | |
| plot_data | 4.077 | 0.098 | 4.506 | |
| plot_densities | 24.069 | 0.343 | 26.340 | |
| plot_design | 1.739 | 0.015 | 1.825 | |
| plot_detections | 17.820 | 0.086 | 19.990 | |
| plot_exprs | 50.931 | 0.257 | 54.279 | |
| plot_exprs_per_coef | 48.698 | 0.270 | 51.490 | |
| plot_fit_summary | 5.277 | 0.094 | 5.637 | |
| plot_heatmap | 4.473 | 0.021 | 4.742 | |
| plot_matrix | 1.239 | 0.070 | 1.383 | |
| plot_subgroup_points | 14.110 | 0.119 | 14.717 | |
| plot_summary | 32.285 | 0.176 | 34.248 | |
| plot_venn | 0.026 | 0.002 | 0.033 | |
| plot_venn_heatmap | 0.050 | 0.002 | 0.062 | |
| plot_violins | 11.924 | 0.133 | 12.731 | |
| plot_volcano | 32.821 | 0.231 | 35.406 | |
| plot_xy_density | 15.986 | 0.096 | 16.939 | |
| preprocess_rnaseq_counts | 0.769 | 0.005 | 0.808 | |
| pull_columns | 0.005 | 0.002 | 0.006 | |
| pvalues_estimable | 0.082 | 0.018 | 0.106 | |
| read_affymetrix | 0.000 | 0.001 | 0.001 | |
| read_diann_proteingroups | 244.924 | 2.533 | 258.948 | |
| read_fragpipe | 15.320 | 0.387 | 15.848 | |
| read_maxquant_phosphosites | 3.161 | 0.047 | 3.269 | |
| read_maxquant_proteingroups | 3.582 | 0.082 | 3.673 | |
| read_metabolon | 28.438 | 0.174 | 28.957 | |
| read_msigdt | 0.002 | 0.001 | 0.003 | |
| read_olink | 2.679 | 0.066 | 2.754 | |
| read_rectangles | 0.352 | 0.034 | 0.387 | |
| read_rnaseq_counts | 63.147 | 2.976 | 70.138 | |
| read_salmon | 0.000 | 0.001 | 0.001 | |
| read_somascan | 30.663 | 0.118 | 31.226 | |
| read_uniprotdt | 0.614 | 0.045 | 0.697 | |
| reset_fit | 10.484 | 0.130 | 10.702 | |
| rm_diann_contaminants | 51.815 | 0.546 | 53.014 | |
| rm_missing_in_some_samples | 1.067 | 0.067 | 1.138 | |
| rm_unmatched_samples | 1.515 | 0.038 | 1.562 | |
| sbind | 9.320 | 0.059 | 9.428 | |
| scaledlibsizes | 0.668 | 0.004 | 0.672 | |
| scoremat | 1.926 | 0.069 | 1.998 | |
| slevels | 0.792 | 0.019 | 0.812 | |
| snames | 0.876 | 0.008 | 0.884 | |
| split_extract_fixed | 1.127 | 0.081 | 1.224 | |
| split_samples | 2.567 | 0.072 | 2.642 | |
| stepauc | 0.670 | 0.003 | 0.675 | |
| stri_any_regex | 0.001 | 0.001 | 0.002 | |
| stri_detect_fixed_in_collapsed | 0.706 | 0.006 | 0.713 | |
| subgroup_matrix | 1.094 | 0.067 | 1.163 | |
| subtract_baseline | 10.879 | 0.096 | 11.000 | |
| sumexp_to_longdt | 4.133 | 0.201 | 4.351 | |
| sumexp_to_tsv | 1.114 | 0.011 | 1.127 | |
| sumexplist_to_longdt | 3.214 | 0.022 | 3.241 | |
| summarize_fit | 3.732 | 0.089 | 3.970 | |
| survobj | 0.340 | 0.002 | 0.344 | |
| svalues | 0.954 | 0.012 | 1.015 | |
| svars | 0.884 | 0.013 | 0.905 | |
| systematic_nas | 1.221 | 0.011 | 1.384 | |
| tag_features | 2.280 | 0.061 | 2.420 | |
| tag_hdlproteins | 1.100 | 0.044 | 1.152 | |
| taxon2org | 0.002 | 0.001 | 0.003 | |
| tpm | 0.762 | 0.006 | 0.781 | |
| uncollapse | 0.057 | 0.003 | 0.065 | |
| values | 1.007 | 0.018 | 1.048 | |
| varlevels_dont_clash | 0.034 | 0.002 | 0.035 | |
| venn_detects | 1.207 | 0.020 | 1.263 | |
| weights | 0.802 | 0.007 | 0.907 | |