| Back to Multiple platform build/check report for BioC 3.22: simplified long |
|
This page was generated on 2025-11-20 12:05 -0500 (Thu, 20 Nov 2025).
| Hostname | OS | Arch (*) | R version | Installed pkgs |
|---|---|---|---|---|
| nebbiolo2 | Linux (Ubuntu 24.04.3 LTS) | x86_64 | 4.5.2 (2025-10-31) -- "[Not] Part in a Rumble" | 4615 |
| merida1 | macOS 12.7.6 Monterey | x86_64 | 4.5.2 Patched (2025-11-05 r88990) -- "[Not] Part in a Rumble" | 4610 |
| kjohnson1 | macOS 13.7.5 Ventura | arm64 | 4.5.2 Patched (2025-11-04 r88984) -- "[Not] Part in a Rumble" | 4598 |
| taishan | Linux (openEuler 24.03 LTS) | aarch64 | 4.5.0 (2025-04-11) -- "How About a Twenty-Six" | 4668 |
| Click on any hostname to see more info about the system (e.g. compilers) (*) as reported by 'uname -p', except on Windows and Mac OS X | ||||
| Package 119/2361 | Hostname | OS / Arch | INSTALL | BUILD | CHECK | BUILD BIN | ||||||||
| autonomics 1.18.0 (landing page) Aditya Bhagwat
| nebbiolo2 | Linux (Ubuntu 24.04.3 LTS) / x86_64 | OK | OK | OK | |||||||||
| merida1 | macOS 12.7.6 Monterey / x86_64 | OK | OK | TIMEOUT | OK | |||||||||
| kjohnson1 | macOS 13.7.5 Ventura / arm64 | OK | OK | OK | OK | |||||||||
| taishan | Linux (openEuler 24.03 LTS) / aarch64 | OK | OK | OK | ||||||||||
|
To the developers/maintainers of the autonomics package: - Allow up to 24 hours (and sometimes 48 hours) for your latest push to git@git.bioconductor.org:packages/autonomics.git to reflect on this report. See Troubleshooting Build Report for more information. - Use the following Renviron settings to reproduce errors and warnings. - If 'R CMD check' started to fail recently on the Linux builder(s) over a missing dependency, add the missing dependency to 'Suggests:' in your DESCRIPTION file. See Renviron.bioc for more information. |
| Package: autonomics |
| Version: 1.18.0 |
| Command: /Library/Frameworks/R.framework/Resources/bin/R CMD check --install=check:autonomics.install-out.txt --library=/Library/Frameworks/R.framework/Resources/library --no-vignettes --timings autonomics_1.18.0.tar.gz |
| StartedAt: 2025-11-18 02:48:16 -0500 (Tue, 18 Nov 2025) |
| EndedAt: 2025-11-18 03:01:43 -0500 (Tue, 18 Nov 2025) |
| EllapsedTime: 807.5 seconds |
| RetCode: 0 |
| Status: OK |
| CheckDir: autonomics.Rcheck |
| Warnings: 0 |
##############################################################################
##############################################################################
###
### Running command:
###
### /Library/Frameworks/R.framework/Resources/bin/R CMD check --install=check:autonomics.install-out.txt --library=/Library/Frameworks/R.framework/Resources/library --no-vignettes --timings autonomics_1.18.0.tar.gz
###
##############################################################################
##############################################################################
* using log directory ‘/Users/biocbuild/bbs-3.22-bioc/meat/autonomics.Rcheck’
* using R version 4.5.2 Patched (2025-11-04 r88984)
* using platform: aarch64-apple-darwin20
* R was compiled by
Apple clang version 16.0.0 (clang-1600.0.26.6)
GNU Fortran (GCC) 14.2.0
* running under: macOS Ventura 13.7.8
* using session charset: UTF-8
* using option ‘--no-vignettes’
* checking for file ‘autonomics/DESCRIPTION’ ... OK
* checking extension type ... Package
* this is package ‘autonomics’ version ‘1.18.0’
* package encoding: UTF-8
* checking package namespace information ... OK
* checking package dependencies ... INFO
Imports includes 32 non-default packages.
Importing from so many packages makes the package vulnerable to any of
them becoming unavailable. Move as many as possible to Suggests and
use conditionally.
* checking if this is a source package ... OK
* checking if there is a namespace ... OK
* checking for hidden files and directories ... NOTE
Found the following hidden files and directories:
.BBSoptions
These were most likely included in error. See section ‘Package
structure’ in the ‘Writing R Extensions’ manual.
* checking for portable file names ... OK
* checking for sufficient/correct file permissions ... OK
* checking whether package ‘autonomics’ can be installed ... OK
* checking installed package size ... OK
* checking package directory ... OK
* checking ‘build’ directory ... OK
* checking DESCRIPTION meta-information ... OK
* checking top-level files ... OK
* checking for left-over files ... OK
* checking index information ... OK
* checking package subdirectories ... OK
* checking code files for non-ASCII characters ... OK
* checking R files for syntax errors ... OK
* checking whether the package can be loaded ... OK
* checking whether the package can be loaded with stated dependencies ... OK
* checking whether the package can be unloaded cleanly ... OK
* checking whether the namespace can be loaded with stated dependencies ... OK
* checking whether the namespace can be unloaded cleanly ... OK
* checking dependencies in R code ... OK
* checking S3 generic/method consistency ... OK
* checking replacement functions ... OK
* checking foreign function calls ... OK
* checking R code for possible problems ... OK
* checking Rd files ... OK
* checking Rd metadata ... OK
* checking Rd cross-references ... NOTE
Non-topic package-anchored link(s) in Rd file 'reexports.Rd':
‘[magrittr:compound]{%<>%}’ ‘[magrittr:pipe]{%>%}’
‘[magrittr:aliases]{extract}’
See section 'Cross-references' in the 'Writing R Extensions' manual.
* checking for missing documentation entries ... OK
* checking for code/documentation mismatches ... OK
* checking Rd \usage sections ... OK
* checking Rd contents ... OK
* checking for unstated dependencies in examples ... OK
* checking files in ‘vignettes’ ... OK
* checking examples ... OK
Examples with CPU (user + system) or elapsed time > 5s
user system elapsed
write_xl 69.852 2.123 86.091
read_diann_proteingroups 37.792 0.556 41.113
awblinmod 14.481 0.093 16.940
read_rnaseq_counts 11.879 0.726 110.857
LINMOD 9.144 0.118 11.065
rm_diann_contaminants 7.633 0.156 8.893
plot_exprs 7.275 0.048 8.247
plot_exprs_per_coef 6.898 0.036 8.043
default_formula 6.708 0.175 13.917
read_somascan 5.426 0.042 6.391
plot_summary 5.299 0.040 6.201
analyze 4.914 0.050 5.792
plot_volcano 4.534 0.040 5.301
read_metabolon 4.475 0.035 5.010
ftype 2.665 0.091 6.930
download_mcclain21 0.924 0.422 167.408
is_compounddiscoverer_output 1.170 0.176 9.773
* checking for unstated dependencies in ‘tests’ ... OK
* checking tests ...
Running ‘testthat.R’
OK
* checking for unstated dependencies in vignettes ... OK
* checking package vignettes ... OK
* checking running R code from vignettes ... SKIPPED
* checking re-building of vignette outputs ... SKIPPED
* checking PDF version of manual ... OK
* DONE
Status: 2 NOTEs
See
‘/Users/biocbuild/bbs-3.22-bioc/meat/autonomics.Rcheck/00check.log’
for details.
autonomics.Rcheck/00install.out
############################################################################## ############################################################################## ### ### Running command: ### ### /Library/Frameworks/R.framework/Resources/bin/R CMD INSTALL autonomics ### ############################################################################## ############################################################################## * installing to library ‘/Library/Frameworks/R.framework/Versions/4.5-arm64/Resources/library’ * installing *source* package ‘autonomics’ ... ** this is package ‘autonomics’ version ‘1.18.0’ ** using staged installation ** R ** inst ** byte-compile and prepare package for lazy loading Note: wrong number of arguments to 'seq_along' Note: wrong number of arguments to 'sqrt' ** help *** installing help indices ** building package indices ** installing vignettes ** testing if installed package can be loaded from temporary location ** testing if installed package can be loaded from final location ** testing if installed package keeps a record of temporary installation path * DONE (autonomics)
autonomics.Rcheck/tests/testthat.Rout
R version 4.5.2 Patched (2025-11-04 r88984) -- "[Not] Part in a Rumble"
Copyright (C) 2025 The R Foundation for Statistical Computing
Platform: aarch64-apple-darwin20
R is free software and comes with ABSOLUTELY NO WARRANTY.
You are welcome to redistribute it under certain conditions.
Type 'license()' or 'licence()' for distribution details.
R is a collaborative project with many contributors.
Type 'contributors()' for more information and
'citation()' on how to cite R or R packages in publications.
Type 'demo()' for some demos, 'help()' for on-line help, or
'help.start()' for an HTML browser interface to help.
Type 'q()' to quit R.
> library(testthat)
> library(autonomics)
Attaching package: 'autonomics'
The following objects are masked from 'package:stats':
biplot, loadings
The following object is masked from 'package:base':
beta
>
> test_check("autonomics")
trying URL 'https://bitbucket.org/graumannlabtools/autonomics/downloads/integer64.proteinGroups.txt'
Content type 'text/plain' length 57496 bytes (56 KB)
==================================================
downloaded 56 KB
[ FAIL 0 | WARN 3 | SKIP 0 | PASS 158 ]
[ FAIL 0 | WARN 3 | SKIP 0 | PASS 158 ]
>
> proc.time()
user system elapsed
59.211 2.694 78.892
autonomics.Rcheck/autonomics-Ex.timings
| name | user | system | elapsed | |
| AUTONOMICS_DATASETS | 0.001 | 0.001 | 0.001 | |
| COMPOUNDDISCOVERER_PATTERNS | 0 | 0 | 0 | |
| LINMOD | 9.144 | 0.118 | 11.065 | |
| LINMODENGINES | 0 | 0 | 0 | |
| MAXQUANT_PATTERNS | 0 | 0 | 0 | |
| TAXON_TO_ORGNAME | 0.000 | 0.000 | 0.001 | |
| TESTS | 0 | 0 | 0 | |
| X | 0.424 | 0.018 | 0.487 | |
| abstract_fit | 0.388 | 0.022 | 0.492 | |
| add_adjusted_pvalues | 0.207 | 0.004 | 0.245 | |
| add_assay_means | 0.141 | 0.003 | 0.179 | |
| add_facetvars | 0.514 | 0.020 | 0.656 | |
| add_opentargets_by_uniprot | 0.155 | 0.003 | 0.186 | |
| add_psp | 0.199 | 0.004 | 0.236 | |
| add_smiles | 0.193 | 0.017 | 0.264 | |
| all_non_numeric | 0.226 | 0.001 | 0.263 | |
| analysis | 0.147 | 0.003 | 0.166 | |
| analyze | 4.914 | 0.050 | 5.792 | |
| annotate_maxquant | 0.809 | 0.024 | 0.909 | |
| annotate_uniprot_rest | 0.052 | 0.007 | 0.411 | |
| assert_is_valid_sumexp | 0.255 | 0.019 | 0.375 | |
| awblinmod | 14.481 | 0.093 | 16.940 | |
| biplot | 1.395 | 0.023 | 1.529 | |
| biplot_corrections | 1.273 | 0.019 | 1.478 | |
| biplot_covariates | 2.612 | 0.026 | 3.113 | |
| block2limma | 0.000 | 0.000 | 0.001 | |
| block2lm | 0.001 | 0.000 | 0.001 | |
| block2lme | 0.000 | 0.000 | 0.001 | |
| block2lmer | 0.001 | 0.001 | 0.002 | |
| block_has_two_levels | 0.233 | 0.016 | 0.348 | |
| center | 0.686 | 0.007 | 0.828 | |
| code | 1.670 | 0.022 | 1.948 | |
| collapsed_entrezg_to_symbol | 0.382 | 0.021 | 0.441 | |
| contrast_subgroup_cols | 0.240 | 0.016 | 0.324 | |
| contrastdt | 0.213 | 0.002 | 0.224 | |
| count_in | 0.001 | 0.000 | 0.000 | |
| counts | 0.135 | 0.001 | 0.170 | |
| counts2cpm | 0.135 | 0.001 | 0.166 | |
| counts2tpm | 0.105 | 0.001 | 0.111 | |
| cpm | 0.171 | 0.002 | 0.195 | |
| create_design | 0.270 | 0.026 | 0.320 | |
| default_formula | 6.708 | 0.175 | 13.917 | |
| default_geom | 0.185 | 0.017 | 0.259 | |
| default_sfile | 0.000 | 0.000 | 0.001 | |
| demultiplex | 0.004 | 0.000 | 0.004 | |
| densities | 0.080 | 0.002 | 0.106 | |
| dequantify | 0.001 | 0.000 | 0.001 | |
| dequantify_compounddiscoverer | 0 | 0 | 0 | |
| dot-coxph | 0.175 | 0.013 | 0.232 | |
| dot-merge | 0.008 | 0.001 | 0.010 | |
| dot-read_maxquant_proteingroups | 0.050 | 0.002 | 0.068 | |
| download_data | 0.001 | 0.000 | 0.000 | |
| download_gtf | 0 | 0 | 0 | |
| download_mcclain21 | 0.924 | 0.422 | 167.408 | |
| dt2mat | 0.001 | 0.000 | 0.001 | |
| enrichment | 0.397 | 0.002 | 0.409 | |
| entrezg_to_symbol | 0.056 | 0.001 | 0.063 | |
| explore-transforms | 3.602 | 0.022 | 4.298 | |
| extract_contrast_features | 1.572 | 0.021 | 1.853 | |
| extract_rectangle | 0.052 | 0.016 | 0.077 | |
| factor.vars | 0.059 | 0.000 | 0.059 | |
| factorize | 0.279 | 0.005 | 0.301 | |
| fcluster | 3.364 | 0.022 | 3.996 | |
| fcor | 0.549 | 0.012 | 0.662 | |
| fdata | 0.187 | 0.007 | 0.231 | |
| fdr2p | 0.342 | 0.018 | 0.410 | |
| filter_exprs_replicated_in_some_subgroup | 0.339 | 0.021 | 0.471 | |
| filter_features | 0.186 | 0.015 | 0.234 | |
| filter_medoid | 0.196 | 0.001 | 0.215 | |
| filter_samples | 0.199 | 0.016 | 0.248 | |
| fit_survival | 4.315 | 0.041 | 4.999 | |
| fits | 0.106 | 0.000 | 0.114 | |
| fix_xlgenes | 0.001 | 0.000 | 0.001 | |
| flevels | 0.151 | 0.002 | 0.178 | |
| fnames | 0.153 | 0.002 | 0.197 | |
| formula2str | 0 | 0 | 0 | |
| ftype | 2.665 | 0.091 | 6.930 | |
| fvalues | 0.137 | 0.002 | 0.144 | |
| fvars | 0.135 | 0.002 | 0.160 | |
| genome_to_orgdb | 0.000 | 0.000 | 0.001 | |
| group_by_level | 0.001 | 0.000 | 0.001 | |
| guess_compounddiscoverer_quantity | 0 | 0 | 0 | |
| guess_fitsep | 0.164 | 0.003 | 0.182 | |
| guess_maxquant_quantity | 0.001 | 0.000 | 0.002 | |
| guess_sep | 0.161 | 0.017 | 0.189 | |
| has_multiple_levels | 0.019 | 0.001 | 0.020 | |
| hdlproteins | 0.032 | 0.013 | 2.611 | |
| impute | 1.156 | 0.008 | 1.231 | |
| invert_subgroups | 0.217 | 0.001 | 0.220 | |
| is_character_matrix | 0.046 | 0.000 | 0.049 | |
| is_collapsed_subset | 0 | 0 | 0 | |
| is_compounddiscoverer_output | 1.170 | 0.176 | 9.773 | |
| is_correlation_matrix | 0.000 | 0.000 | 0.001 | |
| is_diann_report | 0.065 | 0.015 | 0.075 | |
| is_fastadt | 0.021 | 0.001 | 0.021 | |
| is_file | 0 | 0 | 0 | |
| is_fraction | 0 | 0 | 0 | |
| is_fragpipe_tsv | 0.050 | 0.006 | 0.042 | |
| is_imputed | 0.252 | 0.003 | 0.276 | |
| is_maxquant_phosphosites | 0.041 | 0.007 | 0.044 | |
| is_maxquant_proteingroups | 0.041 | 0.007 | 0.042 | |
| is_positive_number | 0.001 | 0.000 | 0.001 | |
| is_scalar_subset | 0.122 | 0.002 | 0.138 | |
| is_sig | 0.471 | 0.003 | 0.486 | |
| is_valid_formula | 0.018 | 0.001 | 0.032 | |
| keep_estimable_features | 0.264 | 0.019 | 0.368 | |
| label2index | 0 | 0 | 0 | |
| list2mat | 0 | 0 | 0 | |
| log2counts | 0.108 | 0.001 | 0.130 | |
| log2cpm | 0.131 | 0.001 | 0.154 | |
| log2diffs | 0.110 | 0.001 | 0.127 | |
| log2proteins | 0.111 | 0.001 | 0.125 | |
| log2sites | 0.111 | 0.002 | 0.160 | |
| log2tpm | 0.119 | 0.001 | 0.130 | |
| log2transform | 1.745 | 0.015 | 2.075 | |
| logical2factor | 0.000 | 0.000 | 0.001 | |
| make_alpha_palette | 0.218 | 0.018 | 0.317 | |
| make_colors | 0.005 | 0.000 | 0.005 | |
| make_volcano_dt | 0.292 | 0.004 | 0.394 | |
| map_fvalues | 0.136 | 0.002 | 0.166 | |
| matrix2sumexp | 0.359 | 0.018 | 0.521 | |
| mclust_breaks | 0.196 | 0.021 | 0.239 | |
| merge_sample_file | 0.210 | 0.003 | 0.257 | |
| merge_sdata | 0.189 | 0.020 | 0.265 | |
| message_df | 0.001 | 0.000 | 0.001 | |
| model_coefs | 0.274 | 0.015 | 0.338 | |
| modelvar | 1.101 | 0.021 | 1.360 | |
| object1 | 0.219 | 0.001 | 0.255 | |
| order_on_p | 0.480 | 0.017 | 0.584 | |
| overall_parameters | 0.012 | 0.001 | 0.012 | |
| pca | 1.138 | 0.021 | 1.421 | |
| pg_to_canonical | 0.001 | 0.000 | 0.001 | |
| plot_coef_densities | 0.489 | 0.017 | 0.626 | |
| plot_contrast_venn | 0.807 | 0.020 | 1.037 | |
| plot_contrastogram | 1.067 | 0.047 | 4.478 | |
| plot_data | 0.585 | 0.020 | 0.679 | |
| plot_densities | 3.733 | 0.074 | 4.320 | |
| plot_design | 0.263 | 0.003 | 0.294 | |
| plot_detections | 2.661 | 0.011 | 2.910 | |
| plot_exprs | 7.275 | 0.048 | 8.247 | |
| plot_exprs_per_coef | 6.898 | 0.036 | 8.043 | |
| plot_fit_summary | 0.779 | 0.018 | 0.885 | |
| plot_heatmap | 0.682 | 0.004 | 0.764 | |
| plot_matrix | 0.179 | 0.018 | 0.255 | |
| plot_subgroup_points | 2.160 | 0.023 | 2.545 | |
| plot_summary | 5.299 | 0.040 | 6.201 | |
| plot_venn | 0.009 | 0.000 | 0.010 | |
| plot_venn_heatmap | 0.008 | 0.001 | 0.009 | |
| plot_violins | 1.722 | 0.032 | 1.995 | |
| plot_volcano | 4.534 | 0.040 | 5.301 | |
| plot_xy_density | 2.261 | 0.013 | 2.591 | |
| preprocess_rnaseq_counts | 0.117 | 0.002 | 0.145 | |
| pull_columns | 0.001 | 0.000 | 0.001 | |
| pvalues_estimable | 0.013 | 0.003 | 0.016 | |
| read_affymetrix | 0 | 0 | 0 | |
| read_diann_proteingroups | 37.792 | 0.556 | 41.113 | |
| read_fragpipe | 2.415 | 0.071 | 2.918 | |
| read_maxquant_phosphosites | 0.577 | 0.009 | 0.684 | |
| read_maxquant_proteingroups | 0.448 | 0.005 | 0.493 | |
| read_metabolon | 4.475 | 0.035 | 5.010 | |
| read_msigdt | 0.000 | 0.000 | 0.001 | |
| read_olink | 0.644 | 0.023 | 0.800 | |
| read_rectangles | 0.080 | 0.008 | 0.108 | |
| read_rnaseq_counts | 11.879 | 0.726 | 110.857 | |
| read_salmon | 0.000 | 0.000 | 0.001 | |
| read_somascan | 5.426 | 0.042 | 6.391 | |
| read_uniprotdt | 0.126 | 0.008 | 0.157 | |
| reset_fit | 1.564 | 0.034 | 2.125 | |
| rm_diann_contaminants | 7.633 | 0.156 | 8.893 | |
| rm_missing_in_some_samples | 0.179 | 0.016 | 0.227 | |
| rm_unmatched_samples | 0.235 | 0.005 | 0.263 | |
| sbind | 1.513 | 0.009 | 1.607 | |
| scaledlibsizes | 0.109 | 0.001 | 0.114 | |
| scoremat | 0.324 | 0.016 | 0.362 | |
| slevels | 0.152 | 0.002 | 0.184 | |
| snames | 0.145 | 0.002 | 0.169 | |
| split_extract_fixed | 0.203 | 0.016 | 0.233 | |
| split_samples | 0.443 | 0.016 | 0.556 | |
| stepauc | 0.120 | 0.001 | 0.139 | |
| stri_any_regex | 0.001 | 0.000 | 0.000 | |
| stri_detect_fixed_in_collapsed | 0.126 | 0.002 | 0.146 | |
| subgroup_matrix | 0.215 | 0.016 | 0.274 | |
| subtract_baseline | 1.774 | 0.023 | 2.104 | |
| sumexp_to_longdt | 0.687 | 0.028 | 0.781 | |
| sumexp_to_tsv | 0.173 | 0.003 | 0.214 | |
| sumexplist_to_longdt | 0.555 | 0.006 | 0.579 | |
| summarize_fit | 0.598 | 0.018 | 0.671 | |
| survobj | 0.050 | 0.000 | 0.053 | |
| svalues | 0.153 | 0.002 | 0.156 | |
| svars | 0.142 | 0.002 | 0.161 | |
| systematic_nas | 0.221 | 0.002 | 0.300 | |
| tag_features | 0.391 | 0.011 | 0.442 | |
| tag_hdlproteins | 0.267 | 0.016 | 0.304 | |
| taxon2org | 0.001 | 0.000 | 0.000 | |
| tpm | 0.109 | 0.001 | 0.111 | |
| uncollapse | 0.01 | 0.00 | 0.01 | |
| values | 0.179 | 0.002 | 0.203 | |
| varlevels_dont_clash | 0.009 | 0.000 | 0.009 | |
| venn_detects | 0.186 | 0.003 | 0.216 | |
| weights | 0.109 | 0.000 | 0.112 | |
| write_xl | 69.852 | 2.123 | 86.091 | |
| zero_to_na | 0.001 | 0.001 | 0.001 | |