| Back to Multiple platform build/check report for BioC 3.22: simplified long |
|
This page was generated on 2025-10-24 12:06 -0400 (Fri, 24 Oct 2025).
| Hostname | OS | Arch (*) | R version | Installed pkgs |
|---|---|---|---|---|
| nebbiolo2 | Linux (Ubuntu 24.04.3 LTS) | x86_64 | 4.5.1 Patched (2025-08-23 r88802) -- "Great Square Root" | 4898 |
| lconway | macOS 12.7.6 Monterey | x86_64 | 4.5.1 Patched (2025-09-10 r88807) -- "Great Square Root" | 4688 |
| kjohnson3 | macOS 13.7.7 Ventura | arm64 | 4.5.1 Patched (2025-09-10 r88807) -- "Great Square Root" | 4634 |
| taishan | Linux (openEuler 24.03 LTS) | aarch64 | 4.5.0 (2025-04-11) -- "How About a Twenty-Six" | 4658 |
| Click on any hostname to see more info about the system (e.g. compilers) (*) as reported by 'uname -p', except on Windows and Mac OS X | ||||
| Package 119/2359 | Hostname | OS / Arch | INSTALL | BUILD | CHECK | BUILD BIN | ||||||||
| autonomics 1.17.16 (landing page) Aditya Bhagwat
| nebbiolo2 | Linux (Ubuntu 24.04.3 LTS) / x86_64 | OK | OK | OK | |||||||||
| lconway | macOS 12.7.6 Monterey / x86_64 | OK | OK | OK | OK | |||||||||
| kjohnson3 | macOS 13.7.7 Ventura / arm64 | OK | OK | OK | OK | |||||||||
| taishan | Linux (openEuler 24.03 LTS) / aarch64 | OK | OK | OK | ||||||||||
|
To the developers/maintainers of the autonomics package: - Allow up to 24 hours (and sometimes 48 hours) for your latest push to git@git.bioconductor.org:packages/autonomics.git to reflect on this report. See Troubleshooting Build Report for more information. - Use the following Renviron settings to reproduce errors and warnings. - If 'R CMD check' started to fail recently on the Linux builder(s) over a missing dependency, add the missing dependency to 'Suggests:' in your DESCRIPTION file. See Renviron.bioc for more information. |
| Package: autonomics |
| Version: 1.17.16 |
| Command: /Library/Frameworks/R.framework/Resources/bin/R CMD check --install=check:autonomics.install-out.txt --library=/Library/Frameworks/R.framework/Resources/library --no-vignettes --timings autonomics_1.17.16.tar.gz |
| StartedAt: 2025-10-23 18:35:02 -0400 (Thu, 23 Oct 2025) |
| EndedAt: 2025-10-23 18:41:48 -0400 (Thu, 23 Oct 2025) |
| EllapsedTime: 406.1 seconds |
| RetCode: 0 |
| Status: OK |
| CheckDir: autonomics.Rcheck |
| Warnings: 0 |
##############################################################################
##############################################################################
###
### Running command:
###
### /Library/Frameworks/R.framework/Resources/bin/R CMD check --install=check:autonomics.install-out.txt --library=/Library/Frameworks/R.framework/Resources/library --no-vignettes --timings autonomics_1.17.16.tar.gz
###
##############################################################################
##############################################################################
* using log directory ‘/Users/biocbuild/bbs-3.22-bioc/meat/autonomics.Rcheck’
* using R version 4.5.1 Patched (2025-09-10 r88807)
* using platform: aarch64-apple-darwin20
* R was compiled by
Apple clang version 16.0.0 (clang-1600.0.26.6)
GNU Fortran (GCC) 14.2.0
* running under: macOS Ventura 13.7.7
* using session charset: UTF-8
* using option ‘--no-vignettes’
* checking for file ‘autonomics/DESCRIPTION’ ... OK
* checking extension type ... Package
* this is package ‘autonomics’ version ‘1.17.16’
* package encoding: UTF-8
* checking package namespace information ... OK
* checking package dependencies ... INFO
Imports includes 32 non-default packages.
Importing from so many packages makes the package vulnerable to any of
them becoming unavailable. Move as many as possible to Suggests and
use conditionally.
* checking if this is a source package ... OK
* checking if there is a namespace ... OK
* checking for hidden files and directories ... NOTE
Found the following hidden files and directories:
.BBSoptions
These were most likely included in error. See section ‘Package
structure’ in the ‘Writing R Extensions’ manual.
* checking for portable file names ... OK
* checking for sufficient/correct file permissions ... OK
* checking whether package ‘autonomics’ can be installed ... OK
* checking installed package size ... OK
* checking package directory ... OK
* checking ‘build’ directory ... OK
* checking DESCRIPTION meta-information ... OK
* checking top-level files ... OK
* checking for left-over files ... OK
* checking index information ... OK
* checking package subdirectories ... OK
* checking code files for non-ASCII characters ... OK
* checking R files for syntax errors ... OK
* checking whether the package can be loaded ... OK
* checking whether the package can be loaded with stated dependencies ... OK
* checking whether the package can be unloaded cleanly ... OK
* checking whether the namespace can be loaded with stated dependencies ... OK
* checking whether the namespace can be unloaded cleanly ... OK
* checking dependencies in R code ... OK
* checking S3 generic/method consistency ... OK
* checking replacement functions ... OK
* checking foreign function calls ... OK
* checking R code for possible problems ... OK
* checking Rd files ... OK
* checking Rd metadata ... OK
* checking Rd cross-references ... NOTE
Non-topic package-anchored link(s) in Rd file 'reexports.Rd':
‘[magrittr:compound]{%<>%}’ ‘[magrittr:pipe]{%>%}’
‘[magrittr:aliases]{extract}’
See section 'Cross-references' in the 'Writing R Extensions' manual.
* checking for missing documentation entries ... OK
* checking for code/documentation mismatches ... OK
* checking Rd \usage sections ... OK
* checking Rd contents ... OK
* checking for unstated dependencies in examples ... OK
* checking files in ‘vignettes’ ... OK
* checking examples ... OK
Examples with CPU (user + system) or elapsed time > 5s
user system elapsed
write_xl 53.877 2.457 58.285
read_diann_proteingroups 33.918 1.036 35.600
awblinmod 12.455 0.089 12.678
read_rnaseq_counts 9.838 0.811 10.885
LINMOD 7.213 0.122 7.776
rm_diann_contaminants 6.767 0.211 7.016
default_formula 5.855 0.280 6.319
plot_exprs 6.020 0.030 6.413
plot_exprs_per_coef 5.885 0.024 6.144
* checking for unstated dependencies in ‘tests’ ... OK
* checking tests ...
Running ‘testthat.R’
OK
* checking for unstated dependencies in vignettes ... OK
* checking package vignettes ... OK
* checking running R code from vignettes ... SKIPPED
* checking re-building of vignette outputs ... SKIPPED
* checking PDF version of manual ... OK
* DONE
Status: 2 NOTEs
See
‘/Users/biocbuild/bbs-3.22-bioc/meat/autonomics.Rcheck/00check.log’
for details.
autonomics.Rcheck/00install.out
############################################################################## ############################################################################## ### ### Running command: ### ### /Library/Frameworks/R.framework/Resources/bin/R CMD INSTALL autonomics ### ############################################################################## ############################################################################## * installing to library ‘/Library/Frameworks/R.framework/Versions/4.5-arm64/Resources/library’ * installing *source* package ‘autonomics’ ... ** this is package ‘autonomics’ version ‘1.17.16’ ** using staged installation ** R ** inst ** byte-compile and prepare package for lazy loading Note: wrong number of arguments to 'seq_along' Note: wrong number of arguments to 'sqrt' ** help *** installing help indices ** building package indices ** installing vignettes ** testing if installed package can be loaded from temporary location ** testing if installed package can be loaded from final location ** testing if installed package keeps a record of temporary installation path * DONE (autonomics)
autonomics.Rcheck/tests/testthat.Rout
R version 4.5.1 Patched (2025-09-10 r88807) -- "Great Square Root"
Copyright (C) 2025 The R Foundation for Statistical Computing
Platform: aarch64-apple-darwin20
R is free software and comes with ABSOLUTELY NO WARRANTY.
You are welcome to redistribute it under certain conditions.
Type 'license()' or 'licence()' for distribution details.
R is a collaborative project with many contributors.
Type 'contributors()' for more information and
'citation()' on how to cite R or R packages in publications.
Type 'demo()' for some demos, 'help()' for on-line help, or
'help.start()' for an HTML browser interface to help.
Type 'q()' to quit R.
> library(testthat)
> library(autonomics)
Attaching package: 'autonomics'
The following objects are masked from 'package:stats':
biplot, loadings
The following object is masked from 'package:base':
beta
>
> test_check("autonomics")
[ FAIL 0 | WARN 3 | SKIP 0 | PASS 158 ]
[ FAIL 0 | WARN 3 | SKIP 0 | PASS 158 ]
>
> proc.time()
user system elapsed
52.396 3.596 59.194
autonomics.Rcheck/autonomics-Ex.timings
| name | user | system | elapsed | |
| AUTONOMICS_DATASETS | 0.000 | 0.001 | 0.000 | |
| COMPOUNDDISCOVERER_PATTERNS | 0 | 0 | 0 | |
| LINMOD | 7.213 | 0.122 | 7.776 | |
| LINMODENGINES | 0 | 0 | 0 | |
| MAXQUANT_PATTERNS | 0.001 | 0.000 | 0.000 | |
| TAXON_TO_ORGNAME | 0 | 0 | 0 | |
| TESTS | 0 | 0 | 0 | |
| X | 0.358 | 0.015 | 0.456 | |
| abstract_fit | 0.298 | 0.014 | 0.380 | |
| add_adjusted_pvalues | 0.160 | 0.003 | 0.167 | |
| add_assay_means | 0.099 | 0.001 | 0.100 | |
| add_facetvars | 0.405 | 0.016 | 0.442 | |
| add_opentargets_by_uniprot | 0.133 | 0.002 | 0.154 | |
| add_psp | 0.154 | 0.005 | 0.174 | |
| add_smiles | 0.150 | 0.013 | 0.209 | |
| all_non_numeric | 0.171 | 0.001 | 0.195 | |
| analysis | 0.120 | 0.002 | 0.123 | |
| analyze | 4.042 | 0.050 | 4.244 | |
| annotate_maxquant | 0.323 | 0.022 | 0.360 | |
| annotate_uniprot_rest | 0.031 | 0.006 | 2.450 | |
| assert_is_valid_sumexp | 0.222 | 0.015 | 0.240 | |
| awblinmod | 12.455 | 0.089 | 12.678 | |
| biplot | 1.158 | 0.025 | 1.226 | |
| biplot_corrections | 1.054 | 0.015 | 1.089 | |
| biplot_covariates | 2.095 | 0.018 | 2.183 | |
| block2limma | 0.001 | 0.000 | 0.001 | |
| block2lm | 0.001 | 0.000 | 0.001 | |
| block2lme | 0.000 | 0.000 | 0.001 | |
| block2lmer | 0.001 | 0.000 | 0.001 | |
| block_has_two_levels | 0.210 | 0.016 | 0.270 | |
| center | 0.556 | 0.005 | 0.566 | |
| code | 1.420 | 0.016 | 1.436 | |
| collapsed_entrezg_to_symbol | 0.320 | 0.021 | 0.341 | |
| contrast_subgroup_cols | 0.213 | 0.016 | 0.249 | |
| contrastdt | 0.180 | 0.001 | 0.189 | |
| count_in | 0 | 0 | 0 | |
| counts | 0.101 | 0.001 | 0.104 | |
| counts2cpm | 0.106 | 0.001 | 0.118 | |
| counts2tpm | 0.083 | 0.000 | 0.088 | |
| cpm | 0.111 | 0.000 | 0.121 | |
| create_design | 0.213 | 0.015 | 0.238 | |
| default_formula | 5.855 | 0.280 | 6.319 | |
| default_geom | 0.161 | 0.023 | 0.191 | |
| default_sfile | 0.001 | 0.001 | 0.001 | |
| demultiplex | 0.004 | 0.000 | 0.004 | |
| densities | 0.070 | 0.005 | 0.076 | |
| dequantify | 0.001 | 0.000 | 0.001 | |
| dequantify_compounddiscoverer | 0.001 | 0.000 | 0.001 | |
| dot-coxph | 0.150 | 0.012 | 0.171 | |
| dot-merge | 0.009 | 0.000 | 0.009 | |
| dot-read_maxquant_proteingroups | 0.046 | 0.002 | 0.049 | |
| download_data | 0 | 0 | 0 | |
| download_gtf | 0 | 0 | 0 | |
| download_mcclain21 | 0 | 0 | 0 | |
| dt2mat | 0.001 | 0.000 | 0.001 | |
| enrichment | 0.338 | 0.002 | 0.350 | |
| entrezg_to_symbol | 0.050 | 0.002 | 0.053 | |
| explore-transforms | 3.031 | 0.027 | 3.109 | |
| extract_contrast_features | 1.348 | 0.018 | 1.419 | |
| extract_rectangle | 0.046 | 0.013 | 0.071 | |
| factor.vars | 0.051 | 0.000 | 0.052 | |
| factorize | 0.241 | 0.003 | 0.244 | |
| fcluster | 2.859 | 0.014 | 3.001 | |
| fcor | 0.501 | 0.011 | 0.527 | |
| fdata | 0.161 | 0.003 | 0.164 | |
| fdr2p | 0.298 | 0.013 | 0.379 | |
| filter_exprs_replicated_in_some_subgroup | 0.299 | 0.018 | 0.346 | |
| filter_features | 0.163 | 0.013 | 0.178 | |
| filter_medoid | 0.163 | 0.001 | 0.175 | |
| filter_samples | 0.185 | 0.015 | 0.219 | |
| fit_survival | 3.320 | 0.061 | 3.567 | |
| fits | 0.093 | 0.000 | 0.094 | |
| fix_xlgenes | 0.001 | 0.000 | 0.001 | |
| flevels | 0.122 | 0.002 | 0.130 | |
| fnames | 0.131 | 0.002 | 0.138 | |
| formula2str | 0 | 0 | 0 | |
| ftype | 2.637 | 0.128 | 3.235 | |
| fvalues | 0.149 | 0.001 | 0.158 | |
| fvars | 0.124 | 0.002 | 0.132 | |
| genome_to_orgdb | 0 | 0 | 0 | |
| group_by_level | 0.001 | 0.000 | 0.001 | |
| guess_compounddiscoverer_quantity | 0 | 0 | 0 | |
| guess_fitsep | 0.128 | 0.001 | 0.131 | |
| guess_maxquant_quantity | 0.002 | 0.000 | 0.002 | |
| guess_sep | 0.146 | 0.014 | 0.204 | |
| has_multiple_levels | 0.043 | 0.001 | 0.052 | |
| hdlproteins | 0.020 | 0.012 | 0.035 | |
| impute | 1.063 | 0.009 | 1.091 | |
| invert_subgroups | 0.177 | 0.002 | 0.180 | |
| is_character_matrix | 0.071 | 0.001 | 0.071 | |
| is_collapsed_subset | 0 | 0 | 0 | |
| is_compounddiscoverer_output | 0.027 | 0.006 | 0.072 | |
| is_correlation_matrix | 0 | 0 | 0 | |
| is_diann_report | 0.056 | 0.004 | 0.060 | |
| is_fastadt | 0.02 | 0.00 | 0.02 | |
| is_file | 0 | 0 | 0 | |
| is_fraction | 0.001 | 0.000 | 0.000 | |
| is_fragpipe_tsv | 0.048 | 0.005 | 0.041 | |
| is_imputed | 0.212 | 0.002 | 0.213 | |
| is_maxquant_phosphosites | 0.031 | 0.003 | 0.029 | |
| is_maxquant_proteingroups | 0.033 | 0.003 | 0.036 | |
| is_positive_number | 0.000 | 0.000 | 0.001 | |
| is_scalar_subset | 0.093 | 0.002 | 0.099 | |
| is_sig | 0.424 | 0.003 | 0.442 | |
| is_valid_formula | 0.013 | 0.000 | 0.013 | |
| keep_estimable_features | 0.274 | 0.015 | 0.340 | |
| label2index | 0 | 0 | 0 | |
| list2mat | 0.001 | 0.000 | 0.001 | |
| log2counts | 0.088 | 0.001 | 0.089 | |
| log2cpm | 0.086 | 0.001 | 0.088 | |
| log2diffs | 0.126 | 0.001 | 0.136 | |
| log2proteins | 0.101 | 0.002 | 0.108 | |
| log2sites | 0.092 | 0.002 | 0.094 | |
| log2tpm | 0.088 | 0.001 | 0.089 | |
| log2transform | 1.551 | 0.017 | 1.584 | |
| logical2factor | 0.001 | 0.000 | 0.001 | |
| make_alpha_palette | 0.157 | 0.015 | 0.191 | |
| make_colors | 0.005 | 0.000 | 0.005 | |
| make_volcano_dt | 0.767 | 0.010 | 0.778 | |
| map_fvalues | 0.107 | 0.002 | 0.110 | |
| matrix2sumexp | 0.294 | 0.016 | 0.323 | |
| mclust_breaks | 0.185 | 0.017 | 0.202 | |
| merge_sample_file | 0.173 | 0.004 | 0.178 | |
| merge_sdata | 0.160 | 0.017 | 0.196 | |
| message_df | 0.000 | 0.000 | 0.001 | |
| model_coefs | 0.210 | 0.013 | 0.238 | |
| modelvar | 0.914 | 0.016 | 0.970 | |
| object1 | 0.153 | 0.001 | 0.161 | |
| order_on_p | 0.385 | 0.016 | 0.422 | |
| overall_parameters | 0.009 | 0.000 | 0.011 | |
| pca | 0.945 | 0.019 | 1.051 | |
| pg_to_canonical | 0.002 | 0.001 | 0.002 | |
| plot_coef_densities | 0.391 | 0.014 | 0.440 | |
| plot_contrast_venn | 0.653 | 0.017 | 0.771 | |
| plot_contrastogram | 0.919 | 0.052 | 1.154 | |
| plot_data | 0.532 | 0.022 | 0.633 | |
| plot_densities | 3.136 | 0.105 | 3.589 | |
| plot_design | 0.240 | 0.002 | 0.271 | |
| plot_detections | 2.192 | 0.009 | 2.417 | |
| plot_exprs | 6.020 | 0.030 | 6.413 | |
| plot_exprs_per_coef | 5.885 | 0.024 | 6.144 | |
| plot_fit_summary | 0.716 | 0.038 | 0.882 | |
| plot_heatmap | 0.584 | 0.006 | 0.596 | |
| plot_matrix | 0.155 | 0.013 | 0.188 | |
| plot_subgroup_points | 1.766 | 0.025 | 1.808 | |
| plot_summary | 3.864 | 0.022 | 4.123 | |
| plot_venn | 0.008 | 0.001 | 0.009 | |
| plot_venn_heatmap | 0.007 | 0.001 | 0.007 | |
| plot_violins | 1.641 | 0.033 | 1.855 | |
| plot_volcano | 4.186 | 0.033 | 4.504 | |
| plot_xy_density | 2.037 | 0.010 | 2.165 | |
| preprocess_rnaseq_counts | 0.128 | 0.000 | 0.134 | |
| pull_columns | 0.000 | 0.001 | 0.001 | |
| pvalues_estimable | 0.012 | 0.001 | 0.013 | |
| read_affymetrix | 0 | 0 | 0 | |
| read_diann_proteingroups | 33.918 | 1.036 | 35.600 | |
| read_fragpipe | 2.762 | 0.095 | 2.911 | |
| read_maxquant_phosphosites | 0.474 | 0.007 | 0.503 | |
| read_maxquant_proteingroups | 0.382 | 0.006 | 0.416 | |
| read_metabolon | 3.682 | 0.031 | 4.026 | |
| read_msigdt | 0.001 | 0.000 | 0.000 | |
| read_olink | 0.569 | 0.025 | 0.644 | |
| read_rectangles | 0.091 | 0.010 | 0.104 | |
| read_rnaseq_counts | 9.838 | 0.811 | 10.885 | |
| read_salmon | 0 | 0 | 0 | |
| read_somascan | 3.701 | 0.019 | 3.908 | |
| read_uniprotdt | 0.098 | 0.009 | 0.106 | |
| reset_fit | 1.259 | 0.024 | 1.323 | |
| rm_diann_contaminants | 6.767 | 0.211 | 7.016 | |
| rm_missing_in_some_samples | 0.152 | 0.016 | 0.195 | |
| rm_unmatched_samples | 0.210 | 0.006 | 0.276 | |
| sbind | 1.254 | 0.006 | 1.294 | |
| scaledlibsizes | 0.091 | 0.001 | 0.100 | |
| scoremat | 0.278 | 0.014 | 0.295 | |
| slevels | 0.123 | 0.001 | 0.125 | |
| snames | 0.122 | 0.001 | 0.129 | |
| split_extract_fixed | 0.178 | 0.020 | 0.220 | |
| split_samples | 0.358 | 0.015 | 0.385 | |
| stepauc | 0.098 | 0.002 | 0.100 | |
| stri_any_regex | 0 | 0 | 0 | |
| stri_detect_fixed_in_collapsed | 0.103 | 0.002 | 0.110 | |
| subgroup_matrix | 0.229 | 0.030 | 0.263 | |
| subtract_baseline | 1.499 | 0.030 | 1.596 | |
| sumexp_to_longdt | 0.546 | 0.030 | 0.611 | |
| sumexp_to_tsv | 0.170 | 0.002 | 0.172 | |
| sumexplist_to_longdt | 0.467 | 0.010 | 0.495 | |
| summarize_fit | 0.496 | 0.022 | 0.526 | |
| survobj | 0.070 | 0.000 | 0.073 | |
| svalues | 0.122 | 0.002 | 0.131 | |
| svars | 0.117 | 0.001 | 0.120 | |
| systematic_nas | 0.176 | 0.001 | 0.186 | |
| tag_features | 0.337 | 0.013 | 0.351 | |
| tag_hdlproteins | 0.217 | 0.013 | 0.230 | |
| taxon2org | 0 | 0 | 0 | |
| tpm | 0.116 | 0.001 | 0.116 | |
| uncollapse | 0.009 | 0.000 | 0.009 | |
| values | 0.129 | 0.002 | 0.139 | |
| varlevels_dont_clash | 0.008 | 0.000 | 0.009 | |
| venn_detects | 0.183 | 0.003 | 0.190 | |
| weights | 0.106 | 0.001 | 0.107 | |
| write_xl | 53.877 | 2.457 | 58.285 | |
| zero_to_na | 0 | 0 | 0 | |