| Back to Multiple platform build/check report for BioC 3.22: simplified long |
|
This page was generated on 2025-10-24 12:05 -0400 (Fri, 24 Oct 2025).
| Hostname | OS | Arch (*) | R version | Installed pkgs |
|---|---|---|---|---|
| nebbiolo2 | Linux (Ubuntu 24.04.3 LTS) | x86_64 | 4.5.1 Patched (2025-08-23 r88802) -- "Great Square Root" | 4898 |
| lconway | macOS 12.7.6 Monterey | x86_64 | 4.5.1 Patched (2025-09-10 r88807) -- "Great Square Root" | 4688 |
| kjohnson3 | macOS 13.7.7 Ventura | arm64 | 4.5.1 Patched (2025-09-10 r88807) -- "Great Square Root" | 4634 |
| taishan | Linux (openEuler 24.03 LTS) | aarch64 | 4.5.0 (2025-04-11) -- "How About a Twenty-Six" | 4658 |
| Click on any hostname to see more info about the system (e.g. compilers) (*) as reported by 'uname -p', except on Windows and Mac OS X | ||||
| Package 2252/2359 | Hostname | OS / Arch | INSTALL | BUILD | CHECK | BUILD BIN | ||||||||
Julius Muller
| nebbiolo2 | Linux (Ubuntu 24.04.3 LTS) / x86_64 | OK | ERROR | skipped | |||||||||
| lconway | macOS 12.7.6 Monterey / x86_64 | OK | OK | OK | OK | |||||||||
| kjohnson3 | macOS 13.7.7 Ventura / arm64 | OK | OK | OK | OK | |||||||||
| taishan | Linux (openEuler 24.03 LTS) / aarch64 | OK | OK | NA | ||||||||||
|
To the developers/maintainers of the TransView package: - Allow up to 24 hours (and sometimes 48 hours) for your latest push to git@git.bioconductor.org:packages/TransView.git to reflect on this report. See Troubleshooting Build Report for more information. - Use the following Renviron settings to reproduce errors and warnings. - If 'R CMD check' started to fail recently on the Linux builder(s) over a missing dependency, add the missing dependency to 'Suggests:' in your DESCRIPTION file. See Renviron.bioc for more information. |
| Package: TransView |
| Version: 1.53.1 |
| Command: /Library/Frameworks/R.framework/Resources/bin/R CMD check --install=check:TransView.install-out.txt --library=/Library/Frameworks/R.framework/Resources/library --no-vignettes --timings TransView_1.53.1.tar.gz |
| StartedAt: 2025-10-24 00:49:27 -0400 (Fri, 24 Oct 2025) |
| EndedAt: 2025-10-24 00:51:21 -0400 (Fri, 24 Oct 2025) |
| EllapsedTime: 113.9 seconds |
| RetCode: 0 |
| Status: OK |
| CheckDir: TransView.Rcheck |
| Warnings: 0 |
##############################################################################
##############################################################################
###
### Running command:
###
### /Library/Frameworks/R.framework/Resources/bin/R CMD check --install=check:TransView.install-out.txt --library=/Library/Frameworks/R.framework/Resources/library --no-vignettes --timings TransView_1.53.1.tar.gz
###
##############################################################################
##############################################################################
* using log directory ‘/Users/biocbuild/bbs-3.22-bioc/meat/TransView.Rcheck’
* using R version 4.5.1 Patched (2025-09-10 r88807)
* using platform: x86_64-apple-darwin20
* R was compiled by
Apple clang version 14.0.0 (clang-1400.0.29.202)
GNU Fortran (GCC) 14.2.0
* running under: macOS Monterey 12.7.6
* using session charset: UTF-8
* using option ‘--no-vignettes’
* checking for file ‘TransView/DESCRIPTION’ ... OK
* checking extension type ... Package
* this is package ‘TransView’ version ‘1.53.1’
* checking package namespace information ... OK
* checking package dependencies ... OK
* checking if this is a source package ... OK
* checking if there is a namespace ... OK
* checking for hidden files and directories ... OK
* checking for portable file names ... OK
* checking for sufficient/correct file permissions ... OK
* checking whether package ‘TransView’ can be installed ... OK
* used C compiler: ‘Apple clang version 14.0.0 (clang-1400.0.29.202)’
* used SDK: ‘MacOSX11.3.1.sdk’
* checking installed package size ... OK
* checking package directory ... OK
* checking ‘build’ directory ... OK
* checking DESCRIPTION meta-information ... NOTE
Versioned 'LinkingTo' value for ‘Rhtslib’ is only usable in R >= 3.0.2
* checking top-level files ... OK
* checking for left-over files ... OK
* checking index information ... OK
* checking package subdirectories ... OK
* checking code files for non-ASCII characters ... OK
* checking R files for syntax errors ... OK
* checking whether the package can be loaded ... OK
* checking whether the package can be loaded with stated dependencies ... OK
* checking whether the package can be unloaded cleanly ... OK
* checking whether the namespace can be loaded with stated dependencies ... OK
* checking whether the namespace can be unloaded cleanly ... OK
* checking whether startup messages can be suppressed ... OK
* checking dependencies in R code ... NOTE
'library' or 'require' call to ‘RUnit’ in package code.
Please use :: or requireNamespace() instead.
See section 'Suggested packages' in the 'Writing R Extensions' manual.
* checking S3 generic/method consistency ... OK
* checking replacement functions ... OK
* checking foreign function calls ... OK
* checking R code for possible problems ... NOTE
.test: no visible global function definition for ‘defineTestSuite’
.test: no visible global function definition for ‘runTestSuite’
.test: no visible global function definition for ‘printTextProtocol’
Undefined global functions or variables:
defineTestSuite printTextProtocol runTestSuite
* checking Rd files ... OK
* checking Rd metadata ... OK
* checking Rd cross-references ... NOTE
Found the following Rd file(s) with Rd \link{} targets missing package
anchors:
annotatePeaks.Rd: GRanges-class
gtf2gr.Rd: GRanges-class
macs2gr.Rd: GRanges-class
meltPeak.Rd: GRanges-class
parseReads.Rd: GRanges-class
peak2tss.Rd: GRanges-class
plotTV.Rd: GRanges-class
slice1.Rd: GRanges-class
slice1T.Rd: GRanges-class
Please provide package anchors for all Rd \link{} targets not in the
package itself and the base packages.
* checking for missing documentation entries ... OK
* checking for code/documentation mismatches ... OK
* checking Rd \usage sections ... OK
* checking Rd contents ... OK
* checking for unstated dependencies in examples ... OK
* checking line endings in C/C++/Fortran sources/headers ... OK
* checking line endings in Makefiles ... OK
* checking compilation flags in Makevars ... OK
* checking for GNU extensions in Makefiles ... INFO
GNU make is a SystemRequirements.
* checking for portable use of $(BLAS_LIBS) and $(LAPACK_LIBS) ... OK
* checking use of PKG_*FLAGS in Makefiles ... OK
* checking compiled code ... NOTE
Note: information on .o files is not available
File ‘/Library/Frameworks/R.framework/Versions/4.5-x86_64/Resources/library/TransView/libs/TransView.so’:
Found ‘___assert_rtn’, possibly from ‘assert’ (C)
Found ‘___stderrp’, possibly from ‘stderr’ (C)
Found ‘___stdoutp’, possibly from ‘stdout’ (C)
Found ‘_abort’, possibly from ‘abort’ (C)
Found ‘_exit’, possibly from ‘exit’ (C)
Compiled code should not call entry points which might terminate R nor
write to stdout/stderr instead of to the console, nor use Fortran I/O
nor system RNGs nor [v]sprintf. The detected symbols are linked into
the code but might come from libraries and not actually be called.
See ‘Writing portable packages’ in the ‘Writing R Extensions’ manual.
* checking sizes of PDF files under ‘inst/doc’ ... OK
* checking files in ‘vignettes’ ... OK
* checking examples ... OK
* checking for unstated dependencies in ‘tests’ ... OK
* checking tests ...
Running ‘TransView_unit_tests.R’
OK
* checking for unstated dependencies in vignettes ... OK
* checking package vignettes ... OK
* checking running R code from vignettes ... SKIPPED
* checking re-building of vignette outputs ... SKIPPED
* checking PDF version of manual ... OK
* DONE
Status: 5 NOTEs
See
‘/Users/biocbuild/bbs-3.22-bioc/meat/TransView.Rcheck/00check.log’
for details.
TransView.Rcheck/00install.out
##############################################################################
##############################################################################
###
### Running command:
###
### /Library/Frameworks/R.framework/Resources/bin/R CMD INSTALL TransView
###
##############################################################################
##############################################################################
* installing to library ‘/Library/Frameworks/R.framework/Versions/4.5-x86_64/Resources/library’
* installing *source* package ‘TransView’ ...
** this is package ‘TransView’ version ‘1.53.1’
** using staged installation
** libs
using C compiler: ‘Apple clang version 14.0.0 (clang-1400.0.29.202)’
using SDK: ‘MacOSX11.3.1.sdk’
clang -arch x86_64 -I"/Library/Frameworks/R.framework/Resources/include" -DNDEBUG -D_FILE_OFFSET_BITS=64 -I'/Library/Frameworks/R.framework/Versions/4.5-x86_64/Resources/library/Rhtslib/include' -I/opt/R/x86_64/include -fPIC -falign-functions=64 -Wall -g -O2 -c R_init_TransView.c -o R_init_TransView.o
clang -arch x86_64 -I"/Library/Frameworks/R.framework/Resources/include" -DNDEBUG -D_FILE_OFFSET_BITS=64 -I'/Library/Frameworks/R.framework/Versions/4.5-x86_64/Resources/library/Rhtslib/include' -I/opt/R/x86_64/include -fPIC -falign-functions=64 -Wall -g -O2 -c bam_plbuf.c -o bam_plbuf.o
clang -arch x86_64 -I"/Library/Frameworks/R.framework/Resources/include" -DNDEBUG -D_FILE_OFFSET_BITS=64 -I'/Library/Frameworks/R.framework/Versions/4.5-x86_64/Resources/library/Rhtslib/include' -I/opt/R/x86_64/include -fPIC -falign-functions=64 -Wall -g -O2 -c bin_density.c -o bin_density.o
clang -arch x86_64 -I"/Library/Frameworks/R.framework/Resources/include" -DNDEBUG -D_FILE_OFFSET_BITS=64 -I'/Library/Frameworks/R.framework/Versions/4.5-x86_64/Resources/library/Rhtslib/include' -I/opt/R/x86_64/include -fPIC -falign-functions=64 -Wall -g -O2 -c construct_dc.c -o construct_dc.o
In file included from construct_dc.c:23:
In file included from ./parse_sam.h:13:
In file included from /Library/Frameworks/R.framework/Versions/4.5-x86_64/Resources/library/Rhtslib/include/samtools-1.7-compat.h:5:
In file included from /Library/Frameworks/R.framework/Versions/4.5-x86_64/Resources/library/Rhtslib/include/htslib/sam.h:33:
In file included from /Library/Frameworks/R.framework/Versions/4.5-x86_64/Resources/library/Rhtslib/include/htslib/hts.h:36:
/Library/Frameworks/R.framework/Versions/4.5-x86_64/Resources/library/Rhtslib/include/htslib/hts_log.h:76:1: warning: '__format__' attribute argument not supported: Rprintf [-Wignored-attributes]
HTS_FORMAT(HTS_PRINTF_FMT, 3, 4);
^
/Library/Frameworks/R.framework/Versions/4.5-x86_64/Resources/library/Rhtslib/include/htslib/hts_defs.h:101:53: note: expanded from macro 'HTS_FORMAT'
#define HTS_FORMAT(type, idx, first) __attribute__((__format__ (type, idx, first)))
^
1 warning generated.
clang -arch x86_64 -I"/Library/Frameworks/R.framework/Resources/include" -DNDEBUG -D_FILE_OFFSET_BITS=64 -I'/Library/Frameworks/R.framework/Versions/4.5-x86_64/Resources/library/Rhtslib/include' -I/opt/R/x86_64/include -fPIC -falign-functions=64 -Wall -g -O2 -c parse_sam.c -o parse_sam.o
clang -arch x86_64 -I"/Library/Frameworks/R.framework/Resources/include" -DNDEBUG -D_FILE_OFFSET_BITS=64 -I'/Library/Frameworks/R.framework/Versions/4.5-x86_64/Resources/library/Rhtslib/include' -I/opt/R/x86_64/include -fPIC -falign-functions=64 -Wall -g -O2 -c slice_dc.c -o slice_dc.o
clang -arch x86_64 -I"/Library/Frameworks/R.framework/Resources/include" -DNDEBUG -D_FILE_OFFSET_BITS=64 -I'/Library/Frameworks/R.framework/Versions/4.5-x86_64/Resources/library/Rhtslib/include' -I/opt/R/x86_64/include -fPIC -falign-functions=64 -Wall -g -O2 -c visuals.c -o visuals.o
clang -arch x86_64 -dynamiclib -Wl,-headerpad_max_install_names -undefined dynamic_lookup -L/Library/Frameworks/R.framework/Resources/lib -L/opt/R/x86_64/lib -o TransView.so R_init_TransView.o bam_plbuf.o bin_density.o construct_dc.o parse_sam.o slice_dc.o visuals.o /Library/Frameworks/R.framework/Versions/4.5-x86_64/Resources/library/Rhtslib/usrlib/libhts.a -lcurl -lbz2 -llzma -lz -lz -F/Library/Frameworks/R.framework/.. -framework R
installing to /Library/Frameworks/R.framework/Versions/4.5-x86_64/Resources/library/00LOCK-TransView/00new/TransView/libs
** R
** inst
** byte-compile and prepare package for lazy loading
** help
*** installing help indices
** building package indices
** installing vignettes
** testing if installed package can be loaded from temporary location
Warning in fun(libname, pkgname) :
Package 'TransView' is deprecated and will be removed from Bioconductor
version 3.23
** checking absolute paths in shared objects and dynamic libraries
** testing if installed package can be loaded from final location
Warning in fun(libname, pkgname) :
Package 'TransView' is deprecated and will be removed from Bioconductor
version 3.23
** testing if installed package keeps a record of temporary installation path
* DONE (TransView)
TransView.Rcheck/tests/TransView_unit_tests.Rout
R version 4.5.1 Patched (2025-09-10 r88807) -- "Great Square Root"
Copyright (C) 2025 The R Foundation for Statistical Computing
Platform: x86_64-apple-darwin20
R is free software and comes with ABSOLUTELY NO WARRANTY.
You are welcome to redistribute it under certain conditions.
Type 'license()' or 'licence()' for distribution details.
R is a collaborative project with many contributors.
Type 'contributors()' for more information and
'citation()' on how to cite R or R packages in publications.
Type 'demo()' for some demos, 'help()' for on-line help, or
'help.start()' for an HTML browser interface to help.
Type 'q()' to quit R.
>
>
> require("TransView") || stop("unable to load TransView package")
Loading required package: TransView
Loading required package: GenomicRanges
Loading required package: stats4
Loading required package: BiocGenerics
Loading required package: generics
Attaching package: 'generics'
The following objects are masked from 'package:base':
as.difftime, as.factor, as.ordered, intersect, is.element, setdiff,
setequal, union
Attaching package: 'BiocGenerics'
The following objects are masked from 'package:stats':
IQR, mad, sd, var, xtabs
The following objects are masked from 'package:base':
Filter, Find, Map, Position, Reduce, anyDuplicated, aperm, append,
as.data.frame, basename, cbind, colnames, dirname, do.call,
duplicated, eval, evalq, get, grep, grepl, is.unsorted, lapply,
mapply, match, mget, order, paste, pmax, pmax.int, pmin, pmin.int,
rank, rbind, rownames, sapply, saveRDS, table, tapply, unique,
unsplit, which.max, which.min
Loading required package: S4Vectors
Attaching package: 'S4Vectors'
The following object is masked from 'package:utils':
findMatches
The following objects are masked from 'package:base':
I, expand.grid, unname
Loading required package: IRanges
Loading required package: Seqinfo
Welcome to TransView version 1.53.1
Attaching package: 'TransView'
The following object is masked from 'package:GenomicRanges':
pos
The following object is masked from 'package:IRanges':
pos
The following object is masked from 'package:BiocGenerics':
pos
[1] TRUE
Warning message:
In fun(libname, pkgname) :
Package 'TransView' is deprecated and will be removed from Bioconductor
version 3.23
> TransView:::.test()
Version 2.09+ detected
21 peaks matching
172 rows matching
2862 rows matching
Successful annotation within -10kBps to 10kBps: 21, NA peaks without hit
Successful annotation within -5kBps to 2kBps: NA, 21 peaks without hit
Successful annotation within -5kBps to 2kBps: 10, 11 peaks without hit
Successful annotation within -10kBps to 10kBps: 21, NA peaks without hit
RUNIT TEST PROTOCOL -- Fri Oct 24 00:51:12 2025
***********************************************
Number of test functions: 9
Number of errors: 0
Number of failures: 0
1 Test Suite :
TransView RUnit Tests - 9 test functions, 0 errors, 0 failures
Number of test functions: 9
Number of errors: 0
Number of failures: 0
>
> proc.time()
user system elapsed
9.354 3.612 13.054
TransView.Rcheck/TransView-Ex.timings
| name | user | system | elapsed | |
| DensityContainer-class | 0.002 | 0.001 | 0.002 | |
| TVResults-class | 0.001 | 0.000 | 0.001 | |
| TransView-package | 0 | 0 | 0 | |
| annotatePeaks | 2.128 | 0.057 | 2.201 | |
| gtf2gr | 0.058 | 0.001 | 0.060 | |
| macs2gr | 0.030 | 0.002 | 0.032 | |
| meltPeak | 1.568 | 1.129 | 2.714 | |
| parseReads | 0.373 | 0.528 | 0.905 | |
| peak2tss | 0.782 | 0.006 | 0.791 | |
| plotTV | 0.828 | 0.966 | 1.826 | |
| plotTVData | 0.802 | 1.019 | 1.836 | |
| rmTV | 0.641 | 0.485 | 1.135 | |
| slice1 | 0.796 | 0.995 | 1.796 | |
| slice1T | 0.615 | 0.031 | 0.650 | |