| Back to Multiple platform build/check report for BioC 3.22: simplified long |
|
This page was generated on 2025-10-24 12:05 -0400 (Fri, 24 Oct 2025).
| Hostname | OS | Arch (*) | R version | Installed pkgs |
|---|---|---|---|---|
| nebbiolo2 | Linux (Ubuntu 24.04.3 LTS) | x86_64 | 4.5.1 Patched (2025-08-23 r88802) -- "Great Square Root" | 4898 |
| lconway | macOS 12.7.6 Monterey | x86_64 | 4.5.1 Patched (2025-09-10 r88807) -- "Great Square Root" | 4688 |
| kjohnson3 | macOS 13.7.7 Ventura | arm64 | 4.5.1 Patched (2025-09-10 r88807) -- "Great Square Root" | 4634 |
| taishan | Linux (openEuler 24.03 LTS) | aarch64 | 4.5.0 (2025-04-11) -- "How About a Twenty-Six" | 4658 |
| Click on any hostname to see more info about the system (e.g. compilers) (*) as reported by 'uname -p', except on Windows and Mac OS X | ||||
| Package 2243/2359 | Hostname | OS / Arch | INSTALL | BUILD | CHECK | BUILD BIN | ||||||||
| TrajectoryGeometry 1.17.0 (landing page) Michael Shapiro
| nebbiolo2 | Linux (Ubuntu 24.04.3 LTS) / x86_64 | OK | OK | OK | |||||||||
| lconway | macOS 12.7.6 Monterey / x86_64 | OK | OK | OK | OK | |||||||||
| kjohnson3 | macOS 13.7.7 Ventura / arm64 | OK | OK | OK | OK | |||||||||
| taishan | Linux (openEuler 24.03 LTS) / aarch64 | OK | OK | NA | ||||||||||
|
To the developers/maintainers of the TrajectoryGeometry package: - Allow up to 24 hours (and sometimes 48 hours) for your latest push to git@git.bioconductor.org:packages/TrajectoryGeometry.git to reflect on this report. See Troubleshooting Build Report for more information. - Use the following Renviron settings to reproduce errors and warnings. - If 'R CMD check' started to fail recently on the Linux builder(s) over a missing dependency, add the missing dependency to 'Suggests:' in your DESCRIPTION file. See Renviron.bioc for more information. |
| Package: TrajectoryGeometry |
| Version: 1.17.0 |
| Command: /Library/Frameworks/R.framework/Resources/bin/R CMD check --install=check:TrajectoryGeometry.install-out.txt --library=/Library/Frameworks/R.framework/Resources/library --no-vignettes --timings TrajectoryGeometry_1.17.0.tar.gz |
| StartedAt: 2025-10-24 00:48:27 -0400 (Fri, 24 Oct 2025) |
| EndedAt: 2025-10-24 00:49:51 -0400 (Fri, 24 Oct 2025) |
| EllapsedTime: 84.0 seconds |
| RetCode: 0 |
| Status: OK |
| CheckDir: TrajectoryGeometry.Rcheck |
| Warnings: 0 |
##############################################################################
##############################################################################
###
### Running command:
###
### /Library/Frameworks/R.framework/Resources/bin/R CMD check --install=check:TrajectoryGeometry.install-out.txt --library=/Library/Frameworks/R.framework/Resources/library --no-vignettes --timings TrajectoryGeometry_1.17.0.tar.gz
###
##############################################################################
##############################################################################
* using log directory ‘/Users/biocbuild/bbs-3.22-bioc/meat/TrajectoryGeometry.Rcheck’
* using R version 4.5.1 Patched (2025-09-10 r88807)
* using platform: x86_64-apple-darwin20
* R was compiled by
Apple clang version 14.0.0 (clang-1400.0.29.202)
GNU Fortran (GCC) 14.2.0
* running under: macOS Monterey 12.7.6
* using session charset: UTF-8
* using option ‘--no-vignettes’
* checking for file ‘TrajectoryGeometry/DESCRIPTION’ ... OK
* this is package ‘TrajectoryGeometry’ version ‘1.17.0’
* package encoding: UTF-8
* checking package namespace information ... OK
* checking package dependencies ... OK
* checking if this is a source package ... OK
* checking if there is a namespace ... OK
* checking for hidden files and directories ... OK
* checking for portable file names ... OK
* checking for sufficient/correct file permissions ... OK
* checking whether package ‘TrajectoryGeometry’ can be installed ... OK
* checking installed package size ... OK
* checking package directory ... OK
* checking ‘build’ directory ... OK
* checking DESCRIPTION meta-information ... OK
* checking top-level files ... OK
* checking for left-over files ... OK
* checking index information ... OK
* checking package subdirectories ... OK
* checking code files for non-ASCII characters ... OK
* checking R files for syntax errors ... OK
* checking whether the package can be loaded ... OK
* checking whether the package can be loaded with stated dependencies ... OK
* checking whether the package can be unloaded cleanly ... OK
* checking whether the namespace can be loaded with stated dependencies ... OK
* checking whether the namespace can be unloaded cleanly ... OK
* checking dependencies in R code ... OK
* checking S3 generic/method consistency ... OK
* checking replacement functions ... OK
* checking foreign function calls ... OK
* checking R code for possible problems ... NOTE
visualiseBranchPointStats: no visible binding for global variable
‘value’
visualiseBranchPointStats: no visible binding for global variable
‘logPValue’
visualiseTrajectoryStats: no visible binding for global variable ‘type’
visualiseTrajectoryStats: no visible binding for global variable
‘value’
Undefined global functions or variables:
logPValue type value
* checking Rd files ... OK
* checking Rd metadata ... OK
* checking Rd cross-references ... OK
* checking for missing documentation entries ... OK
* checking for code/documentation mismatches ... OK
* checking Rd \usage sections ... OK
* checking Rd contents ... OK
* checking for unstated dependencies in examples ... OK
* checking contents of ‘data’ directory ... OK
* checking data for non-ASCII characters ... OK
* checking LazyData ... OK
* checking data for ASCII and uncompressed saves ... OK
* checking files in ‘vignettes’ ... OK
* checking examples ... OK
Examples with CPU (user + system) or elapsed time > 5s
user system elapsed
testPathForDirectionality 12.767 0.074 12.920
analyseBranchPoint 12.079 0.077 12.218
* checking for unstated dependencies in vignettes ... OK
* checking package vignettes ... OK
* checking running R code from vignettes ... SKIPPED
* checking re-building of vignette outputs ... SKIPPED
* checking PDF version of manual ... OK
* DONE
Status: 1 NOTE
See
‘/Users/biocbuild/bbs-3.22-bioc/meat/TrajectoryGeometry.Rcheck/00check.log’
for details.
TrajectoryGeometry.Rcheck/00install.out
############################################################################## ############################################################################## ### ### Running command: ### ### /Library/Frameworks/R.framework/Resources/bin/R CMD INSTALL TrajectoryGeometry ### ############################################################################## ############################################################################## * installing to library ‘/Library/Frameworks/R.framework/Versions/4.5-x86_64/Resources/library’ * installing *source* package ‘TrajectoryGeometry’ ... ** this is package ‘TrajectoryGeometry’ version ‘1.17.0’ ** using staged installation ** R ** data *** moving datasets to lazyload DB ** inst ** byte-compile and prepare package for lazy loading ** help *** installing help indices ** building package indices ** installing vignettes ** testing if installed package can be loaded from temporary location ** testing if installed package can be loaded from final location ** testing if installed package keeps a record of temporary installation path * DONE (TrajectoryGeometry)
TrajectoryGeometry.Rcheck/TrajectoryGeometry-Ex.timings
| name | user | system | elapsed | |
| analyseBranchPoint | 12.079 | 0.077 | 12.218 | |
| analyseSingleCellTrajectory | 2.269 | 0.017 | 2.299 | |
| circleOnTheUnitSphere | 0.001 | 0.000 | 0.001 | |
| distanceBetweenTrajectories | 1.284 | 0.022 | 1.317 | |
| findSphereClusterCenter | 0.067 | 0.002 | 0.071 | |
| findSphericalDistance | 0.001 | 0.000 | 0.000 | |
| generateRandomPaths | 0.001 | 0.000 | 0.001 | |
| generateRandomUnitVector | 0 | 0 | 0 | |
| getDistanceDataForPaths | 0.385 | 0.003 | 0.391 | |
| getSphericalData | 0.044 | 0.000 | 0.044 | |
| getStepLengths | 0.001 | 0.000 | 0.001 | |
| orthonormalBasis | 0.000 | 0.001 | 0.001 | |
| pathProgression | 0.001 | 0.000 | 0.001 | |
| pathToSphericalData | 0.060 | 0.000 | 0.062 | |
| plotPathProjectionCenterAndCircle | 0.022 | 0.002 | 0.026 | |
| projectPathToSphere | 0.001 | 0.000 | 0.000 | |
| samplePath | 0.002 | 0.001 | 0.003 | |
| testPathForDirectionality | 12.767 | 0.074 | 12.920 | |
| visualiseBranchPointStats | 1.221 | 0.010 | 1.238 | |
| visualiseTrajectoryStats | 2.859 | 0.032 | 2.912 | |