| Back to Multiple platform build/check report for BioC 3.22: simplified long |
|
This page was generated on 2025-10-25 12:05 -0400 (Sat, 25 Oct 2025).
| Hostname | OS | Arch (*) | R version | Installed pkgs |
|---|---|---|---|---|
| nebbiolo2 | Linux (Ubuntu 24.04.3 LTS) | x86_64 | 4.5.1 Patched (2025-08-23 r88802) -- "Great Square Root" | 4901 |
| lconway | macOS 12.7.6 Monterey | x86_64 | 4.5.1 Patched (2025-09-10 r88807) -- "Great Square Root" | 4691 |
| kjohnson3 | macOS 13.7.7 Ventura | arm64 | 4.5.1 Patched (2025-09-10 r88807) -- "Great Square Root" | 4637 |
| taishan | Linux (openEuler 24.03 LTS) | aarch64 | 4.5.0 (2025-04-11) -- "How About a Twenty-Six" | 4658 |
| Click on any hostname to see more info about the system (e.g. compilers) (*) as reported by 'uname -p', except on Windows and Mac OS X | ||||
| Package 2186/2361 | Hostname | OS / Arch | INSTALL | BUILD | CHECK | BUILD BIN | ||||||||
| TargetSearch 2.11.1 (landing page) Alvaro Cuadros-Inostroza
| nebbiolo2 | Linux (Ubuntu 24.04.3 LTS) / x86_64 | OK | OK | OK | |||||||||
| lconway | macOS 12.7.6 Monterey / x86_64 | OK | OK | OK | OK | |||||||||
| kjohnson3 | macOS 13.7.7 Ventura / arm64 | OK | OK | OK | OK | |||||||||
| taishan | Linux (openEuler 24.03 LTS) / aarch64 | OK | NA | NA | ||||||||||
|
To the developers/maintainers of the TargetSearch package: - Allow up to 24 hours (and sometimes 48 hours) for your latest push to git@git.bioconductor.org:packages/TargetSearch.git to reflect on this report. See Troubleshooting Build Report for more information. - Use the following Renviron settings to reproduce errors and warnings. - If 'R CMD check' started to fail recently on the Linux builder(s) over a missing dependency, add the missing dependency to 'Suggests:' in your DESCRIPTION file. See Renviron.bioc for more information. |
| Package: TargetSearch |
| Version: 2.11.1 |
| Command: /Library/Frameworks/R.framework/Resources/bin/R CMD check --install=check:TargetSearch.install-out.txt --library=/Library/Frameworks/R.framework/Resources/library --no-vignettes --timings TargetSearch_2.11.1.tar.gz |
| StartedAt: 2025-10-25 00:46:28 -0400 (Sat, 25 Oct 2025) |
| EndedAt: 2025-10-25 00:48:08 -0400 (Sat, 25 Oct 2025) |
| EllapsedTime: 100.1 seconds |
| RetCode: 0 |
| Status: OK |
| CheckDir: TargetSearch.Rcheck |
| Warnings: 0 |
##############################################################################
##############################################################################
###
### Running command:
###
### /Library/Frameworks/R.framework/Resources/bin/R CMD check --install=check:TargetSearch.install-out.txt --library=/Library/Frameworks/R.framework/Resources/library --no-vignettes --timings TargetSearch_2.11.1.tar.gz
###
##############################################################################
##############################################################################
* using log directory ‘/Users/biocbuild/bbs-3.22-bioc/meat/TargetSearch.Rcheck’
* using R version 4.5.1 Patched (2025-09-10 r88807)
* using platform: x86_64-apple-darwin20
* R was compiled by
Apple clang version 14.0.0 (clang-1400.0.29.202)
GNU Fortran (GCC) 14.2.0
* running under: macOS Monterey 12.7.6
* using session charset: UTF-8
* using option ‘--no-vignettes’
* checking for file ‘TargetSearch/DESCRIPTION’ ... OK
* checking extension type ... Package
* this is package ‘TargetSearch’ version ‘2.11.1’
* checking package namespace information ... OK
* checking package dependencies ... OK
* checking if this is a source package ... OK
* checking if there is a namespace ... OK
* checking for hidden files and directories ... OK
* checking for portable file names ... OK
* checking for sufficient/correct file permissions ... OK
* checking whether package ‘TargetSearch’ can be installed ... OK
* used C compiler: ‘Apple clang version 14.0.0 (clang-1400.0.29.202)’
* used SDK: ‘MacOSX11.3.1.sdk’
* checking installed package size ... OK
* checking package directory ... OK
* checking ‘build’ directory ... OK
* checking DESCRIPTION meta-information ... OK
* checking top-level files ... OK
* checking for left-over files ... OK
* checking index information ... OK
* checking package subdirectories ... OK
* checking code files for non-ASCII characters ... OK
* checking R files for syntax errors ... OK
* checking whether the package can be loaded ... OK
* checking whether the package can be loaded with stated dependencies ... OK
* checking whether the package can be unloaded cleanly ... OK
* checking whether the namespace can be loaded with stated dependencies ... OK
* checking whether the namespace can be unloaded cleanly ... OK
* checking dependencies in R code ... OK
* checking S3 generic/method consistency ... OK
* checking replacement functions ... OK
* checking foreign function calls ... OK
* checking R code for possible problems ... OK
* checking Rd files ... OK
* checking Rd metadata ... OK
* checking Rd cross-references ... OK
* checking for missing documentation entries ... OK
* checking for code/documentation mismatches ... OK
* checking Rd \usage sections ... OK
* checking Rd contents ... OK
* checking for unstated dependencies in examples ... OK
* checking contents of ‘data’ directory ... OK
* checking data for non-ASCII characters ... OK
* checking data for ASCII and uncompressed saves ... OK
* checking line endings in C/C++/Fortran sources/headers ... OK
* checking compiled code ... NOTE
Note: information on .o files is not available
* checking sizes of PDF files under ‘inst/doc’ ... OK
* checking installed files from ‘inst/doc’ ... OK
* checking files in ‘vignettes’ ... OK
* checking examples ... OK
Examples with CPU (user + system) or elapsed time > 5s
user system elapsed
RIcorrect 12.081 2.176 14.446
* checking for unstated dependencies in ‘tests’ ... OK
* checking tests ...
Running ‘tinytest.R’
OK
* checking for unstated dependencies in vignettes ... OK
* checking package vignettes ... OK
* checking running R code from vignettes ... SKIPPED
* checking re-building of vignette outputs ... SKIPPED
* checking PDF version of manual ... OK
* DONE
Status: 1 NOTE
See
‘/Users/biocbuild/bbs-3.22-bioc/meat/TargetSearch.Rcheck/00check.log’
for details.
TargetSearch.Rcheck/00install.out
############################################################################## ############################################################################## ### ### Running command: ### ### /Library/Frameworks/R.framework/Resources/bin/R CMD INSTALL TargetSearch ### ############################################################################## ############################################################################## * installing to library ‘/Library/Frameworks/R.framework/Versions/4.5-x86_64/Resources/library’ * installing *source* package ‘TargetSearch’ ... ** this is package ‘TargetSearch’ version ‘2.11.1’ ** using staged installation ** libs using C compiler: ‘Apple clang version 14.0.0 (clang-1400.0.29.202)’ using SDK: ‘MacOSX11.3.1.sdk’ clang -arch x86_64 -I"/Library/Frameworks/R.framework/Resources/include" -DNDEBUG -I/opt/R/x86_64/include -fPIC -falign-functions=64 -Wall -g -O2 -c Rinit.c -o Rinit.o clang -arch x86_64 -I"/Library/Frameworks/R.framework/Resources/include" -DNDEBUG -I/opt/R/x86_64/include -fPIC -falign-functions=64 -Wall -g -O2 -c baseline.c -o baseline.o clang -arch x86_64 -I"/Library/Frameworks/R.framework/Resources/include" -DNDEBUG -I/opt/R/x86_64/include -fPIC -falign-functions=64 -Wall -g -O2 -c detection.c -o detection.o clang -arch x86_64 -I"/Library/Frameworks/R.framework/Resources/include" -DNDEBUG -I/opt/R/x86_64/include -fPIC -falign-functions=64 -Wall -g -O2 -c file.c -o file.o clang -arch x86_64 -I"/Library/Frameworks/R.framework/Resources/include" -DNDEBUG -I/opt/R/x86_64/include -fPIC -falign-functions=64 -Wall -g -O2 -c find.c -o find.o clang -arch x86_64 -I"/Library/Frameworks/R.framework/Resources/include" -DNDEBUG -I/opt/R/x86_64/include -fPIC -falign-functions=64 -Wall -g -O2 -c get_line.c -o get_line.o clang -arch x86_64 -I"/Library/Frameworks/R.framework/Resources/include" -DNDEBUG -I/opt/R/x86_64/include -fPIC -falign-functions=64 -Wall -g -O2 -c hpf.c -o hpf.o clang -arch x86_64 -I"/Library/Frameworks/R.framework/Resources/include" -DNDEBUG -I/opt/R/x86_64/include -fPIC -falign-functions=64 -Wall -g -O2 -c matrix.c -o matrix.o clang -arch x86_64 -I"/Library/Frameworks/R.framework/Resources/include" -DNDEBUG -I/opt/R/x86_64/include -fPIC -falign-functions=64 -Wall -g -O2 -c ncdf.c -o ncdf.o clang -arch x86_64 -I"/Library/Frameworks/R.framework/Resources/include" -DNDEBUG -I/opt/R/x86_64/include -fPIC -falign-functions=64 -Wall -g -O2 -c peak.c -o peak.o clang -arch x86_64 -I"/Library/Frameworks/R.framework/Resources/include" -DNDEBUG -I/opt/R/x86_64/include -fPIC -falign-functions=64 -Wall -g -O2 -c spectrum.c -o spectrum.o clang -arch x86_64 -I"/Library/Frameworks/R.framework/Resources/include" -DNDEBUG -I/opt/R/x86_64/include -fPIC -falign-functions=64 -Wall -g -O2 -c strutils.c -o strutils.o clang -arch x86_64 -I"/Library/Frameworks/R.framework/Resources/include" -DNDEBUG -I/opt/R/x86_64/include -fPIC -falign-functions=64 -Wall -g -O2 -c utils.c -o utils.o clang -arch x86_64 -dynamiclib -Wl,-headerpad_max_install_names -undefined dynamic_lookup -L/Library/Frameworks/R.framework/Resources/lib -L/opt/R/x86_64/lib -o TargetSearch.so Rinit.o baseline.o detection.o file.o find.o get_line.o hpf.o matrix.o ncdf.o peak.o spectrum.o strutils.o utils.o -F/Library/Frameworks/R.framework/.. -framework R installing to /Library/Frameworks/R.framework/Versions/4.5-x86_64/Resources/library/00LOCK-TargetSearch/00new/TargetSearch/libs ** R ** data ** inst ** byte-compile and prepare package for lazy loading ** help *** installing help indices ** building package indices ** installing vignettes ** testing if installed package can be loaded from temporary location ** checking absolute paths in shared objects and dynamic libraries ** testing if installed package can be loaded from final location ** testing if installed package keeps a record of temporary installation path * DONE (TargetSearch)
TargetSearch.Rcheck/tests/tinytest.Rout
R version 4.5.1 Patched (2025-09-10 r88807) -- "Great Square Root"
Copyright (C) 2025 The R Foundation for Statistical Computing
Platform: x86_64-apple-darwin20
R is free software and comes with ABSOLUTELY NO WARRANTY.
You are welcome to redistribute it under certain conditions.
Type 'license()' or 'licence()' for distribution details.
R is a collaborative project with many contributors.
Type 'contributors()' for more information and
'citation()' on how to cite R or R packages in publications.
Type 'demo()' for some demos, 'help()' for on-line help, or
'help.start()' for an HTML browser interface to help.
Type 'q()' to quit R.
> if ( requireNamespace("tinytest", quietly=TRUE) && requireNamespace("TargetSearchData", quietly=TRUE)) {
+ tinytest::test_package("TargetSearch", color=FALSE, verbose=1)
+ }
Loading required package: TargetSearchData
test_FindAllPeaks.R........... 19 tests OK 1.8s
FAMEs were saved in /tmp/RtmpgdiMsV/file19846347b713.pdf
FAMEs were saved in /tmp/RtmpgdiMsV/file19846347b713.pdf
FAMEs were saved in /tmp/RtmpgdiMsV/file19846347b713.pdf
FAMEs were saved in /tmp/RtmpgdiMsV/file19846347b713.pdf
test_fameoutliers.R........... 5 tests OK 0.1s
test_file.R................... 4 tests OK 0.1s
test_import_fame.R............ 14 tests OK 19ms
test_import_library.R......... 15 tests OK 0.1s
test_ncdf4_plot_peak.R........ 7 tests OK 0.4s
test_quantMatrix.R............ 8 tests OK 35ms
test_ri_data_extract.R........ 6 tests OK 4.6s
test_ri_plot_peak.R........... 22 tests OK 0.2s
test_ricorrect.R.............. 5 tests OK 0.6s
test_tsLib.R.................. 30 tests OK 0.1s
test_tsProfile.R.............. 12 tests OK 18ms
test_tsRim.R.................. 9 tests OK 6ms
test_tsSample.R............... 19 tests OK 58ms
test_write_ri_file.R.......... 6 tests OK 12ms
All ok, 181 results (8.2s)
>
> proc.time()
user system elapsed
8.056 0.413 8.598
TargetSearch.Rcheck/TargetSearch-Ex.timings
| name | user | system | elapsed | |
| FAMEoutliers | 0.071 | 0.014 | 0.087 | |
| FindAllPeaks | 1.356 | 0.063 | 1.443 | |
| FindPeaks | 0.233 | 0.010 | 0.246 | |
| ImportFameSettings | 0.011 | 0.002 | 0.014 | |
| ImportLibrary | 0.021 | 0.001 | 0.023 | |
| ImportSamples | 0.016 | 0.002 | 0.018 | |
| NetCDFPeakFinding | 0.255 | 0.031 | 0.292 | |
| Profile | 0.893 | 0.030 | 0.927 | |
| ProfileCleanUp | 0.780 | 0.027 | 0.814 | |
| RIcorrect | 12.081 | 2.176 | 14.446 | |
| TSExample | 1.620 | 0.268 | 1.922 | |
| Write.Results | 0.057 | 0.011 | 0.068 | |
| baseline | 0.314 | 0.028 | 0.350 | |
| baselineCorrection | 0.327 | 0.022 | 0.354 | |
| baselineCorrectionQuant | 0.381 | 0.030 | 0.417 | |
| checkRimLim | 1.184 | 0.076 | 1.270 | |
| file | 0.104 | 0.014 | 0.121 | |
| fixRI | 1.146 | 0.097 | 1.251 | |
| makeIndex | 0.003 | 0.001 | 0.005 | |
| medianRILib | 0.457 | 0.022 | 0.484 | |
| ncdf4Convert-method | 0.084 | 0.017 | 0.101 | |
| ncdf4_convert | 0.021 | 0.002 | 0.023 | |
| ncdf4_convert_from_path | 2.570 | 0.977 | 3.607 | |
| ncdf4_data_extract | 0.446 | 0.195 | 0.645 | |
| ncdf4_plot_peak | 1.230 | 0.461 | 1.722 | |
| ncdf4_update_ri | 0.334 | 0.115 | 0.453 | |
| peakCDFextraction | 0.564 | 0.120 | 0.689 | |
| peakFind | 0.242 | 0.014 | 0.257 | |
| plotFAME | 0.008 | 0.005 | 0.013 | |
| plotPeak | 0.234 | 0.017 | 0.252 | |
| plotPeakRI | 0.906 | 0.039 | 0.950 | |
| plotPeakSimple | 0.453 | 0.038 | 0.494 | |
| plotRIdev | 0.367 | 0.027 | 0.396 | |
| plotRefSpectra | 0.086 | 0.006 | 0.092 | |
| plotSpectra | 0.256 | 0.015 | 0.273 | |
| quantMatrix | 0.821 | 0.041 | 0.873 | |
| ri2rt | 0.003 | 0.000 | 0.003 | |
| riMatrix | 1.009 | 0.073 | 1.093 | |
| ri_data_extract | 0.055 | 0.003 | 0.058 | |
| ri_plot_peak | 1.345 | 0.067 | 1.425 | |
| rt2ri | 0.004 | 0.000 | 0.004 | |
| sampleRI | 0.468 | 0.028 | 0.501 | |
| tsLib-class | 0.018 | 0.001 | 0.020 | |
| tsMSdata-class | 0.009 | 0.018 | 0.027 | |
| tsProfile-class | 0.009 | 0.003 | 0.012 | |
| tsRim-class | 0.002 | 0.000 | 0.003 | |
| tsSample-class | 0.023 | 0.003 | 0.027 | |
| tsUpdate-method | 0.000 | 0.001 | 0.001 | |
| updateRI | 0.851 | 0.108 | 0.963 | |
| writeLibText | 0.022 | 0.002 | 0.024 | |
| writeMSP | 0.015 | 0.003 | 0.017 | |