| Back to Multiple platform build/check report for BioC 3.22: simplified long |
|
This page was generated on 2025-10-25 12:05 -0400 (Sat, 25 Oct 2025).
| Hostname | OS | Arch (*) | R version | Installed pkgs |
|---|---|---|---|---|
| nebbiolo2 | Linux (Ubuntu 24.04.3 LTS) | x86_64 | 4.5.1 Patched (2025-08-23 r88802) -- "Great Square Root" | 4901 |
| lconway | macOS 12.7.6 Monterey | x86_64 | 4.5.1 Patched (2025-09-10 r88807) -- "Great Square Root" | 4691 |
| kjohnson3 | macOS 13.7.7 Ventura | arm64 | 4.5.1 Patched (2025-09-10 r88807) -- "Great Square Root" | 4637 |
| taishan | Linux (openEuler 24.03 LTS) | aarch64 | 4.5.0 (2025-04-11) -- "How About a Twenty-Six" | 4658 |
| Click on any hostname to see more info about the system (e.g. compilers) (*) as reported by 'uname -p', except on Windows and Mac OS X | ||||
| Package 2205/2361 | Hostname | OS / Arch | INSTALL | BUILD | CHECK | BUILD BIN | ||||||||
| TFEA.ChIP 1.29.4 (landing page) Yosra Berrouayel
| nebbiolo2 | Linux (Ubuntu 24.04.3 LTS) / x86_64 | OK | OK | OK | |||||||||
| lconway | macOS 12.7.6 Monterey / x86_64 | OK | OK | OK | OK | |||||||||
| kjohnson3 | macOS 13.7.7 Ventura / arm64 | OK | OK | OK | OK | |||||||||
| taishan | Linux (openEuler 24.03 LTS) / aarch64 | OK | NA | NA | ||||||||||
|
To the developers/maintainers of the TFEA.ChIP package: - Allow up to 24 hours (and sometimes 48 hours) for your latest push to git@git.bioconductor.org:packages/TFEA.ChIP.git to reflect on this report. See Troubleshooting Build Report for more information. - Use the following Renviron settings to reproduce errors and warnings. - If 'R CMD check' started to fail recently on the Linux builder(s) over a missing dependency, add the missing dependency to 'Suggests:' in your DESCRIPTION file. See Renviron.bioc for more information. |
| Package: TFEA.ChIP |
| Version: 1.29.4 |
| Command: /Library/Frameworks/R.framework/Resources/bin/R CMD check --install=check:TFEA.ChIP.install-out.txt --library=/Library/Frameworks/R.framework/Resources/library --no-vignettes --timings TFEA.ChIP_1.29.4.tar.gz |
| StartedAt: 2025-10-25 00:48:21 -0400 (Sat, 25 Oct 2025) |
| EndedAt: 2025-10-25 00:54:10 -0400 (Sat, 25 Oct 2025) |
| EllapsedTime: 349.9 seconds |
| RetCode: 0 |
| Status: OK |
| CheckDir: TFEA.ChIP.Rcheck |
| Warnings: 0 |
##############################################################################
##############################################################################
###
### Running command:
###
### /Library/Frameworks/R.framework/Resources/bin/R CMD check --install=check:TFEA.ChIP.install-out.txt --library=/Library/Frameworks/R.framework/Resources/library --no-vignettes --timings TFEA.ChIP_1.29.4.tar.gz
###
##############################################################################
##############################################################################
* using log directory ‘/Users/biocbuild/bbs-3.22-bioc/meat/TFEA.ChIP.Rcheck’
* using R version 4.5.1 Patched (2025-09-10 r88807)
* using platform: x86_64-apple-darwin20
* R was compiled by
Apple clang version 14.0.0 (clang-1400.0.29.202)
GNU Fortran (GCC) 14.2.0
* running under: macOS Monterey 12.7.6
* using session charset: UTF-8
* using option ‘--no-vignettes’
* checking for file ‘TFEA.ChIP/DESCRIPTION’ ... OK
* this is package ‘TFEA.ChIP’ version ‘1.29.4’
* package encoding: UTF-8
* checking package namespace information ... OK
* checking package dependencies ... OK
* checking if this is a source package ... OK
* checking if there is a namespace ... OK
* checking for hidden files and directories ... OK
* checking for portable file names ... OK
* checking for sufficient/correct file permissions ... OK
* checking whether package ‘TFEA.ChIP’ can be installed ... OK
* checking installed package size ... INFO
installed size is 5.5Mb
sub-directories of 1Mb or more:
data 5.3Mb
* checking package directory ... OK
* checking ‘build’ directory ... OK
* checking DESCRIPTION meta-information ... OK
* checking top-level files ... OK
* checking for left-over files ... OK
* checking index information ... OK
* checking package subdirectories ... OK
* checking code files for non-ASCII characters ... OK
* checking R files for syntax errors ... OK
* checking whether the package can be loaded ... OK
* checking whether the package can be loaded with stated dependencies ... OK
* checking whether the package can be unloaded cleanly ... OK
* checking whether the namespace can be loaded with stated dependencies ... OK
* checking whether the namespace can be unloaded cleanly ... OK
* checking whether startup messages can be suppressed ... OK
* checking dependencies in R code ... OK
* checking S3 generic/method consistency ... OK
* checking replacement functions ... OK
* checking foreign function calls ... OK
* checking R code for possible problems ... OK
* checking Rd files ... OK
* checking Rd metadata ... OK
* checking Rd cross-references ... OK
* checking for missing documentation entries ... OK
* checking for code/documentation mismatches ... OK
* checking Rd \usage sections ... OK
* checking Rd contents ... OK
* checking for unstated dependencies in examples ... OK
* checking contents of ‘data’ directory ... OK
* checking data for non-ASCII characters ... OK
* checking LazyData ... OK
* checking data for ASCII and uncompressed saves ... OK
* checking files in ‘vignettes’ ... OK
* checking examples ... OK
Examples with CPU (user + system) or elapsed time > 5s
user system elapsed
rankTFs 13.843 0.533 14.480
GSEA_run 12.095 1.719 13.951
* checking for unstated dependencies in vignettes ... OK
* checking package vignettes ... OK
* checking running R code from vignettes ... SKIPPED
* checking re-building of vignette outputs ... SKIPPED
* checking PDF version of manual ... OK
* DONE
Status: OK
TFEA.ChIP.Rcheck/00install.out
############################################################################## ############################################################################## ### ### Running command: ### ### /Library/Frameworks/R.framework/Resources/bin/R CMD INSTALL TFEA.ChIP ### ############################################################################## ############################################################################## * installing to library ‘/Library/Frameworks/R.framework/Versions/4.5-x86_64/Resources/library’ * installing *source* package ‘TFEA.ChIP’ ... ** this is package ‘TFEA.ChIP’ version ‘1.29.4’ ** using staged installation ** R ** data *** moving datasets to lazyload DB ** inst ** byte-compile and prepare package for lazy loading ** help *** installing help indices ** building package indices ** installing vignettes ** testing if installed package can be loaded from temporary location ** testing if installed package can be loaded from final location ** testing if installed package keeps a record of temporary installation path * DONE (TFEA.ChIP)
TFEA.ChIP.Rcheck/TFEA.ChIP-Ex.timings
| name | user | system | elapsed | |
| GSEA_ESpermutations | 0.000 | 0.001 | 0.001 | |
| GSEA_EnrichmentScore | 0.001 | 0.001 | 0.001 | |
| GSEA_run | 12.095 | 1.719 | 13.951 | |
| GeneID2entrez | 0.717 | 0.068 | 0.797 | |
| Select_genes | 0.036 | 0.015 | 0.052 | |
| analysis_from_table | 3.822 | 0.297 | 4.143 | |
| contingency_matrix | 2.203 | 0.231 | 2.448 | |
| getCMstats | 3.542 | 0.270 | 3.836 | |
| get_chip_index | 0.037 | 0.030 | 0.067 | |
| makeChIPGeneDB | 0.090 | 0.002 | 0.093 | |
| matrixDB_to_listDB | 0.001 | 0.001 | 0.000 | |
| metaanalysis_fx | 0.657 | 0.067 | 0.732 | |
| plot_RES | 2.159 | 0.174 | 2.349 | |
| preprocessInputData | 1.186 | 0.323 | 1.517 | |
| rankTFs | 13.843 | 0.533 | 14.480 | |
| set_user_data | 0.359 | 0.005 | 0.369 | |
| txt2GR | 0.032 | 0.001 | 0.033 | |