| Back to Multiple platform build/check report for BioC 3.22: simplified long |
|
This page was generated on 2025-11-20 12:05 -0500 (Thu, 20 Nov 2025).
| Hostname | OS | Arch (*) | R version | Installed pkgs |
|---|---|---|---|---|
| nebbiolo2 | Linux (Ubuntu 24.04.3 LTS) | x86_64 | 4.5.2 (2025-10-31) -- "[Not] Part in a Rumble" | 4615 |
| merida1 | macOS 12.7.6 Monterey | x86_64 | 4.5.2 Patched (2025-11-05 r88990) -- "[Not] Part in a Rumble" | 4610 |
| kjohnson1 | macOS 13.7.5 Ventura | arm64 | 4.5.2 Patched (2025-11-04 r88984) -- "[Not] Part in a Rumble" | 4598 |
| taishan | Linux (openEuler 24.03 LTS) | aarch64 | 4.5.0 (2025-04-11) -- "How About a Twenty-Six" | 4668 |
| Click on any hostname to see more info about the system (e.g. compilers) (*) as reported by 'uname -p', except on Windows and Mac OS X | ||||
| Package 1941/2361 | Hostname | OS / Arch | INSTALL | BUILD | CHECK | BUILD BIN | ||||||||
| Sconify 1.30.0 (landing page) Tyler J Burns
| nebbiolo2 | Linux (Ubuntu 24.04.3 LTS) / x86_64 | OK | OK | OK | |||||||||
| merida1 | macOS 12.7.6 Monterey / x86_64 | OK | OK | OK | OK | |||||||||
| kjohnson1 | macOS 13.7.5 Ventura / arm64 | OK | OK | OK | OK | |||||||||
| taishan | Linux (openEuler 24.03 LTS) / aarch64 | OK | OK | OK | ||||||||||
|
To the developers/maintainers of the Sconify package: - Allow up to 24 hours (and sometimes 48 hours) for your latest push to git@git.bioconductor.org:packages/Sconify.git to reflect on this report. See Troubleshooting Build Report for more information. - Use the following Renviron settings to reproduce errors and warnings. - If 'R CMD check' started to fail recently on the Linux builder(s) over a missing dependency, add the missing dependency to 'Suggests:' in your DESCRIPTION file. See Renviron.bioc for more information. |
| Package: Sconify |
| Version: 1.30.0 |
| Command: /Library/Frameworks/R.framework/Resources/bin/R CMD check --install=check:Sconify.install-out.txt --library=/Library/Frameworks/R.framework/Resources/library --no-vignettes --timings Sconify_1.30.0.tar.gz |
| StartedAt: 2025-11-18 14:13:10 -0500 (Tue, 18 Nov 2025) |
| EndedAt: 2025-11-18 14:18:36 -0500 (Tue, 18 Nov 2025) |
| EllapsedTime: 326.2 seconds |
| RetCode: 0 |
| Status: OK |
| CheckDir: Sconify.Rcheck |
| Warnings: 0 |
##############################################################################
##############################################################################
###
### Running command:
###
### /Library/Frameworks/R.framework/Resources/bin/R CMD check --install=check:Sconify.install-out.txt --library=/Library/Frameworks/R.framework/Resources/library --no-vignettes --timings Sconify_1.30.0.tar.gz
###
##############################################################################
##############################################################################
* using log directory ‘/Users/biocbuild/bbs-3.22-bioc/meat/Sconify.Rcheck’
* using R version 4.5.2 Patched (2025-11-05 r88990)
* using platform: x86_64-apple-darwin20
* R was compiled by
Apple clang version 14.0.0 (clang-1400.0.29.202)
GNU Fortran (GCC) 14.2.0
* running under: macOS Monterey 12.7.6
* using session charset: UTF-8
* using option ‘--no-vignettes’
* checking for file ‘Sconify/DESCRIPTION’ ... OK
* checking extension type ... Package
* this is package ‘Sconify’ version ‘1.30.0’
* package encoding: UTF-8
* checking package namespace information ... OK
* checking package dependencies ... OK
* checking if this is a source package ... OK
* checking if there is a namespace ... OK
* checking for hidden files and directories ... OK
* checking for portable file names ... OK
* checking for sufficient/correct file permissions ... OK
* checking whether package ‘Sconify’ can be installed ... OK
* checking installed package size ... OK
* checking package directory ... OK
* checking ‘build’ directory ... OK
* checking DESCRIPTION meta-information ... OK
* checking top-level files ... OK
* checking for left-over files ... OK
* checking index information ... OK
* checking package subdirectories ... OK
* checking code files for non-ASCII characters ... OK
* checking R files for syntax errors ... OK
* checking whether the package can be loaded ... OK
* checking whether the package can be loaded with stated dependencies ... OK
* checking whether the package can be unloaded cleanly ... OK
* checking whether the namespace can be loaded with stated dependencies ... OK
* checking whether the namespace can be unloaded cleanly ... OK
* checking dependencies in R code ... OK
* checking S3 generic/method consistency ... OK
* checking replacement functions ... OK
* checking foreign function calls ... OK
* checking R code for possible problems ... OK
* checking Rd files ... OK
* checking Rd metadata ... OK
* checking Rd cross-references ... OK
* checking for missing documentation entries ... OK
* checking for code/documentation mismatches ... OK
* checking Rd \usage sections ... OK
* checking Rd contents ... OK
* checking for unstated dependencies in examples ... OK
* checking contents of ‘data’ directory ... OK
* checking data for non-ASCII characters ... OK
* checking LazyData ... OK
* checking data for ASCII and uncompressed saves ... OK
* checking files in ‘vignettes’ ... OK
* checking examples ... OK
Examples with CPU (user + system) or elapsed time > 5s
user system elapsed
SconeValues 29.560 0.335 40.841
ImputeTesting 8.829 0.055 12.162
* checking for unstated dependencies in ‘tests’ ... OK
* checking tests ...
Running ‘testthat.R’
OK
* checking for unstated dependencies in vignettes ... OK
* checking package vignettes ... OK
* checking running R code from vignettes ... SKIPPED
* checking re-building of vignette outputs ... SKIPPED
* checking PDF version of manual ... OK
* DONE
Status: OK
Sconify.Rcheck/00install.out
############################################################################## ############################################################################## ### ### Running command: ### ### /Library/Frameworks/R.framework/Resources/bin/R CMD INSTALL Sconify ### ############################################################################## ############################################################################## * installing to library ‘/Library/Frameworks/R.framework/Versions/4.5-x86_64/Resources/library’ * installing *source* package ‘Sconify’ ... ** this is package ‘Sconify’ version ‘1.30.0’ ** using staged installation ** R ** data *** moving datasets to lazyload DB ** inst ** byte-compile and prepare package for lazy loading Note: wrong number of arguments to '/' Note: wrong number of arguments to 'asinh' ** help *** installing help indices ** building package indices ** installing vignettes ** testing if installed package can be loaded from temporary location ** testing if installed package can be loaded from final location ** testing if installed package keeps a record of temporary installation path * DONE (Sconify)
Sconify.Rcheck/tests/testthat.Rout
R version 4.5.2 Patched (2025-11-05 r88990) -- "[Not] Part in a Rumble"
Copyright (C) 2025 The R Foundation for Statistical Computing
Platform: x86_64-apple-darwin20
R is free software and comes with ABSOLUTELY NO WARRANTY.
You are welcome to redistribute it under certain conditions.
Type 'license()' or 'licence()' for distribution details.
R is a collaborative project with many contributors.
Type 'contributors()' for more information and
'citation()' on how to cite R or R packages in publications.
Type 'demo()' for some demos, 'help()' for on-line help, or
'help.start()' for an HTML browser interface to help.
Type 'q()' to quit R.
> library(testthat)
> library(Sconify)
>
> test_check("Sconify")
Read the 100 x 27 data matrix successfully!
Using no_dims = 2, perplexity = 30.000000, and theta = 0.500000
Computing input similarities...
Building tree...
Done in 0.01 seconds (sparsity = 0.967800)!
Learning embedding...
Iteration 50: error is 50.338601 (50 iterations in 0.02 seconds)
Iteration 100: error is 51.335578 (50 iterations in 0.02 seconds)
Iteration 150: error is 51.147729 (50 iterations in 0.02 seconds)
Iteration 200: error is 49.351936 (50 iterations in 0.02 seconds)
Iteration 250: error is 50.909594 (50 iterations in 0.02 seconds)
Iteration 300: error is 1.104043 (50 iterations in 0.02 seconds)
Iteration 350: error is 0.362709 (50 iterations in 0.01 seconds)
Iteration 400: error is 0.221005 (50 iterations in 0.01 seconds)
Iteration 450: error is 0.207644 (50 iterations in 0.01 seconds)
Iteration 500: error is 0.196093 (50 iterations in 0.01 seconds)
Iteration 550: error is 0.193023 (50 iterations in 0.01 seconds)
Iteration 600: error is 0.194655 (50 iterations in 0.01 seconds)
Iteration 650: error is 0.194440 (50 iterations in 0.01 seconds)
Iteration 700: error is 0.194650 (50 iterations in 0.01 seconds)
Iteration 750: error is 0.195872 (50 iterations in 0.01 seconds)
Iteration 800: error is 0.194683 (50 iterations in 0.01 seconds)
Iteration 850: error is 0.194989 (50 iterations in 0.01 seconds)
Iteration 900: error is 0.194221 (50 iterations in 0.01 seconds)
Iteration 950: error is 0.194427 (50 iterations in 0.01 seconds)
Iteration 1000: error is 0.194442 (50 iterations in 0.01 seconds)
Fitting performed in 0.30 seconds.
Read the 1000 x 27 data matrix successfully!
Using no_dims = 2, perplexity = 30.000000, and theta = 0.500000
Computing input similarities...
Building tree...
Done in 0.21 seconds (sparsity = 0.129120)!
Learning embedding...
Iteration 50: error is 65.824793 (50 iterations in 0.43 seconds)
Iteration 100: error is 60.930771 (50 iterations in 0.24 seconds)
Iteration 150: error is 60.340781 (50 iterations in 0.24 seconds)
Iteration 200: error is 60.169850 (50 iterations in 0.27 seconds)
Iteration 250: error is 60.116008 (50 iterations in 0.29 seconds)
Iteration 300: error is 1.347874 (50 iterations in 0.22 seconds)
Iteration 350: error is 1.235360 (50 iterations in 0.21 seconds)
Iteration 400: error is 1.205648 (50 iterations in 0.21 seconds)
Iteration 450: error is 1.193566 (50 iterations in 0.21 seconds)
Iteration 500: error is 1.185445 (50 iterations in 0.22 seconds)
Iteration 550: error is 1.177765 (50 iterations in 0.21 seconds)
Iteration 600: error is 1.173914 (50 iterations in 0.21 seconds)
Iteration 650: error is 1.170672 (50 iterations in 0.22 seconds)
Iteration 700: error is 1.168303 (50 iterations in 0.21 seconds)
Iteration 750: error is 1.165801 (50 iterations in 0.21 seconds)
Iteration 800: error is 1.163752 (50 iterations in 0.21 seconds)
Iteration 850: error is 1.161588 (50 iterations in 0.21 seconds)
Iteration 900: error is 1.159793 (50 iterations in 0.22 seconds)
Iteration 950: error is 1.158324 (50 iterations in 0.21 seconds)
Iteration 1000: error is 1.157015 (50 iterations in 0.22 seconds)
Fitting performed in 4.66 seconds.
[ FAIL 0 | WARN 2 | SKIP 0 | PASS 72 ]
[ FAIL 0 | WARN 2 | SKIP 0 | PASS 72 ]
>
> proc.time()
user system elapsed
46.772 1.222 65.467
Sconify.Rcheck/Sconify-Ex.timings
| name | user | system | elapsed | |
| FcsToTibble | 0.262 | 0.010 | 0.363 | |
| Fnn | 0.942 | 2.788 | 4.820 | |
| GetKnnDe | 0.117 | 0.017 | 0.173 | |
| GetMarkerNames | 0.058 | 0.005 | 0.082 | |
| ImputeTesting | 8.829 | 0.055 | 12.162 | |
| MakeHist | 1.102 | 0.022 | 1.574 | |
| MakeKnnList | 0.825 | 0.119 | 1.282 | |
| MeaningOfLife | 0.001 | 0.001 | 0.001 | |
| ParseMarkers | 0.541 | 0.052 | 0.832 | |
| PostProcessing | 0.173 | 0.005 | 0.232 | |
| ProcessMultipleFiles | 0.246 | 0.013 | 0.362 | |
| QuantNormalizeElements | 0.432 | 0.018 | 0.567 | |
| SconeValues | 29.560 | 0.335 | 40.841 | |
| SplitFile | 0.176 | 0.006 | 0.248 | |
| StringToNumbers | 0.000 | 0.000 | 0.001 | |
| SubsampleAndTsne | 2.765 | 0.098 | 3.989 | |
| TsneVis | 0.418 | 0.004 | 0.586 | |