Back to Multiple platform build/check report for BioC 3.22:   simplified   long
ABCDEFGHIJKLMNOPQR[S]TUVWXYZ

This page was generated on 2025-11-17 11:58 -0500 (Mon, 17 Nov 2025).

HostnameOSArch (*)R versionInstalled pkgs
nebbiolo2Linux (Ubuntu 24.04.3 LTS)x86_644.5.1 Patched (2025-08-23 r88802) -- "Great Square Root" 4903
taishanLinux (openEuler 24.03 LTS)aarch644.5.0 (2025-04-11) -- "How About a Twenty-Six" 4668
Click on any hostname to see more info about the system (e.g. compilers)      (*) as reported by 'uname -p', except on Windows and Mac OS X

Package 1941/2361HostnameOS / ArchINSTALLBUILDCHECKBUILD BIN
Sconify 1.30.0  (landing page)
Tyler J Burns
Snapshot Date: 2025-11-16 13:45 -0500 (Sun, 16 Nov 2025)
git_url: https://git.bioconductor.org/packages/Sconify
git_branch: RELEASE_3_22
git_last_commit: 615688e
git_last_commit_date: 2025-10-29 10:44:03 -0500 (Wed, 29 Oct 2025)
nebbiolo2Linux (Ubuntu 24.04.3 LTS) / x86_64  OK    OK    OK  UNNEEDED, same version is already published
taishanLinux (openEuler 24.03 LTS) / aarch64  OK    OK    OK  


CHECK results for Sconify on nebbiolo2

To the developers/maintainers of the Sconify package:
- Allow up to 24 hours (and sometimes 48 hours) for your latest push to git@git.bioconductor.org:packages/Sconify.git to reflect on this report. See Troubleshooting Build Report for more information.
- Use the following Renviron settings to reproduce errors and warnings.
- If 'R CMD check' started to fail recently on the Linux builder(s) over a missing dependency, add the missing dependency to 'Suggests:' in your DESCRIPTION file. See Renviron.bioc for more information.

raw results


Summary

Package: Sconify
Version: 1.30.0
Command: /home/biocbuild/bbs-3.22-bioc/R/bin/R CMD check --install=check:Sconify.install-out.txt --library=/home/biocbuild/bbs-3.22-bioc/R/site-library --timings Sconify_1.30.0.tar.gz
StartedAt: 2025-11-17 03:59:08 -0500 (Mon, 17 Nov 2025)
EndedAt: 2025-11-17 04:01:24 -0500 (Mon, 17 Nov 2025)
EllapsedTime: 136.1 seconds
RetCode: 0
Status:   OK  
CheckDir: Sconify.Rcheck
Warnings: 0

Command output

##############################################################################
##############################################################################
###
### Running command:
###
###   /home/biocbuild/bbs-3.22-bioc/R/bin/R CMD check --install=check:Sconify.install-out.txt --library=/home/biocbuild/bbs-3.22-bioc/R/site-library --timings Sconify_1.30.0.tar.gz
###
##############################################################################
##############################################################################


* using log directory ‘/home/biocbuild/bbs-3.22-bioc/meat/Sconify.Rcheck’
* using R version 4.5.1 Patched (2025-08-23 r88802)
* using platform: x86_64-pc-linux-gnu
* R was compiled by
    gcc (Ubuntu 13.3.0-6ubuntu2~24.04) 13.3.0
    GNU Fortran (Ubuntu 13.3.0-6ubuntu2~24.04) 13.3.0
* running under: Ubuntu 24.04.3 LTS
* using session charset: UTF-8
* checking for file ‘Sconify/DESCRIPTION’ ... OK
* checking extension type ... Package
* this is package ‘Sconify’ version ‘1.30.0’
* package encoding: UTF-8
* checking package namespace information ... OK
* checking package dependencies ... OK
* checking if this is a source package ... OK
* checking if there is a namespace ... OK
* checking for hidden files and directories ... OK
* checking for portable file names ... OK
* checking for sufficient/correct file permissions ... OK
* checking whether package ‘Sconify’ can be installed ... OK
* checking installed package size ... OK
* checking package directory ... OK
* checking ‘build’ directory ... OK
* checking DESCRIPTION meta-information ... OK
* checking top-level files ... OK
* checking for left-over files ... OK
* checking index information ... OK
* checking package subdirectories ... OK
* checking code files for non-ASCII characters ... OK
* checking R files for syntax errors ... OK
* checking whether the package can be loaded ... OK
* checking whether the package can be loaded with stated dependencies ... OK
* checking whether the package can be unloaded cleanly ... OK
* checking whether the namespace can be loaded with stated dependencies ... OK
* checking whether the namespace can be unloaded cleanly ... OK
* checking loading without being on the library search path ... OK
* checking dependencies in R code ... OK
* checking S3 generic/method consistency ... OK
* checking replacement functions ... OK
* checking foreign function calls ... OK
* checking R code for possible problems ... OK
* checking Rd files ... OK
* checking Rd metadata ... OK
* checking Rd cross-references ... OK
* checking for missing documentation entries ... OK
* checking for code/documentation mismatches ... OK
* checking Rd \usage sections ... OK
* checking Rd contents ... OK
* checking for unstated dependencies in examples ... OK
* checking contents of ‘data’ directory ... OK
* checking data for non-ASCII characters ... OK
* checking LazyData ... OK
* checking data for ASCII and uncompressed saves ... OK
* checking files in ‘vignettes’ ... OK
* checking examples ... OK
Examples with CPU (user + system) or elapsed time > 5s
              user system elapsed
SconeValues 12.023  0.309  12.334
* checking for unstated dependencies in ‘tests’ ... OK
* checking tests ...
  Running ‘testthat.R’
 OK
* checking for unstated dependencies in vignettes ... OK
* checking package vignettes ... OK
* checking re-building of vignette outputs ... OK
* checking PDF version of manual ... OK
* DONE

Status: OK


Installation output

Sconify.Rcheck/00install.out

##############################################################################
##############################################################################
###
### Running command:
###
###   /home/biocbuild/bbs-3.22-bioc/R/bin/R CMD INSTALL Sconify
###
##############################################################################
##############################################################################


* installing to library ‘/home/biocbuild/bbs-3.22-bioc/R/site-library’
* installing *source* package ‘Sconify’ ...
** this is package ‘Sconify’ version ‘1.30.0’
** using staged installation
** R
** data
*** moving datasets to lazyload DB
** inst
** byte-compile and prepare package for lazy loading
Note: wrong number of arguments to '/' 
Note: wrong number of arguments to 'asinh' 
** help
*** installing help indices
** building package indices
** installing vignettes
** testing if installed package can be loaded from temporary location
** testing if installed package can be loaded from final location
** testing if installed package keeps a record of temporary installation path
* DONE (Sconify)

Tests output

Sconify.Rcheck/tests/testthat.Rout


R version 4.5.1 Patched (2025-08-23 r88802) -- "Great Square Root"
Copyright (C) 2025 The R Foundation for Statistical Computing
Platform: x86_64-pc-linux-gnu

R is free software and comes with ABSOLUTELY NO WARRANTY.
You are welcome to redistribute it under certain conditions.
Type 'license()' or 'licence()' for distribution details.

R is a collaborative project with many contributors.
Type 'contributors()' for more information and
'citation()' on how to cite R or R packages in publications.

Type 'demo()' for some demos, 'help()' for on-line help, or
'help.start()' for an HTML browser interface to help.
Type 'q()' to quit R.

> library(testthat)
> library(Sconify)
> 
> test_check("Sconify")
Read the 100 x 27 data matrix successfully!
OpenMP is working. 1 threads.
Using no_dims = 2, perplexity = 30.000000, and theta = 0.500000
Computing input similarities...
Building tree...
Done in 0.01 seconds (sparsity = 0.965000)!
Learning embedding...
Iteration 50: error is 51.196160 (50 iterations in 0.01 seconds)
Iteration 100: error is 52.025779 (50 iterations in 0.01 seconds)
Iteration 150: error is 51.201447 (50 iterations in 0.01 seconds)
Iteration 200: error is 54.939039 (50 iterations in 0.01 seconds)
Iteration 250: error is 50.858027 (50 iterations in 0.01 seconds)
Iteration 300: error is 1.299073 (50 iterations in 0.01 seconds)
Iteration 350: error is 0.663421 (50 iterations in 0.01 seconds)
Iteration 400: error is 0.208536 (50 iterations in 0.01 seconds)
Iteration 450: error is 0.160638 (50 iterations in 0.01 seconds)
Iteration 500: error is 0.159904 (50 iterations in 0.01 seconds)
Iteration 550: error is 0.159497 (50 iterations in 0.01 seconds)
Iteration 600: error is 0.159462 (50 iterations in 0.01 seconds)
Iteration 650: error is 0.160508 (50 iterations in 0.01 seconds)
Iteration 700: error is 0.158775 (50 iterations in 0.01 seconds)
Iteration 750: error is 0.158253 (50 iterations in 0.01 seconds)
Iteration 800: error is 0.159274 (50 iterations in 0.01 seconds)
Iteration 850: error is 0.157263 (50 iterations in 0.01 seconds)
Iteration 900: error is 0.159557 (50 iterations in 0.01 seconds)
Iteration 950: error is 0.156365 (50 iterations in 0.01 seconds)
Iteration 1000: error is 0.156460 (50 iterations in 0.01 seconds)
Fitting performed in 0.17 seconds.
Read the 1000 x 27 data matrix successfully!
OpenMP is working. 1 threads.
Using no_dims = 2, perplexity = 30.000000, and theta = 0.500000
Computing input similarities...
Building tree...
Done in 0.12 seconds (sparsity = 0.129120)!
Learning embedding...
Iteration 50: error is 64.407953 (50 iterations in 0.22 seconds)
Iteration 100: error is 60.729190 (50 iterations in 0.19 seconds)
Iteration 150: error is 60.356562 (50 iterations in 0.19 seconds)
Iteration 200: error is 60.220566 (50 iterations in 0.20 seconds)
Iteration 250: error is 60.158915 (50 iterations in 0.21 seconds)
Iteration 300: error is 1.339351 (50 iterations in 0.15 seconds)
Iteration 350: error is 1.227644 (50 iterations in 0.14 seconds)
Iteration 400: error is 1.197594 (50 iterations in 0.14 seconds)
Iteration 450: error is 1.184651 (50 iterations in 0.14 seconds)
Iteration 500: error is 1.174514 (50 iterations in 0.13 seconds)
Iteration 550: error is 1.169457 (50 iterations in 0.13 seconds)
Iteration 600: error is 1.165242 (50 iterations in 0.13 seconds)
Iteration 650: error is 1.161642 (50 iterations in 0.13 seconds)
Iteration 700: error is 1.159599 (50 iterations in 0.13 seconds)
Iteration 750: error is 1.157755 (50 iterations in 0.13 seconds)
Iteration 800: error is 1.155720 (50 iterations in 0.13 seconds)
Iteration 850: error is 1.154683 (50 iterations in 0.13 seconds)
Iteration 900: error is 1.153478 (50 iterations in 0.14 seconds)
Iteration 950: error is 1.153488 (50 iterations in 0.14 seconds)
Iteration 1000: error is 1.152176 (50 iterations in 0.14 seconds)
Fitting performed in 3.05 seconds.
[ FAIL 0 | WARN 2 | SKIP 0 | PASS 72 ]

[ FAIL 0 | WARN 2 | SKIP 0 | PASS 72 ]
> 
> proc.time()
   user  system elapsed 
 18.318   0.514  18.821 

Example timings

Sconify.Rcheck/Sconify-Ex.timings

nameusersystemelapsed
FcsToTibble0.1500.0050.155
Fnn0.1990.1490.350
GetKnnDe0.0740.0060.079
GetMarkerNames0.0240.0090.034
ImputeTesting3.3060.0293.336
MakeHist0.5910.0090.602
MakeKnnList0.2840.0780.362
MeaningOfLife000
ParseMarkers0.2060.0300.424
PostProcessing0.0740.0020.078
ProcessMultipleFiles0.0980.0060.372
QuantNormalizeElements0.1580.0020.159
SconeValues12.023 0.30912.334
SplitFile0.0700.0010.072
StringToNumbers000
SubsampleAndTsne1.6900.0091.699
TsneVis0.2040.0140.218