Back to Multiple platform build/check report for BioC 3.22:   simplified   long
ABCDEFGHIJKLMNOPQR[S]TUVWXYZ

This page was generated on 2025-11-20 12:06 -0500 (Thu, 20 Nov 2025).

HostnameOSArch (*)R versionInstalled pkgs
nebbiolo2Linux (Ubuntu 24.04.3 LTS)x86_644.5.2 (2025-10-31) -- "[Not] Part in a Rumble" 4615
merida1macOS 12.7.6 Montereyx86_644.5.2 Patched (2025-11-05 r88990) -- "[Not] Part in a Rumble" 4610
kjohnson1macOS 13.7.5 Venturaarm644.5.2 Patched (2025-11-04 r88984) -- "[Not] Part in a Rumble" 4598
taishanLinux (openEuler 24.03 LTS)aarch644.5.0 (2025-04-11) -- "How About a Twenty-Six" 4668
Click on any hostname to see more info about the system (e.g. compilers)      (*) as reported by 'uname -p', except on Windows and Mac OS X

Package 1941/2361HostnameOS / ArchINSTALLBUILDCHECKBUILD BIN
Sconify 1.30.0  (landing page)
Tyler J Burns
Snapshot Date: 2025-11-17 13:45 -0500 (Mon, 17 Nov 2025)
git_url: https://git.bioconductor.org/packages/Sconify
git_branch: RELEASE_3_22
git_last_commit: 615688e
git_last_commit_date: 2025-10-29 10:44:03 -0500 (Wed, 29 Oct 2025)
nebbiolo2Linux (Ubuntu 24.04.3 LTS) / x86_64  OK    OK    OK  UNNEEDED, same version is already published
merida1macOS 12.7.6 Monterey / x86_64  OK    OK    OK    OK  UNNEEDED, same version is already published
kjohnson1macOS 13.7.5 Ventura / arm64  OK    OK    OK    OK  UNNEEDED, same version is already published
taishanLinux (openEuler 24.03 LTS) / aarch64  OK    OK    OK  


CHECK results for Sconify on kjohnson1

To the developers/maintainers of the Sconify package:
- Allow up to 24 hours (and sometimes 48 hours) for your latest push to git@git.bioconductor.org:packages/Sconify.git to reflect on this report. See Troubleshooting Build Report for more information.
- Use the following Renviron settings to reproduce errors and warnings.
- If 'R CMD check' started to fail recently on the Linux builder(s) over a missing dependency, add the missing dependency to 'Suggests:' in your DESCRIPTION file. See Renviron.bioc for more information.

raw results


Summary

Package: Sconify
Version: 1.30.0
Command: /Library/Frameworks/R.framework/Resources/bin/R CMD check --install=check:Sconify.install-out.txt --library=/Library/Frameworks/R.framework/Resources/library --no-vignettes --timings Sconify_1.30.0.tar.gz
StartedAt: 2025-11-18 12:41:12 -0500 (Tue, 18 Nov 2025)
EndedAt: 2025-11-18 12:42:06 -0500 (Tue, 18 Nov 2025)
EllapsedTime: 53.4 seconds
RetCode: 0
Status:   OK  
CheckDir: Sconify.Rcheck
Warnings: 0

Command output

##############################################################################
##############################################################################
###
### Running command:
###
###   /Library/Frameworks/R.framework/Resources/bin/R CMD check --install=check:Sconify.install-out.txt --library=/Library/Frameworks/R.framework/Resources/library --no-vignettes --timings Sconify_1.30.0.tar.gz
###
##############################################################################
##############################################################################


* using log directory ‘/Users/biocbuild/bbs-3.22-bioc/meat/Sconify.Rcheck’
* using R version 4.5.2 Patched (2025-11-04 r88984)
* using platform: aarch64-apple-darwin20
* R was compiled by
    Apple clang version 16.0.0 (clang-1600.0.26.6)
    GNU Fortran (GCC) 14.2.0
* running under: macOS Ventura 13.7.8
* using session charset: UTF-8
* using option ‘--no-vignettes’
* checking for file ‘Sconify/DESCRIPTION’ ... OK
* checking extension type ... Package
* this is package ‘Sconify’ version ‘1.30.0’
* package encoding: UTF-8
* checking package namespace information ... OK
* checking package dependencies ... OK
* checking if this is a source package ... OK
* checking if there is a namespace ... OK
* checking for hidden files and directories ... OK
* checking for portable file names ... OK
* checking for sufficient/correct file permissions ... OK
* checking whether package ‘Sconify’ can be installed ... OK
* checking installed package size ... OK
* checking package directory ... OK
* checking ‘build’ directory ... OK
* checking DESCRIPTION meta-information ... OK
* checking top-level files ... OK
* checking for left-over files ... OK
* checking index information ... OK
* checking package subdirectories ... OK
* checking code files for non-ASCII characters ... OK
* checking R files for syntax errors ... OK
* checking whether the package can be loaded ... OK
* checking whether the package can be loaded with stated dependencies ... OK
* checking whether the package can be unloaded cleanly ... OK
* checking whether the namespace can be loaded with stated dependencies ... OK
* checking whether the namespace can be unloaded cleanly ... OK
* checking dependencies in R code ... OK
* checking S3 generic/method consistency ... OK
* checking replacement functions ... OK
* checking foreign function calls ... OK
* checking R code for possible problems ... OK
* checking Rd files ... OK
* checking Rd metadata ... OK
* checking Rd cross-references ... OK
* checking for missing documentation entries ... OK
* checking for code/documentation mismatches ... OK
* checking Rd \usage sections ... OK
* checking Rd contents ... OK
* checking for unstated dependencies in examples ... OK
* checking contents of ‘data’ directory ... OK
* checking data for non-ASCII characters ... OK
* checking LazyData ... OK
* checking data for ASCII and uncompressed saves ... OK
* checking files in ‘vignettes’ ... OK
* checking examples ... OK
* checking for unstated dependencies in ‘tests’ ... OK
* checking tests ...
  Running ‘testthat.R’
 OK
* checking for unstated dependencies in vignettes ... OK
* checking package vignettes ... OK
* checking running R code from vignettes ... SKIPPED
* checking re-building of vignette outputs ... SKIPPED
* checking PDF version of manual ... OK
* DONE

Status: OK


Installation output

Sconify.Rcheck/00install.out

##############################################################################
##############################################################################
###
### Running command:
###
###   /Library/Frameworks/R.framework/Resources/bin/R CMD INSTALL Sconify
###
##############################################################################
##############################################################################


* installing to library ‘/Library/Frameworks/R.framework/Versions/4.5-arm64/Resources/library’
* installing *source* package ‘Sconify’ ...
** this is package ‘Sconify’ version ‘1.30.0’
** using staged installation
** R
** data
*** moving datasets to lazyload DB
** inst
** byte-compile and prepare package for lazy loading
Note: wrong number of arguments to '/' 
Note: wrong number of arguments to 'asinh' 
** help
*** installing help indices
** building package indices
** installing vignettes
** testing if installed package can be loaded from temporary location
** testing if installed package can be loaded from final location
** testing if installed package keeps a record of temporary installation path
* DONE (Sconify)

Tests output

Sconify.Rcheck/tests/testthat.Rout


R version 4.5.2 Patched (2025-11-04 r88984) -- "[Not] Part in a Rumble"
Copyright (C) 2025 The R Foundation for Statistical Computing
Platform: aarch64-apple-darwin20

R is free software and comes with ABSOLUTELY NO WARRANTY.
You are welcome to redistribute it under certain conditions.
Type 'license()' or 'licence()' for distribution details.

R is a collaborative project with many contributors.
Type 'contributors()' for more information and
'citation()' on how to cite R or R packages in publications.

Type 'demo()' for some demos, 'help()' for on-line help, or
'help.start()' for an HTML browser interface to help.
Type 'q()' to quit R.

> library(testthat)
> library(Sconify)
> 
> test_check("Sconify")
Read the 100 x 27 data matrix successfully!
Using no_dims = 2, perplexity = 30.000000, and theta = 0.500000
Computing input similarities...
Building tree...
Done in 0.00 seconds (sparsity = 0.965600)!
Learning embedding...
Iteration 50: error is 48.281748 (50 iterations in 0.01 seconds)
Iteration 100: error is 53.876763 (50 iterations in 0.01 seconds)
Iteration 150: error is 55.438071 (50 iterations in 0.01 seconds)
Iteration 200: error is 52.233994 (50 iterations in 0.01 seconds)
Iteration 250: error is 52.874416 (50 iterations in 0.01 seconds)
Iteration 300: error is 1.567860 (50 iterations in 0.01 seconds)
Iteration 350: error is 1.111372 (50 iterations in 0.00 seconds)
Iteration 400: error is 0.701633 (50 iterations in 0.00 seconds)
Iteration 450: error is 0.425114 (50 iterations in 0.00 seconds)
Iteration 500: error is 0.284850 (50 iterations in 0.00 seconds)
Iteration 550: error is 0.225873 (50 iterations in 0.00 seconds)
Iteration 600: error is 0.200060 (50 iterations in 0.00 seconds)
Iteration 650: error is 0.189674 (50 iterations in 0.00 seconds)
Iteration 700: error is 0.189587 (50 iterations in 0.00 seconds)
Iteration 750: error is 0.189877 (50 iterations in 0.00 seconds)
Iteration 800: error is 0.188273 (50 iterations in 0.00 seconds)
Iteration 850: error is 0.189577 (50 iterations in 0.00 seconds)
Iteration 900: error is 0.188054 (50 iterations in 0.00 seconds)
Iteration 950: error is 0.189054 (50 iterations in 0.00 seconds)
Iteration 1000: error is 0.189587 (50 iterations in 0.00 seconds)
Fitting performed in 0.09 seconds.
Read the 1000 x 27 data matrix successfully!
Using no_dims = 2, perplexity = 30.000000, and theta = 0.500000
Computing input similarities...
Building tree...
Done in 0.06 seconds (sparsity = 0.129120)!
Learning embedding...
Iteration 50: error is 64.538210 (50 iterations in 0.11 seconds)
Iteration 100: error is 60.679651 (50 iterations in 0.07 seconds)
Iteration 150: error is 60.335385 (50 iterations in 0.08 seconds)
Iteration 200: error is 60.224853 (50 iterations in 0.08 seconds)
Iteration 250: error is 60.153928 (50 iterations in 0.08 seconds)
Iteration 300: error is 1.337603 (50 iterations in 0.07 seconds)
Iteration 350: error is 1.225749 (50 iterations in 0.07 seconds)
Iteration 400: error is 1.195352 (50 iterations in 0.07 seconds)
Iteration 450: error is 1.183158 (50 iterations in 0.07 seconds)
Iteration 500: error is 1.175776 (50 iterations in 0.07 seconds)
Iteration 550: error is 1.172613 (50 iterations in 0.08 seconds)
Iteration 600: error is 1.169474 (50 iterations in 0.07 seconds)
Iteration 650: error is 1.165693 (50 iterations in 0.07 seconds)
Iteration 700: error is 1.163650 (50 iterations in 0.07 seconds)
Iteration 750: error is 1.162188 (50 iterations in 0.07 seconds)
Iteration 800: error is 1.159211 (50 iterations in 0.07 seconds)
Iteration 850: error is 1.156823 (50 iterations in 0.07 seconds)
Iteration 900: error is 1.155749 (50 iterations in 0.07 seconds)
Iteration 950: error is 1.153400 (50 iterations in 0.07 seconds)
Iteration 1000: error is 1.151722 (50 iterations in 0.07 seconds)
Fitting performed in 1.44 seconds.
[ FAIL 0 | WARN 2 | SKIP 0 | PASS 72 ]

[ FAIL 0 | WARN 2 | SKIP 0 | PASS 72 ]
> 
> proc.time()
   user  system elapsed 
  7.466   0.278   8.688 

Example timings

Sconify.Rcheck/Sconify-Ex.timings

nameusersystemelapsed
FcsToTibble0.0470.0020.055
Fnn0.1380.4070.581
GetKnnDe0.0450.0030.055
GetMarkerNames0.0120.0010.020
ImputeTesting1.1530.0061.388
MakeHist0.2600.0030.308
MakeKnnList0.1150.0090.139
MeaningOfLife000
ParseMarkers0.0970.0120.173
PostProcessing0.0250.0000.026
ProcessMultipleFiles0.0380.0020.046
QuantNormalizeElements0.0610.0020.073
SconeValues4.2360.0984.999
SplitFile0.0260.0010.027
StringToNumbers000
SubsampleAndTsne0.7290.0200.825
TsneVis0.0610.0010.061