| Back to Multiple platform build/check report for BioC 3.22: simplified long |
|
This page was generated on 2025-10-24 12:05 -0400 (Fri, 24 Oct 2025).
| Hostname | OS | Arch (*) | R version | Installed pkgs |
|---|---|---|---|---|
| nebbiolo2 | Linux (Ubuntu 24.04.3 LTS) | x86_64 | 4.5.1 Patched (2025-08-23 r88802) -- "Great Square Root" | 4898 |
| lconway | macOS 12.7.6 Monterey | x86_64 | 4.5.1 Patched (2025-09-10 r88807) -- "Great Square Root" | 4688 |
| kjohnson3 | macOS 13.7.7 Ventura | arm64 | 4.5.1 Patched (2025-09-10 r88807) -- "Great Square Root" | 4634 |
| taishan | Linux (openEuler 24.03 LTS) | aarch64 | 4.5.0 (2025-04-11) -- "How About a Twenty-Six" | 4658 |
| Click on any hostname to see more info about the system (e.g. compilers) (*) as reported by 'uname -p', except on Windows and Mac OS X | ||||
| Package 2108/2359 | Hostname | OS / Arch | INSTALL | BUILD | CHECK | BUILD BIN | ||||||||
| SPLINTER 1.35.1 (landing page) Diana Low
| nebbiolo2 | Linux (Ubuntu 24.04.3 LTS) / x86_64 | OK | OK | OK | |||||||||
| lconway | macOS 12.7.6 Monterey / x86_64 | OK | OK | OK | OK | |||||||||
| kjohnson3 | macOS 13.7.7 Ventura / arm64 | OK | ERROR | skipped | skipped | |||||||||
| taishan | Linux (openEuler 24.03 LTS) / aarch64 | OK | ERROR | skipped | ||||||||||
|
To the developers/maintainers of the SPLINTER package: - Allow up to 24 hours (and sometimes 48 hours) for your latest push to git@git.bioconductor.org:packages/SPLINTER.git to reflect on this report. See Troubleshooting Build Report for more information. - Use the following Renviron settings to reproduce errors and warnings. - If 'R CMD check' started to fail recently on the Linux builder(s) over a missing dependency, add the missing dependency to 'Suggests:' in your DESCRIPTION file. See Renviron.bioc for more information. |
| Package: SPLINTER |
| Version: 1.35.1 |
| Command: /Library/Frameworks/R.framework/Resources/bin/R CMD check --install=check:SPLINTER.install-out.txt --library=/Library/Frameworks/R.framework/Resources/library --no-vignettes --timings SPLINTER_1.35.1.tar.gz |
| StartedAt: 2025-10-24 00:27:25 -0400 (Fri, 24 Oct 2025) |
| EndedAt: 2025-10-24 00:33:45 -0400 (Fri, 24 Oct 2025) |
| EllapsedTime: 380.2 seconds |
| RetCode: 0 |
| Status: OK |
| CheckDir: SPLINTER.Rcheck |
| Warnings: 0 |
##############################################################################
##############################################################################
###
### Running command:
###
### /Library/Frameworks/R.framework/Resources/bin/R CMD check --install=check:SPLINTER.install-out.txt --library=/Library/Frameworks/R.framework/Resources/library --no-vignettes --timings SPLINTER_1.35.1.tar.gz
###
##############################################################################
##############################################################################
* using log directory ‘/Users/biocbuild/bbs-3.22-bioc/meat/SPLINTER.Rcheck’
* using R version 4.5.1 Patched (2025-09-10 r88807)
* using platform: x86_64-apple-darwin20
* R was compiled by
Apple clang version 14.0.0 (clang-1400.0.29.202)
GNU Fortran (GCC) 14.2.0
* running under: macOS Monterey 12.7.6
* using session charset: UTF-8
* using option ‘--no-vignettes’
* checking for file ‘SPLINTER/DESCRIPTION’ ... OK
* checking extension type ... Package
* this is package ‘SPLINTER’ version ‘1.35.1’
* package encoding: UTF-8
* checking package namespace information ... OK
* checking package dependencies ... OK
* checking if this is a source package ... OK
* checking if there is a namespace ... OK
* checking for hidden files and directories ... OK
* checking for portable file names ... OK
* checking for sufficient/correct file permissions ... OK
* checking whether package ‘SPLINTER’ can be installed ... OK
* checking installed package size ... OK
* checking package directory ... OK
* checking ‘build’ directory ... OK
* checking DESCRIPTION meta-information ... OK
* checking top-level files ... OK
* checking for left-over files ... OK
* checking index information ... OK
* checking package subdirectories ... OK
* checking code files for non-ASCII characters ... OK
* checking R files for syntax errors ... OK
* checking whether the package can be loaded ... OK
* checking whether the package can be loaded with stated dependencies ... OK
* checking whether the package can be unloaded cleanly ... OK
* checking whether the namespace can be loaded with stated dependencies ... OK
* checking whether the namespace can be unloaded cleanly ... OK
* checking dependencies in R code ... OK
* checking S3 generic/method consistency ... OK
* checking replacement functions ... OK
* checking foreign function calls ... OK
* checking R code for possible problems ... OK
* checking Rd files ... OK
* checking Rd metadata ... OK
* checking Rd cross-references ... OK
* checking for missing documentation entries ... OK
* checking for code/documentation mismatches ... OK
* checking Rd \usage sections ... OK
* checking Rd contents ... OK
* checking for unstated dependencies in examples ... OK
* checking contents of ‘data’ directory ... OK
* checking data for non-ASCII characters ... OK
* checking LazyData ... OK
* checking data for ASCII and uncompressed saves ... OK
* checking sizes of PDF files under ‘inst/doc’ ... OK
* checking files in ‘vignettes’ ... OK
* checking examples ... OK
Examples with CPU (user + system) or elapsed time > 5s
user system elapsed
eventPlot 12.947 0.26 13.27
* checking for unstated dependencies in vignettes ... OK
* checking package vignettes ... OK
* checking running R code from vignettes ... SKIPPED
* checking re-building of vignette outputs ... SKIPPED
* checking PDF version of manual ... OK
* DONE
Status: OK
SPLINTER.Rcheck/00install.out
############################################################################## ############################################################################## ### ### Running command: ### ### /Library/Frameworks/R.framework/Resources/bin/R CMD INSTALL SPLINTER ### ############################################################################## ############################################################################## * installing to library ‘/Library/Frameworks/R.framework/Versions/4.5-x86_64/Resources/library’ * installing *source* package ‘SPLINTER’ ... ** this is package ‘SPLINTER’ version ‘1.35.1’ ** using staged installation ** R ** data *** moving datasets to lazyload DB ** inst ** byte-compile and prepare package for lazy loading ** help *** installing help indices ** building package indices ** installing vignettes ** testing if installed package can be loaded from temporary location ** testing if installed package can be loaded from final location ** testing if installed package keeps a record of temporary installation path * DONE (SPLINTER)
SPLINTER.Rcheck/SPLINTER-Ex.timings
| name | user | system | elapsed | |
| acceptor.m | 0.002 | 0.001 | 0.003 | |
| addEnsemblAnnotation | 0.005 | 0.001 | 0.006 | |
| callPrimer3 | 0.001 | 0.000 | 0.000 | |
| checkPrimer | 0.082 | 0.002 | 0.086 | |
| compatible_cds | 0.000 | 0.002 | 0.002 | |
| compatible_tx | 0.001 | 0.001 | 0.002 | |
| donor.m | 0.001 | 0.001 | 0.002 | |
| eventOutcomeCompare | 1.530 | 0.067 | 1.605 | |
| eventOutcomeTranslate | 0.481 | 0.022 | 0.504 | |
| eventPlot | 12.947 | 0.260 | 13.270 | |
| extendROI | 0.731 | 0.018 | 0.752 | |
| extractSpliceEvents | 0.004 | 0.001 | 0.003 | |
| extractSpliceSites | 0.095 | 0.001 | 0.095 | |
| findCompatibleEvents | 0.389 | 0.001 | 0.392 | |
| findCompatibleExon | 0.222 | 0.001 | 0.223 | |
| findTX | 0.014 | 0.001 | 0.014 | |
| getPCRsizes | 2.440 | 0.155 | 2.604 | |
| getRegionDNA | 0.386 | 0.020 | 0.408 | |
| insertRegion | 0.218 | 0.002 | 0.221 | |
| makeROI | 0.320 | 0.001 | 0.323 | |
| makeUniqueIDs | 0.004 | 0.000 | 0.005 | |
| pcr_result1 | 0.001 | 0.001 | 0.002 | |
| plot_seqlogo | 0.046 | 0.003 | 0.050 | |
| primers | 0.001 | 0.000 | 0.002 | |
| psiPlot | 0.392 | 0.006 | 0.399 | |
| region_minus_exon | 0.000 | 0.001 | 0.002 | |
| roi | 0.001 | 0.001 | 0.002 | |
| shapiroAcceptor | 1.832 | 0.065 | 1.907 | |
| shapiroDonor | 0.510 | 0.022 | 0.534 | |
| splice_data | 0.000 | 0.001 | 0.002 | |
| splice_fasta | 0.000 | 0.000 | 0.002 | |
| splitPCRhit | 0.001 | 0.000 | 0.002 | |
| thecds | 0.001 | 0.002 | 0.002 | |
| theexons | 0.001 | 0.001 | 0.002 | |
| valid_cds | 0.000 | 0.001 | 0.002 | |
| valid_tx | 0.001 | 0.001 | 0.002 | |