| Back to Multiple platform build/check report for BioC 3.22: simplified long |
|
This page was generated on 2025-10-25 12:05 -0400 (Sat, 25 Oct 2025).
| Hostname | OS | Arch (*) | R version | Installed pkgs |
|---|---|---|---|---|
| nebbiolo2 | Linux (Ubuntu 24.04.3 LTS) | x86_64 | 4.5.1 Patched (2025-08-23 r88802) -- "Great Square Root" | 4901 |
| lconway | macOS 12.7.6 Monterey | x86_64 | 4.5.1 Patched (2025-09-10 r88807) -- "Great Square Root" | 4691 |
| kjohnson3 | macOS 13.7.7 Ventura | arm64 | 4.5.1 Patched (2025-09-10 r88807) -- "Great Square Root" | 4637 |
| taishan | Linux (openEuler 24.03 LTS) | aarch64 | 4.5.0 (2025-04-11) -- "How About a Twenty-Six" | 4658 |
| Click on any hostname to see more info about the system (e.g. compilers) (*) as reported by 'uname -p', except on Windows and Mac OS X | ||||
| Package 1740/2361 | Hostname | OS / Arch | INSTALL | BUILD | CHECK | BUILD BIN | ||||||||
| Rdisop 1.69.2 (landing page) Steffen Neumann
| nebbiolo2 | Linux (Ubuntu 24.04.3 LTS) / x86_64 | OK | OK | OK | |||||||||
| lconway | macOS 12.7.6 Monterey / x86_64 | OK | OK | OK | OK | |||||||||
| kjohnson3 | macOS 13.7.7 Ventura / arm64 | OK | OK | OK | OK | |||||||||
| taishan | Linux (openEuler 24.03 LTS) / aarch64 | OK | NA | NA | ||||||||||
|
To the developers/maintainers of the Rdisop package: - Allow up to 24 hours (and sometimes 48 hours) for your latest push to git@git.bioconductor.org:packages/Rdisop.git to reflect on this report. See Troubleshooting Build Report for more information. - Use the following Renviron settings to reproduce errors and warnings. - If 'R CMD check' started to fail recently on the Linux builder(s) over a missing dependency, add the missing dependency to 'Suggests:' in your DESCRIPTION file. See Renviron.bioc for more information. |
| Package: Rdisop |
| Version: 1.69.2 |
| Command: /Library/Frameworks/R.framework/Resources/bin/R CMD check --install=check:Rdisop.install-out.txt --library=/Library/Frameworks/R.framework/Resources/library --no-vignettes --timings Rdisop_1.69.2.tar.gz |
| StartedAt: 2025-10-24 23:38:33 -0400 (Fri, 24 Oct 2025) |
| EndedAt: 2025-10-24 23:39:13 -0400 (Fri, 24 Oct 2025) |
| EllapsedTime: 39.3 seconds |
| RetCode: 0 |
| Status: OK |
| CheckDir: Rdisop.Rcheck |
| Warnings: 0 |
##############################################################################
##############################################################################
###
### Running command:
###
### /Library/Frameworks/R.framework/Resources/bin/R CMD check --install=check:Rdisop.install-out.txt --library=/Library/Frameworks/R.framework/Resources/library --no-vignettes --timings Rdisop_1.69.2.tar.gz
###
##############################################################################
##############################################################################
* using log directory ‘/Users/biocbuild/bbs-3.22-bioc/meat/Rdisop.Rcheck’
* using R version 4.5.1 Patched (2025-09-10 r88807)
* using platform: x86_64-apple-darwin20
* R was compiled by
Apple clang version 14.0.0 (clang-1400.0.29.202)
GNU Fortran (GCC) 14.2.0
* running under: macOS Monterey 12.7.6
* using session charset: UTF-8
* using option ‘--no-vignettes’
* checking for file ‘Rdisop/DESCRIPTION’ ... OK
* this is package ‘Rdisop’ version ‘1.69.2’
* package encoding: UTF-8
* checking package namespace information ... OK
* checking package dependencies ... OK
* checking if this is a source package ... OK
* checking if there is a namespace ... OK
* checking for hidden files and directories ... OK
* checking for portable file names ... OK
* checking for sufficient/correct file permissions ... OK
* checking whether package ‘Rdisop’ can be installed ... OK
* used C++ compiler: ‘Apple clang version 14.0.0 (clang-1400.0.29.202)’
* used SDK: ‘MacOSX11.3.1.sdk’
* checking installed package size ... OK
* checking package directory ... OK
* checking DESCRIPTION meta-information ... OK
* checking top-level files ... OK
* checking for left-over files ... OK
* checking index information ... OK
* checking package subdirectories ... OK
* checking code files for non-ASCII characters ... OK
* checking R files for syntax errors ... OK
* checking whether the package can be loaded ... OK
* checking whether the package can be loaded with stated dependencies ... OK
* checking whether the package can be unloaded cleanly ... OK
* checking whether the namespace can be loaded with stated dependencies ... OK
* checking whether the namespace can be unloaded cleanly ... OK
* checking dependencies in R code ... OK
* checking S3 generic/method consistency ... OK
* checking replacement functions ... OK
* checking foreign function calls ... OK
* checking R code for possible problems ... OK
* checking Rd files ... OK
* checking Rd metadata ... OK
* checking Rd cross-references ... OK
* checking for missing documentation entries ... OK
* checking for code/documentation mismatches ... OK
* checking Rd \usage sections ... OK
* checking Rd contents ... OK
* checking for unstated dependencies in examples ... OK
* checking contents of ‘data’ directory ... OK
* checking data for non-ASCII characters ... OK
* checking LazyData ... OK
* checking data for ASCII and uncompressed saves ... OK
* checking line endings in shell scripts ... OK
* checking line endings in C/C++/Fortran sources/headers ... OK
* checking line endings in Makefiles ... OK
* checking compilation flags in Makevars ... OK
* checking for GNU extensions in Makefiles ... OK
* checking for portable use of $(BLAS_LIBS) and $(LAPACK_LIBS) ... OK
* checking use of PKG_*FLAGS in Makefiles ... OK
* checking include directives in Makefiles ... OK
* checking compiled code ... NOTE
Note: information on .o files is not available
* checking files in ‘vignettes’ ... OK
* checking examples ... OK
* checking for unstated dependencies in ‘tests’ ... OK
* checking tests ...
Running ‘testthat.R’
OK
* checking for unstated dependencies in vignettes ... OK
* checking package vignettes ... NOTE
Package vignette without corresponding tangle output:
‘Rdisop.Rmd’
* checking running R code from vignettes ... SKIPPED
* checking re-building of vignette outputs ... SKIPPED
* checking PDF version of manual ... OK
* DONE
Status: 2 NOTEs
See
‘/Users/biocbuild/bbs-3.22-bioc/meat/Rdisop.Rcheck/00check.log’
for details.
Rdisop.Rcheck/00install.out
##############################################################################
##############################################################################
###
### Running command:
###
### /Library/Frameworks/R.framework/Resources/bin/R CMD INSTALL Rdisop
###
##############################################################################
##############################################################################
* installing to library ‘/Library/Frameworks/R.framework/Versions/4.5-x86_64/Resources/library’
* installing *source* package ‘Rdisop’ ...
** this is package ‘Rdisop’ version ‘1.69.2’
** using staged installation
** libs
using C++ compiler: ‘Apple clang version 14.0.0 (clang-1400.0.29.202)’
using SDK: ‘MacOSX11.3.1.sdk’
clang++ -arch x86_64 -std=gnu++17 -I"/Library/Frameworks/R.framework/Resources/include" -DNDEBUG -I'/Library/Frameworks/R.framework/Versions/4.5-x86_64/Resources/library/Rcpp/include' -I/opt/R/x86_64/include -I./imslib/src/ -fPIC -falign-functions=64 -Wall -g -O2 -c disop.cpp -o disop.o
disop.cpp:106:8: warning: unused variable 'parityeven' [-Wunused-variable]
bool parityeven = !parityodd;
^
disop.cpp:192:6: warning: unused variable 'number_molecules_shown' [-Wunused-variable]
int number_molecules_shown = 100;
^
In file included from disop.cpp:28:
./imslib/src/ims/decomp/decomputils.h:92:53: warning: unused typedef 'weight_type' [-Wunused-local-typedef]
typedef typename DecompositionWeights::weight_type weight_type;
^
disop.cpp:175:42: warning: unused typedef 'decomposition_type' [-Wunused-local-typedef]
typedef decompositions_t::value_type decomposition_type;
^
disop.cpp:170:39: warning: unused typedef 'mass_type' [-Wunused-local-typedef]
typedef distribution_t::mass_type mass_type;
^
disop.cpp:172:47: warning: unused typedef 'nominal_mass_type' [-Wunused-local-typedef]
typedef distribution_t::nominal_mass_type nominal_mass_type;
^
disop.cpp:378:40: warning: unused typedef 'mass_type' [-Wunused-local-typedef]
typedef distribution_t::mass_type mass_type;
^
disop.cpp:627:43: warning: unused typedef 'scorer_type' [-Wunused-local-typedef]
typedef DistributionProbabilityScorer scorer_type;
^
disop.cpp:710:32: warning: unused typedef 'elements_type' [-Wunused-local-typedef]
typedef alphabet_t::container elements_type;
^
disop.cpp:815:33: warning: unused typedef 'elements_type' [-Wunused-local-typedef]
typedef alphabet_t::container elements_type;
^
10 warnings generated.
clang++ -arch x86_64 -std=gnu++17 -I"/Library/Frameworks/R.framework/Resources/include" -DNDEBUG -I'/Library/Frameworks/R.framework/Versions/4.5-x86_64/Resources/library/Rcpp/include' -I/opt/R/x86_64/include -I./imslib/src/ -fPIC -falign-functions=64 -Wall -g -O2 -c imslib/src/ims/element.cpp -o imslib/src/ims/element.o
clang++ -arch x86_64 -std=gnu++17 -I"/Library/Frameworks/R.framework/Resources/include" -DNDEBUG -I'/Library/Frameworks/R.framework/Versions/4.5-x86_64/Resources/library/Rcpp/include' -I/opt/R/x86_64/include -I./imslib/src/ -fPIC -falign-functions=64 -Wall -g -O2 -c imslib/src/ims/composedelement.cpp -o imslib/src/ims/composedelement.o
clang++ -arch x86_64 -std=gnu++17 -I"/Library/Frameworks/R.framework/Resources/include" -DNDEBUG -I'/Library/Frameworks/R.framework/Versions/4.5-x86_64/Resources/library/Rcpp/include' -I/opt/R/x86_64/include -I./imslib/src/ -fPIC -falign-functions=64 -Wall -g -O2 -c imslib/src/ims/isotopedistribution.cpp -o imslib/src/ims/isotopedistribution.o
clang++ -arch x86_64 -std=gnu++17 -I"/Library/Frameworks/R.framework/Resources/include" -DNDEBUG -I'/Library/Frameworks/R.framework/Versions/4.5-x86_64/Resources/library/Rcpp/include' -I/opt/R/x86_64/include -I./imslib/src/ -fPIC -falign-functions=64 -Wall -g -O2 -c imslib/src/ims/alphabet.cpp -o imslib/src/ims/alphabet.o
clang++ -arch x86_64 -std=gnu++17 -I"/Library/Frameworks/R.framework/Resources/include" -DNDEBUG -I'/Library/Frameworks/R.framework/Versions/4.5-x86_64/Resources/library/Rcpp/include' -I/opt/R/x86_64/include -I./imslib/src/ -fPIC -falign-functions=64 -Wall -g -O2 -c imslib/src/ims/weights.cpp -o imslib/src/ims/weights.o
clang++ -arch x86_64 -std=gnu++17 -I"/Library/Frameworks/R.framework/Resources/include" -DNDEBUG -I'/Library/Frameworks/R.framework/Versions/4.5-x86_64/Resources/library/Rcpp/include' -I/opt/R/x86_64/include -I./imslib/src/ -fPIC -falign-functions=64 -Wall -g -O2 -c imslib/src/ims/distributedalphabet.cpp -o imslib/src/ims/distributedalphabet.o
clang++ -arch x86_64 -std=gnu++17 -I"/Library/Frameworks/R.framework/Resources/include" -DNDEBUG -I'/Library/Frameworks/R.framework/Versions/4.5-x86_64/Resources/library/Rcpp/include' -I/opt/R/x86_64/include -I./imslib/src/ -fPIC -falign-functions=64 -Wall -g -O2 -c imslib/src/ims/transformation.cpp -o imslib/src/ims/transformation.o
clang++ -arch x86_64 -std=gnu++17 -I"/Library/Frameworks/R.framework/Resources/include" -DNDEBUG -I'/Library/Frameworks/R.framework/Versions/4.5-x86_64/Resources/library/Rcpp/include' -I/opt/R/x86_64/include -I./imslib/src/ -fPIC -falign-functions=64 -Wall -g -O2 -c imslib/src/ims/isotopespecies.cpp -o imslib/src/ims/isotopespecies.o
clang++ -arch x86_64 -std=gnu++17 -I"/Library/Frameworks/R.framework/Resources/include" -DNDEBUG -I'/Library/Frameworks/R.framework/Versions/4.5-x86_64/Resources/library/Rcpp/include' -I/opt/R/x86_64/include -I./imslib/src/ -fPIC -falign-functions=64 -Wall -g -O2 -c imslib/src/ims/base/parser/alphabettextparser.cpp -o imslib/src/ims/base/parser/alphabettextparser.o
clang++ -arch x86_64 -std=gnu++17 -I"/Library/Frameworks/R.framework/Resources/include" -DNDEBUG -I'/Library/Frameworks/R.framework/Versions/4.5-x86_64/Resources/library/Rcpp/include' -I/opt/R/x86_64/include -I./imslib/src/ -fPIC -falign-functions=64 -Wall -g -O2 -c imslib/src/ims/base/parser/distributedalphabettextparser.cpp -o imslib/src/ims/base/parser/distributedalphabettextparser.o
clang++ -arch x86_64 -std=gnu++17 -I"/Library/Frameworks/R.framework/Resources/include" -DNDEBUG -I'/Library/Frameworks/R.framework/Versions/4.5-x86_64/Resources/library/Rcpp/include' -I/opt/R/x86_64/include -I./imslib/src/ -fPIC -falign-functions=64 -Wall -g -O2 -c imslib/src/ims/base/parser/massestextparser.cpp -o imslib/src/ims/base/parser/massestextparser.o
clang++ -arch x86_64 -std=gnu++17 -I"/Library/Frameworks/R.framework/Resources/include" -DNDEBUG -I'/Library/Frameworks/R.framework/Versions/4.5-x86_64/Resources/library/Rcpp/include' -I/opt/R/x86_64/include -I./imslib/src/ -fPIC -falign-functions=64 -Wall -g -O2 -c imslib/src/ims/base/parser/moleculesequenceparser.cpp -o imslib/src/ims/base/parser/moleculesequenceparser.o
clang++ -arch x86_64 -std=gnu++17 -I"/Library/Frameworks/R.framework/Resources/include" -DNDEBUG -I'/Library/Frameworks/R.framework/Versions/4.5-x86_64/Resources/library/Rcpp/include' -I/opt/R/x86_64/include -I./imslib/src/ -fPIC -falign-functions=64 -Wall -g -O2 -c imslib/src/ims/base/parser/standardmoleculesequenceparser.cpp -o imslib/src/ims/base/parser/standardmoleculesequenceparser.o
clang++ -arch x86_64 -std=gnu++17 -I"/Library/Frameworks/R.framework/Resources/include" -DNDEBUG -I'/Library/Frameworks/R.framework/Versions/4.5-x86_64/Resources/library/Rcpp/include' -I/opt/R/x86_64/include -I./imslib/src/ -fPIC -falign-functions=64 -Wall -g -O2 -c imslib/src/ims/base/parser/keggligandcompoundsparser.cpp -o imslib/src/ims/base/parser/keggligandcompoundsparser.o
imslib/src/ims/base/parser/keggligandcompoundsparser.cpp:53:31: warning: '&&' within '||' [-Wlogical-op-parentheses]
for (; letter_pos < last_pos &&
~~~~~~~~~~~~~~~~~~~~~~^~
imslib/src/ims/base/parser/keggligandcompoundsparser.cpp:53:31: note: place parentheses around the '&&' expression to silence this warning
for (; letter_pos < last_pos &&
^
(
1 warning generated.
clang++ -arch x86_64 -std=gnu++17 -I"/Library/Frameworks/R.framework/Resources/include" -DNDEBUG -I'/Library/Frameworks/R.framework/Versions/4.5-x86_64/Resources/library/Rcpp/include' -I/opt/R/x86_64/include -I./imslib/src/ -fPIC -falign-functions=64 -Wall -g -O2 -c imslib/src/ims/base/parser/moleculeionchargemodificationparser.cpp -o imslib/src/ims/base/parser/moleculeionchargemodificationparser.o
clang++ -arch x86_64 -std=gnu++17 -I"/Library/Frameworks/R.framework/Resources/include" -DNDEBUG -I'/Library/Frameworks/R.framework/Versions/4.5-x86_64/Resources/library/Rcpp/include' -I/opt/R/x86_64/include -I./imslib/src/ -fPIC -falign-functions=64 -Wall -g -O2 -c imslib/src/ims/calib/linepairstabber.cpp -o imslib/src/ims/calib/linepairstabber.o
clang++ -arch x86_64 -std=gnu++17 -I"/Library/Frameworks/R.framework/Resources/include" -DNDEBUG -I'/Library/Frameworks/R.framework/Versions/4.5-x86_64/Resources/library/Rcpp/include' -I/opt/R/x86_64/include -I./imslib/src/ -fPIC -falign-functions=64 -Wall -g -O2 -c imslib/src/ims/calib/matchmatrix.cpp -o imslib/src/ims/calib/matchmatrix.o
clang++ -arch x86_64 -std=gnu++17 -I"/Library/Frameworks/R.framework/Resources/include" -DNDEBUG -I'/Library/Frameworks/R.framework/Versions/4.5-x86_64/Resources/library/Rcpp/include' -I/opt/R/x86_64/include -I./imslib/src/ -fPIC -falign-functions=64 -Wall -g -O2 -c imslib/src/ims/calib/linearpointsetmatcher.cpp -o imslib/src/ims/calib/linearpointsetmatcher.o
clang++ -arch x86_64 -std=gnu++17 -I"/Library/Frameworks/R.framework/Resources/include" -DNDEBUG -I'/Library/Frameworks/R.framework/Versions/4.5-x86_64/Resources/library/Rcpp/include' -I/opt/R/x86_64/include -I./imslib/src/ -fPIC -falign-functions=64 -Wall -g -O2 -c imslib/src/ims/decomp/realmassdecomposer.cpp -o imslib/src/ims/decomp/realmassdecomposer.o
In file included from imslib/src/ims/decomp/realmassdecomposer.cpp:9:
./imslib/src/ims/decomp/decomputils.h:92:53: warning: unused typedef 'weight_type' [-Wunused-local-typedef]
typedef typename DecompositionWeights::weight_type weight_type;
^
1 warning generated.
clang++ -arch x86_64 -std=gnu++17 -I"/Library/Frameworks/R.framework/Resources/include" -DNDEBUG -I'/Library/Frameworks/R.framework/Versions/4.5-x86_64/Resources/library/Rcpp/include' -I/opt/R/x86_64/include -I./imslib/src/ -fPIC -falign-functions=64 -Wall -g -O2 -c imslib/src/ims/utils/distribution.cpp -o imslib/src/ims/utils/distribution.o
clang++ -arch x86_64 -std=gnu++17 -I"/Library/Frameworks/R.framework/Resources/include" -DNDEBUG -I'/Library/Frameworks/R.framework/Versions/4.5-x86_64/Resources/library/Rcpp/include' -I/opt/R/x86_64/include -I./imslib/src/ -fPIC -falign-functions=64 -Wall -g -O2 -c imslib/src/ims/distributionprobabilityscorer.cpp -o imslib/src/ims/distributionprobabilityscorer.o
clang++ -arch x86_64 -std=gnu++17 -I"/Library/Frameworks/R.framework/Resources/include" -DNDEBUG -I'/Library/Frameworks/R.framework/Versions/4.5-x86_64/Resources/library/Rcpp/include' -I/opt/R/x86_64/include -I./imslib/src/ -fPIC -falign-functions=64 -Wall -g -O2 -c imslib/src/ims/characteralphabet.cpp -o imslib/src/ims/characteralphabet.o
clang++ -arch x86_64 -std=gnu++17 -I"/Library/Frameworks/R.framework/Resources/include" -DNDEBUG -I'/Library/Frameworks/R.framework/Versions/4.5-x86_64/Resources/library/Rcpp/include' -I/opt/R/x86_64/include -I./imslib/src/ -fPIC -falign-functions=64 -Wall -g -O2 -c imslib/src/ims/nitrogenrulefilter.cpp -o imslib/src/ims/nitrogenrulefilter.o
clang++ -arch x86_64 -std=gnu++17 -dynamiclib -Wl,-headerpad_max_install_names -undefined dynamic_lookup -L/Library/Frameworks/R.framework/Resources/lib -L/opt/R/x86_64/lib -o Rdisop.so disop.o imslib/src/ims/element.o imslib/src/ims/composedelement.o imslib/src/ims/isotopedistribution.o imslib/src/ims/alphabet.o imslib/src/ims/weights.o imslib/src/ims/distributedalphabet.o imslib/src/ims/transformation.o imslib/src/ims/isotopespecies.o imslib/src/ims/base/parser/alphabettextparser.o imslib/src/ims/base/parser/distributedalphabettextparser.o imslib/src/ims/base/parser/massestextparser.o imslib/src/ims/base/parser/moleculesequenceparser.o imslib/src/ims/base/parser/standardmoleculesequenceparser.o imslib/src/ims/base/parser/keggligandcompoundsparser.o imslib/src/ims/base/parser/moleculeionchargemodificationparser.o imslib/src/ims/calib/linepairstabber.o imslib/src/ims/calib/matchmatrix.o imslib/src/ims/calib/linearpointsetmatcher.o imslib/src/ims/decomp/realmassdecomposer.o imslib/src/ims/utils/distribution.o imslib/src/ims/distributionprobabilityscorer.o imslib/src/ims/characteralphabet.o imslib/src/ims/nitrogenrulefilter.o -F/Library/Frameworks/R.framework/.. -framework R
installing to /Library/Frameworks/R.framework/Versions/4.5-x86_64/Resources/library/00LOCK-Rdisop/00new/Rdisop/libs
** R
** data
*** moving datasets to lazyload DB
** inst
** byte-compile and prepare package for lazy loading
** help
*** installing help indices
** building package indices
** installing vignettes
** testing if installed package can be loaded from temporary location
** checking absolute paths in shared objects and dynamic libraries
** testing if installed package can be loaded from final location
** testing if installed package keeps a record of temporary installation path
* DONE (Rdisop)
Rdisop.Rcheck/tests/testthat.Rout
R version 4.5.1 Patched (2025-09-10 r88807) -- "Great Square Root"
Copyright (C) 2025 The R Foundation for Statistical Computing
Platform: x86_64-apple-darwin20
R is free software and comes with ABSOLUTELY NO WARRANTY.
You are welcome to redistribute it under certain conditions.
Type 'license()' or 'licence()' for distribution details.
R is a collaborative project with many contributors.
Type 'contributors()' for more information and
'citation()' on how to cite R or R packages in publications.
Type 'demo()' for some demos, 'help()' for on-line help, or
'help.start()' for an HTML browser interface to help.
Type 'q()' to quit R.
> # This file is part of the standard setup for testthat.
> # It is recommended that you do not modify it.
> #
> # Where should you do additional test configuration?
> # Learn more about the roles of various files in:
> # * https://r-pkgs.org/testing-design.html#sec-tests-files-overview
> # * https://testthat.r-lib.org/articles/special-files.html
>
> library(testthat)
> library(Rdisop)
Loading required package: Rcpp
>
> testthat::test_check("Rdisop")
[ FAIL 0 | WARN 0 | SKIP 0 | PASS 87 ]
>
> proc.time()
user system elapsed
1.736 0.291 2.071
Rdisop.Rcheck/Rdisop-Ex.timings
| name | user | system | elapsed | |
| addMolecules | 0.003 | 0.002 | 0.005 | |
| decomposeIsotopes | 0.037 | 0.010 | 0.048 | |
| getMolecule | 0.003 | 0.001 | 0.003 | |
| initializeElements | 0.005 | 0.002 | 0.006 | |