Back to Multiple platform build/check report for BioC 3.22:   simplified   long
ABCDEFGHIJKLMNOPQ[R]STUVWXYZ

This page was generated on 2025-10-24 12:05 -0400 (Fri, 24 Oct 2025).

HostnameOSArch (*)R versionInstalled pkgs
nebbiolo2Linux (Ubuntu 24.04.3 LTS)x86_644.5.1 Patched (2025-08-23 r88802) -- "Great Square Root" 4898
lconwaymacOS 12.7.6 Montereyx86_644.5.1 Patched (2025-09-10 r88807) -- "Great Square Root" 4688
kjohnson3macOS 13.7.7 Venturaarm644.5.1 Patched (2025-09-10 r88807) -- "Great Square Root" 4634
taishanLinux (openEuler 24.03 LTS)aarch644.5.0 (2025-04-11) -- "How About a Twenty-Six" 4658
Click on any hostname to see more info about the system (e.g. compilers)      (*) as reported by 'uname -p', except on Windows and Mac OS X

Package 1731/2359HostnameOS / ArchINSTALLBUILDCHECKBUILD BIN
Rcpi 1.45.0  (landing page)
Nan Xiao
Snapshot Date: 2025-10-23 14:17 -0400 (Thu, 23 Oct 2025)
git_url: https://git.bioconductor.org/packages/Rcpi
git_branch: devel
git_last_commit: dba81ab
git_last_commit_date: 2025-04-15 10:29:42 -0400 (Tue, 15 Apr 2025)
nebbiolo2Linux (Ubuntu 24.04.3 LTS) / x86_64  OK    OK    OK  UNNEEDED, same version is already published
lconwaymacOS 12.7.6 Monterey / x86_64  OK    OK    OK    OK  UNNEEDED, same version is already published
kjohnson3macOS 13.7.7 Ventura / arm64  OK    OK    OK    OK  UNNEEDED, same version is already published
taishanLinux (openEuler 24.03 LTS) / aarch64  OK    OK    NA  


CHECK results for Rcpi on lconway

To the developers/maintainers of the Rcpi package:
- Allow up to 24 hours (and sometimes 48 hours) for your latest push to git@git.bioconductor.org:packages/Rcpi.git to reflect on this report. See Troubleshooting Build Report for more information.
- Use the following Renviron settings to reproduce errors and warnings.
- If 'R CMD check' started to fail recently on the Linux builder(s) over a missing dependency, add the missing dependency to 'Suggests:' in your DESCRIPTION file. See Renviron.bioc for more information.

raw results


Summary

Package: Rcpi
Version: 1.45.0
Command: /Library/Frameworks/R.framework/Resources/bin/R CMD check --install=check:Rcpi.install-out.txt --library=/Library/Frameworks/R.framework/Resources/library --no-vignettes --timings Rcpi_1.45.0.tar.gz
StartedAt: 2025-10-23 23:32:42 -0400 (Thu, 23 Oct 2025)
EndedAt: 2025-10-23 23:35:05 -0400 (Thu, 23 Oct 2025)
EllapsedTime: 143.4 seconds
RetCode: 0
Status:   OK  
CheckDir: Rcpi.Rcheck
Warnings: 0

Command output

##############################################################################
##############################################################################
###
### Running command:
###
###   /Library/Frameworks/R.framework/Resources/bin/R CMD check --install=check:Rcpi.install-out.txt --library=/Library/Frameworks/R.framework/Resources/library --no-vignettes --timings Rcpi_1.45.0.tar.gz
###
##############################################################################
##############################################################################


* using log directory ‘/Users/biocbuild/bbs-3.22-bioc/meat/Rcpi.Rcheck’
* using R version 4.5.1 Patched (2025-09-10 r88807)
* using platform: x86_64-apple-darwin20
* R was compiled by
    Apple clang version 14.0.0 (clang-1400.0.29.202)
    GNU Fortran (GCC) 14.2.0
* running under: macOS Monterey 12.7.6
* using session charset: UTF-8
* using option ‘--no-vignettes’
* checking for file ‘Rcpi/DESCRIPTION’ ... OK
* checking extension type ... Package
* this is package ‘Rcpi’ version ‘1.45.0’
* package encoding: UTF-8
* checking package namespace information ... OK
* checking package dependencies ... OK
* checking if this is a source package ... OK
* checking if there is a namespace ... OK
* checking for hidden files and directories ... OK
* checking for portable file names ... OK
* checking for sufficient/correct file permissions ... OK
* checking whether package ‘Rcpi’ can be installed ... OK
* checking installed package size ... OK
* checking package directory ... OK
* checking ‘build’ directory ... OK
* checking DESCRIPTION meta-information ... OK
* checking top-level files ... OK
* checking for left-over files ... OK
* checking index information ... OK
* checking package subdirectories ... OK
* checking code files for non-ASCII characters ... OK
* checking R files for syntax errors ... OK
* checking whether the package can be loaded ... OK
* checking whether the package can be loaded with stated dependencies ... OK
* checking whether the package can be unloaded cleanly ... OK
* checking whether the namespace can be loaded with stated dependencies ... OK
* checking whether the namespace can be unloaded cleanly ... OK
* checking dependencies in R code ... OK
* checking S3 generic/method consistency ... OK
* checking replacement functions ... OK
* checking foreign function calls ... OK
* checking R code for possible problems ... OK
* checking Rd files ... OK
* checking Rd metadata ... OK
* checking Rd cross-references ... OK
* checking for missing documentation entries ... OK
* checking for code/documentation mismatches ... OK
* checking Rd \usage sections ... OK
* checking Rd contents ... OK
* checking for unstated dependencies in examples ... OK
* checking contents of ‘data’ directory ... OK
* checking data for non-ASCII characters ... OK
* checking LazyData ... OK
* checking data for ASCII and uncompressed saves ... OK
* checking files in ‘vignettes’ ... OK
* checking examples ... OK
* checking for unstated dependencies in ‘tests’ ... OK
* checking tests ...
  Running ‘testthat.R’
 OK
* checking for unstated dependencies in vignettes ... OK
* checking package vignettes ... OK
* checking running R code from vignettes ... SKIPPED
* checking re-building of vignette outputs ... SKIPPED
* checking PDF version of manual ... OK
* DONE

Status: OK


Installation output

Rcpi.Rcheck/00install.out

##############################################################################
##############################################################################
###
### Running command:
###
###   /Library/Frameworks/R.framework/Resources/bin/R CMD INSTALL Rcpi
###
##############################################################################
##############################################################################


* installing to library ‘/Library/Frameworks/R.framework/Versions/4.5-x86_64/Resources/library’
* installing *source* package ‘Rcpi’ ...
** this is package ‘Rcpi’ version ‘1.45.0’
** using staged installation
** R
** data
*** moving datasets to lazyload DB
** inst
** byte-compile and prepare package for lazy loading
** help
*** installing help indices
*** copying figures
** building package indices
** installing vignettes
** testing if installed package can be loaded from temporary location
** testing if installed package can be loaded from final location
** testing if installed package keeps a record of temporary installation path
* DONE (Rcpi)

Tests output

Rcpi.Rcheck/tests/testthat.Rout


R version 4.5.1 Patched (2025-09-10 r88807) -- "Great Square Root"
Copyright (C) 2025 The R Foundation for Statistical Computing
Platform: x86_64-apple-darwin20

R is free software and comes with ABSOLUTELY NO WARRANTY.
You are welcome to redistribute it under certain conditions.
Type 'license()' or 'licence()' for distribution details.

R is a collaborative project with many contributors.
Type 'contributors()' for more information and
'citation()' on how to cite R or R packages in publications.

Type 'demo()' for some demos, 'help()' for on-line help, or
'help.start()' for an HTML browser interface to help.
Type 'q()' to quit R.

> library(testthat)
> library(Rcpi)

> 
> test_check("Rcpi")
[ FAIL 0 | WARN 0 | SKIP 0 | PASS 22 ]
> 
> proc.time()
   user  system elapsed 
  7.020   0.686   6.926 

Example timings

Rcpi.Rcheck/Rcpi-Ex.timings

nameusersystemelapsed
AA2DACOR0.0020.0010.003
AA3DMoRSE0.0010.0010.002
AAACF0.0010.0010.002
AABLOSUM1000.0010.0010.002
AABLOSUM450.0010.0010.002
AABLOSUM500.0010.0010.002
AABLOSUM620.0010.0020.002
AABLOSUM800.0000.0010.003
AABurden0.0010.0010.001
AACPSA0.0010.0000.001
AAConn0.0010.0010.001
AAConst0.0010.0010.002
AADescAll0.0000.0010.001
AAEdgeAdj0.0000.0010.002
AAEigIdx0.0000.0010.002
AAFGC0.0010.0010.002
AAGETAWAY0.0010.0000.001
AAGeom0.0010.0010.001
AAInfo0.0010.0010.001
AAMOE2D0.0010.0020.003
AAMOE3D0.0000.0010.001
AAMetaInfo0.0000.0010.002
AAMolProp0.0010.0010.002
AAPAM1200.0010.0010.002
AAPAM2500.0010.0000.001
AAPAM300.0010.0010.002
AAPAM400.0010.0010.001
AAPAM700.0000.0010.002
AARDF0.0010.0010.002
AARandic0.0010.0010.002
AATopo0.0010.0010.002
AATopoChg0.0010.0010.001
AAWHIM0.0000.0010.002
AAWalk0.0010.0010.002
AAindex0.0010.0010.002
OptAA3d0.0000.0000.001
acc0.0070.0060.014
calcDrugFPSim0.0000.0000.001
calcDrugMCSSim0.0040.0040.009
calcParProtGOSim0.0000.0000.001
calcParProtSeqSim0.0060.0040.011
calcTwoProtGOSim000
calcTwoProtSeqSim0.0020.0010.002
checkProt0.0010.0010.002
convMolFormat0.0010.0010.001
extractDrugAIO0.0010.0000.001
extractDrugALOGP0.0010.0000.001
extractDrugAminoAcidCount0.0010.0000.001
extractDrugApol0.0010.0010.001
extractDrugAromaticAtomsCount0.0010.0010.002
extractDrugAromaticBondsCount0.0000.0000.001
extractDrugAtomCount0.0010.0000.001
extractDrugAutocorrelationCharge0.0010.0010.001
extractDrugAutocorrelationMass0.0000.0010.001
extractDrugAutocorrelationPolarizability0.0010.0010.001
extractDrugBCUT0.0010.0000.001
extractDrugBPol0.0010.0000.001
extractDrugBondCount0.0010.0000.001
extractDrugCPSA0.0010.0000.001
extractDrugCarbonTypes0.0010.0010.001
extractDrugChiChain0.0010.0010.001
extractDrugChiCluster0.0010.0000.002
extractDrugChiPath0.0000.0000.001
extractDrugChiPathCluster0.0000.0000.002
extractDrugDescOB0.0160.0070.023
extractDrugECI0.0010.0000.002
extractDrugEstate0.0010.0000.001
extractDrugEstateComplete0.0010.0000.002
extractDrugExtended0.0000.0000.001
extractDrugExtendedComplete0.0000.0000.001
extractDrugFMF0.0010.0010.001
extractDrugFragmentComplexity0.0010.0010.001
extractDrugGraph0.0010.0000.001
extractDrugGraphComplete0.0010.0000.001
extractDrugGravitationalIndex0.0000.0000.001
extractDrugHBondAcceptorCount0.0010.0000.001
extractDrugHBondDonorCount0.0010.0010.001
extractDrugHybridization0.0010.0000.001
extractDrugHybridizationComplete0.0010.0000.001
extractDrugHybridizationRatio0.0010.0000.002
extractDrugIPMolecularLearning0.0010.0000.001
extractDrugKR0.0010.0000.001
extractDrugKRComplete0.0010.0000.001
extractDrugKappaShapeIndices0.0010.0010.002
extractDrugKierHallSmarts0.0010.0010.001
extractDrugLargestChain0.0010.0010.002
extractDrugLargestPiSystem0.0010.0010.001
extractDrugLengthOverBreadth0.0010.0010.001
extractDrugLongestAliphaticChain0.0010.0010.001
extractDrugMACCS0.0000.0010.002
extractDrugMACCSComplete0.0010.0010.001
extractDrugMDE0.0010.0010.002
extractDrugMannholdLogP0.0000.0010.001
extractDrugMomentOfInertia0.0010.0010.001
extractDrugOBFP20.0060.0020.008
extractDrugOBFP30.0140.0060.022
extractDrugOBFP40.0070.0040.011
extractDrugOBMACCS0.0850.0060.092
extractDrugPetitjeanNumber0.0010.0010.001
extractDrugPetitjeanShapeIndex0.0000.0000.001
extractDrugPubChem0.0010.0000.002
extractDrugPubChemComplete0.0010.0000.001
extractDrugRotatableBondsCount0.0010.0010.001
extractDrugRuleOfFive0.0010.0010.001
extractDrugShortestPath0.0010.0000.001
extractDrugShortestPathComplete0.0010.0000.001
extractDrugStandard0.0010.0010.001
extractDrugStandardComplete0.0010.0010.001
extractDrugTPSA0.0010.0000.001
extractDrugVABC0.0010.0000.001
extractDrugVAdjMa0.0010.0000.001
extractDrugWHIM0.0010.0010.001
extractDrugWeight0.0010.0000.001
extractDrugWeightedPath0.0010.0000.001
extractDrugWienerNumbers0.0010.0010.001
extractDrugXLogP0.0010.0010.001
extractDrugZagrebIndex0.0010.0000.001
extractPCMBLOSUM0.0090.0020.010
extractPCMDescScales0.0120.0020.016
extractPCMFAScales0.0190.0040.023
extractPCMMDSScales0.0100.0030.012
extractPCMPropScales0.0190.0020.020
extractPCMScales0.0170.0030.019
extractProtAAC0.0020.0000.004
extractProtAPAAC0.8260.0280.887
extractProtCTDC0.0030.0010.004
extractProtCTDD0.0050.0030.008
extractProtCTDT0.0050.0020.006
extractProtCTriad0.1020.0120.115
extractProtDC0.0040.0070.011
extractProtGeary0.1260.0110.141
extractProtMoran0.1210.0100.135
extractProtMoreauBroto0.1160.0140.131
extractProtPAAC0.4110.0090.421
extractProtPSSM0.0020.0010.003
extractProtPSSMAcc0.0010.0010.002
extractProtPSSMFeature0.0010.0000.002
extractProtQSO0.6920.0130.710
extractProtSOCN0.6810.0130.702
extractProtTC0.0410.2010.284
getCPI0.0040.0040.011
getDrug000
getFASTAFromKEGG000
getFASTAFromUniProt0.0000.0010.000
getMolFromCAS0.0000.0010.001
getMolFromChEMBL0.0000.0010.001
getMolFromDrugBank0.0000.0010.001
getMolFromKEGG0.0000.0010.000
getMolFromPubChem0.0000.0010.001
getPDBFromRCSBPDB0.0000.0010.000
getPPI0.0030.0040.006
getProt0.0000.0000.001
getSeqFromKEGG000
getSeqFromRCSBPDB0.0000.0010.000
getSeqFromUniProt0.0000.0000.001
getSmiFromChEMBL0.0000.0010.001
getSmiFromDrugBank0.0010.0010.001
getSmiFromKEGG0.0000.0010.000
getSmiFromPubChem0.0000.0010.000
readFASTA0.0020.0010.003
readMolFromSDF0.0030.0020.004
readMolFromSmi0.0000.0000.002
readPDB0.8190.0100.841
searchDrug0.0020.0010.004
segProt0.0020.0030.007