| Back to Multiple platform build/check report for BioC 3.22: simplified long | 
 | 
This page was generated on 2025-10-24 12:05 -0400 (Fri, 24 Oct 2025).
| Hostname | OS | Arch (*) | R version | Installed pkgs | 
|---|---|---|---|---|
| nebbiolo2 | Linux (Ubuntu 24.04.3 LTS) | x86_64 | 4.5.1 Patched (2025-08-23 r88802) -- "Great Square Root" | 4898 | 
| lconway | macOS 12.7.6 Monterey | x86_64 | 4.5.1 Patched (2025-09-10 r88807) -- "Great Square Root" | 4688 | 
| kjohnson3 | macOS 13.7.7 Ventura | arm64 | 4.5.1 Patched (2025-09-10 r88807) -- "Great Square Root" | 4634 | 
| taishan | Linux (openEuler 24.03 LTS) | aarch64 | 4.5.0 (2025-04-11) -- "How About a Twenty-Six" | 4658 | 
| Click on any hostname to see more info about the system (e.g. compilers) (*) as reported by 'uname -p', except on Windows and Mac OS X | ||||
| Package 1719/2359 | Hostname | OS / Arch | INSTALL | BUILD | CHECK | BUILD BIN | ||||||||
| Rbowtie 1.49.0  (landing page) Michael Stadler 
 | nebbiolo2 | Linux (Ubuntu 24.04.3 LTS) / x86_64 | OK | OK | OK |  | ||||||||
| lconway | macOS 12.7.6 Monterey / x86_64 | OK | OK | WARNINGS | OK |  | ||||||||
| kjohnson3 | macOS 13.7.7 Ventura / arm64 | OK | OK | WARNINGS | OK |  | ||||||||
| taishan | Linux (openEuler 24.03 LTS) / aarch64 | OK | OK | NA | ||||||||||
| To the developers/maintainers of the Rbowtie package: - Allow up to 24 hours (and sometimes 48 hours) for your latest push to git@git.bioconductor.org:packages/Rbowtie.git to reflect on this report. See Troubleshooting Build Report for more information. - Use the following Renviron settings to reproduce errors and warnings. - If 'R CMD check' started to fail recently on the Linux builder(s) over a missing dependency, add the missing dependency to 'Suggests:' in your DESCRIPTION file. See Renviron.bioc for more information. | 
| Package: Rbowtie | 
| Version: 1.49.0 | 
| Command: /Library/Frameworks/R.framework/Resources/bin/R CMD INSTALL Rbowtie | 
| StartedAt: 2025-10-23 15:07:24 -0400 (Thu, 23 Oct 2025) | 
| EndedAt: 2025-10-23 15:08:42 -0400 (Thu, 23 Oct 2025) | 
| EllapsedTime: 77.7 seconds | 
| RetCode: 0 | 
| Status: OK | 
##############################################################################
##############################################################################
###
### Running command:
###
###   /Library/Frameworks/R.framework/Resources/bin/R CMD INSTALL Rbowtie
###
##############################################################################
##############################################################################
* installing to library ‘/Library/Frameworks/R.framework/Versions/4.5-x86_64/Resources/library’
* installing *source* package ‘Rbowtie’ ...
** this is package ‘Rbowtie’ version ‘1.49.0’
** using staged installation
** libs
clang++ -O3 -DCOMPILER_OPTIONS="\"-O3  -stdlib=libc++ -falign-functions=64 -Wall -g -O2   -falign-functions=64 -Wall -g -O2  \""  -stdlib=libc++ -falign-functions=64 -Wall -g -O2   -falign-functions=64 -Wall -g -O2    \
		-fno-strict-aliasing -DBOWTIE_VERSION="\"`cat VERSION`\"" -DBUILD_HOST="\"`hostname`\"" -DBUILD_TIME="\"2025-10-23T15:07:25\"" -DCOMPILER_VERSION="\"`clang++ -v 2>&1 | tail -1`\"" -D_LARGEFILE_SOURCE -D_FILE_OFFSET_BITS=64 -D_GNU_SOURCE  -DPREFETCH_LOCALITY=2 -DBOWTIE_MM -DBOWTIE_SHARED_MEM -DNDEBUG -Wall -Wno-unused-parameter -Wno-reorder \
		 -I third_party \
		-o bowtie-build-s ebwt_build.cpp \
		ccnt_lut.cpp ref_read.cpp alphabet.cpp shmem.cpp edit.cpp ebwt.cpp bt2_locks.cpp tinythread.cpp  bowtie_build_main.cpp \
		-L/opt/R/x86_64/lib  -lz -lpthread 
In file included from ebwt_build.cpp:10:
In file included from ./ebwt.h:1524:
In file included from ./ebwt_search_backtrack.h:8:
./ebwt_search_util.h:70:12: warning: variable 'qual' set but not used [-Wunused-but-set-variable]
                uint32_t qual = 0;
                         ^
./ebwt_search_util.h:37:14: warning: anonymous non-C-compatible type given name for linkage purposes by typedef declaration; add a tag name here [-Wnon-c-typedef-for-linkage]
typedef union {
             ^
              PartialAlignment
./ebwt_search_util.h:69:2: note: type is not C-compatible due to this member declaration
        bool repOk(uint32_t qualMax, uint32_t slen, const BTString& quals, bool maqPenalty) {
        ^~~~~~~~~~~~~~~~~~~~~~~~~~~~~~~~~~~~~~~~~~~~~~~~~~~~~~~~~~~~~~~~~~~~~~~~~~~~~~~~~~~~~
./ebwt_search_util.h:88:3: note: type is given name 'PartialAlignment' for linkage purposes by this typedef declaration
} PartialAlignment;
  ^
In file included from ebwt_build.cpp:10:
In file included from ./ebwt.h:1524:
./ebwt_search_backtrack.h:1674:12: warning: variable 'cumSz' set but not used [-Wunused-but-set-variable]
                uint32_t cumSz = 0;
                         ^
In file included from ebwt_build.cpp:10:
./ebwt.h:3889:14: warning: variable 'patoff' set but not used [-Wunused-but-set-variable]
                TIndexOffU patoff = 0;
                           ^
In file included from ebwt_build.cpp:10:
In file included from ./ebwt.h:25:
In file included from ./blockwise_sa.h:16:
In file included from ./binary_sa_search.h:12:
In file included from ./sstring.h:29:
./util.h:50:18: warning: overlapping comparisons always evaluate to false [-Wtautological-overlap-compare]
                if (value <= 0 && value != 0) *out++ = '-';
                    ~~~~~~~~~~~^~~~~~~~~~~~~
./read.h:331:5: note: in instantiation of function template specialization 'itoa10<unsigned long>' requested here
                                itoa10(ops[i].n, buf); o.append(buf);
                                ^
5 warnings generated.
clang++ -O3 -DCOMPILER_OPTIONS="\"-O3  -stdlib=libc++ -falign-functions=64 -Wall -g -O2   -falign-functions=64 -Wall -g -O2  \""  -stdlib=libc++ -falign-functions=64 -Wall -g -O2   -falign-functions=64 -Wall -g -O2   \
		-fno-strict-aliasing -DBOWTIE_VERSION="\"`cat VERSION`\"" -DBUILD_HOST="\"`hostname`\"" -DBUILD_TIME="\"2025-10-23T15:07:35\"" -DCOMPILER_VERSION="\"`clang++ -v 2>&1 | tail -1`\"" -D_LARGEFILE_SOURCE -D_FILE_OFFSET_BITS=64 -D_GNU_SOURCE  -DPREFETCH_LOCALITY=2 -DBOWTIE_MM -DBOWTIE_SHARED_MEM -DNDEBUG -Wall -Wno-unused-parameter -Wno-reorder \
		 -I third_party \
		-o bowtie-align-s ebwt_search.cpp \
		ccnt_lut.cpp ref_read.cpp alphabet.cpp shmem.cpp edit.cpp ebwt.cpp bt2_locks.cpp tinythread.cpp qual.cpp pat.cpp ebwt_search_util.cpp ref_aligner.cpp log.cpp hit_set.cpp sam.cpp hit.cpp bowtie_main.cpp \
		-L/opt/R/x86_64/lib  -lz -lpthread 
In file included from ebwt_search.cpp:17:
In file included from ./aligner.h:18:
In file included from ./ebwt.h:1524:
In file included from ./ebwt_search_backtrack.h:8:
./ebwt_search_util.h:70:12: warning: variable 'qual' set but not used [-Wunused-but-set-variable]
                uint32_t qual = 0;
                         ^
./ebwt_search_util.h:37:14: warning: anonymous non-C-compatible type given name for linkage purposes by typedef declaration; add a tag name here [-Wnon-c-typedef-for-linkage]
typedef union {
             ^
              PartialAlignment
./ebwt_search_util.h:69:2: note: type is not C-compatible due to this member declaration
        bool repOk(uint32_t qualMax, uint32_t slen, const BTString& quals, bool maqPenalty) {
        ^~~~~~~~~~~~~~~~~~~~~~~~~~~~~~~~~~~~~~~~~~~~~~~~~~~~~~~~~~~~~~~~~~~~~~~~~~~~~~~~~~~~~
./ebwt_search_util.h:88:3: note: type is given name 'PartialAlignment' for linkage purposes by this typedef declaration
} PartialAlignment;
  ^
In file included from ebwt_search.cpp:17:
In file included from ./aligner.h:18:
In file included from ./ebwt.h:1524:
./ebwt_search_backtrack.h:1674:12: warning: variable 'cumSz' set but not used [-Wunused-but-set-variable]
                uint32_t cumSz = 0;
                         ^
In file included from ebwt_search.cpp:17:
In file included from ./aligner.h:18:
./ebwt.h:3889:14: warning: variable 'patoff' set but not used [-Wunused-but-set-variable]
                TIndexOffU patoff = 0;
                           ^
In file included from ebwt_search.cpp:17:
In file included from ./aligner.h:15:
In file included from ./aligner_metrics.h:11:
In file included from ./sstring.h:29:
./util.h:50:18: warning: overlapping comparisons always evaluate to false [-Wtautological-overlap-compare]
                if (value <= 0 && value != 0) *out++ = '-';
                    ~~~~~~~~~~~^~~~~~~~~~~~~
./read.h:331:5: note: in instantiation of function template specialization 'itoa10<unsigned long>' requested here
                                itoa10(ops[i].n, buf); o.append(buf);
                                ^
5 warnings generated.
In file included from pat.cpp:10:
In file included from ./pat.h:22:
In file included from ./read.h:29:
In file included from ./hit_set.h:20:
In file included from ./sstring.h:29:
./util.h:50:18: warning: overlapping comparisons always evaluate to false [-Wtautological-overlap-compare]
                if (value <= 0 && value != 0) *out++ = '-';
                    ~~~~~~~~~~~^~~~~~~~~~~~~
./read.h:331:5: note: in instantiation of function template specialization 'itoa10<unsigned long>' requested here
                                itoa10(ops[i].n, buf); o.append(buf);
                                ^
In file included from pat.cpp:10:
In file included from ./pat.h:22:
In file included from ./read.h:29:
In file included from ./hit_set.h:20:
In file included from ./sstring.h:29:
./util.h:50:18: warning: overlapping comparisons always evaluate to false [-Wtautological-overlap-compare]
                if (value <= 0 && value != 0) *out++ = '-';
                    ~~~~~~~~~~~^~~~~~~~~~~~~
pat.cpp:382:3: note: in instantiation of function template specialization 'itoa10<unsigned long long>' requested here
                itoa10<TReadId>(static_cast<TReadId>(i), nametmp_);
                ^
2 warnings generated.
In file included from ebwt_search_util.cpp:1:
./ebwt_search_util.h:70:12: warning: variable 'qual' set but not used [-Wunused-but-set-variable]
                uint32_t qual = 0;
                         ^
./ebwt_search_util.h:37:14: warning: anonymous non-C-compatible type given name for linkage purposes by typedef declaration; add a tag name here [-Wnon-c-typedef-for-linkage]
typedef union {
             ^
              PartialAlignment
./ebwt_search_util.h:69:2: note: type is not C-compatible due to this member declaration
        bool repOk(uint32_t qualMax, uint32_t slen, const BTString& quals, bool maqPenalty) {
        ^~~~~~~~~~~~~~~~~~~~~~~~~~~~~~~~~~~~~~~~~~~~~~~~~~~~~~~~~~~~~~~~~~~~~~~~~~~~~~~~~~~~~
./ebwt_search_util.h:88:3: note: type is given name 'PartialAlignment' for linkage purposes by this typedef declaration
} PartialAlignment;
  ^
In file included from ebwt_search_util.cpp:1:
In file included from ./ebwt_search_util.h:9:
In file included from ./hit.h:20:
In file included from ./hit_set.h:20:
In file included from ./sstring.h:29:
./util.h:50:18: warning: overlapping comparisons always evaluate to false [-Wtautological-overlap-compare]
                if (value <= 0 && value != 0) *out++ = '-';
                    ~~~~~~~~~~~^~~~~~~~~~~~~
./read.h:331:5: note: in instantiation of function template specialization 'itoa10<unsigned long>' requested here
                                itoa10(ops[i].n, buf); o.append(buf);
                                ^
3 warnings generated.
In file included from sam.cpp:8:
In file included from ./hit.h:20:
In file included from ./hit_set.h:20:
In file included from ./sstring.h:29:
./util.h:50:18: warning: overlapping comparisons always evaluate to false [-Wtautological-overlap-compare]
                if (value <= 0 && value != 0) *out++ = '-';
                    ~~~~~~~~~~~^~~~~~~~~~~~~
./read.h:331:5: note: in instantiation of function template specialization 'itoa10<unsigned long>' requested here
                                itoa10(ops[i].n, buf); o.append(buf);
                                ^
In file included from sam.cpp:8:
In file included from ./hit.h:20:
In file included from ./hit_set.h:20:
In file included from ./sstring.h:29:
./util.h:50:18: warning: overlapping comparisons always evaluate to false [-Wtautological-overlap-compare]
                if (value <= 0 && value != 0) *out++ = '-';
                    ~~~~~~~~~~~^~~~~~~~~~~~~
./sstring.h:2154:2: note: in instantiation of function template specialization 'itoa10<unsigned int>' requested here
        itoa10<A>(static_cast<A>(i), buf);
        ^
sam.cpp:42:17: note: in instantiation of function template specialization 'operator<<<char, 25, 2, 0, unsigned int>' requested here
                        o << "\tLN:" << (plen[i]) << '\n';
                                     ^
2 warnings generated.
In file included from hit.cpp:2:
In file included from ./hit.h:20:
In file included from ./hit_set.h:20:
In file included from ./sstring.h:29:
./util.h:50:18: warning: overlapping comparisons always evaluate to false [-Wtautological-overlap-compare]
                if (value <= 0 && value != 0) *out++ = '-';
                    ~~~~~~~~~~~^~~~~~~~~~~~~
./read.h:331:5: note: in instantiation of function template specialization 'itoa10<unsigned long>' requested here
                                itoa10(ops[i].n, buf); o.append(buf);
                                ^
In file included from hit.cpp:2:
In file included from ./hit.h:20:
In file included from ./hit_set.h:20:
In file included from ./sstring.h:29:
./util.h:50:18: warning: overlapping comparisons always evaluate to false [-Wtautological-overlap-compare]
                if (value <= 0 && value != 0) *out++ = '-';
                    ~~~~~~~~~~~^~~~~~~~~~~~~
./sstring.h:2154:2: note: in instantiation of function template specialization 'itoa10<unsigned int>' requested here
        itoa10<A>(static_cast<A>(i), buf);
        ^
hit.cpp:109:8: note: in instantiation of function template specialization 'operator<<<char, 25, 2, 0, unsigned int>' requested here
                                        o << h.h.first;
                                          ^
2 warnings generated.
mkdir -p ../inst
cp bowtie-align-s ../inst/bowtie
cp bowtie-build-s ../inst/bowtie-build
cd SpliceMap; \
	make -f Makefile; \
	echo "MAKE of SpliceMap DONE"	
`"/Library/Frameworks/R.framework/Resources/bin/R" CMD config CXX` `"/Library/Frameworks/R.framework/Resources/bin/R" CMD config CXXFLAGS` -c SpliceMap_utils_QuasR.cpp
`"/Library/Frameworks/R.framework/Resources/bin/R" CMD config CXX` `"/Library/Frameworks/R.framework/Resources/bin/R" CMD config CXXFLAGS` -c params.cpp
`"/Library/Frameworks/R.framework/Resources/bin/R" CMD config CXX` `"/Library/Frameworks/R.framework/Resources/bin/R" CMD config CXXFLAGS` -c cfgfile.cpp
`"/Library/Frameworks/R.framework/Resources/bin/R" CMD config CXX` `"/Library/Frameworks/R.framework/Resources/bin/R" CMD config LDFLAGS` `"/Library/Frameworks/R.framework/Resources/bin/R" CMD config CXXFLAGS` -o runSpliceMap_QuasR SpliceMap_utils_QuasR.o cfgfile.o runSpliceMap_QuasR.cpp params.o
runSpliceMap_QuasR.cpp:108:31: warning: unused variable 'chr_file_list_it' [-Wunused-variable]
            vector<string>::iterator chr_file_list_it = chr_file_list.begin();
                                     ^
runSpliceMap_QuasR.cpp:1327:9: warning: variable 'min_mismatch' set but not used [-Wunused-but-set-variable]
    int min_mismatch;
        ^
2 warnings generated.
`"/Library/Frameworks/R.framework/Resources/bin/R" CMD config CXX` `"/Library/Frameworks/R.framework/Resources/bin/R" CMD config LDFLAGS` `"/Library/Frameworks/R.framework/Resources/bin/R" CMD config CXXFLAGS` -o sortsam sortsam.cpp SpliceMap_utils_QuasR.o params.o
`"/Library/Frameworks/R.framework/Resources/bin/R" CMD config CXX` `"/Library/Frameworks/R.framework/Resources/bin/R" CMD config LDFLAGS` `"/Library/Frameworks/R.framework/Resources/bin/R" CMD config CXXFLAGS` -o amalgamateSAM amalgamateSAM.cpp SpliceMap_utils_QuasR.o params.o
amalgamateSAM.cpp:695:17: warning: variable 'front_clip' set but not used [-Wunused-but-set-variable]
                uint_fast32_t front_clip = 0;
                              ^
1 warning generated.
`"/Library/Frameworks/R.framework/Resources/bin/R" CMD config CXX` `"/Library/Frameworks/R.framework/Resources/bin/R" CMD config LDFLAGS` `"/Library/Frameworks/R.framework/Resources/bin/R" CMD config CXXFLAGS` -o getSpliceMapUnmapped getSpliceMapUnmapped.cpp
`"/Library/Frameworks/R.framework/Resources/bin/R" CMD config CXX` `"/Library/Frameworks/R.framework/Resources/bin/R" CMD config LDFLAGS` `"/Library/Frameworks/R.framework/Resources/bin/R" CMD config CXXFLAGS` -o fuseReorder fuseReorder.cpp
`"/Library/Frameworks/R.framework/Resources/bin/R" CMD config CXX` `"/Library/Frameworks/R.framework/Resources/bin/R" CMD config LDFLAGS` `"/Library/Frameworks/R.framework/Resources/bin/R" CMD config CXXFLAGS` -o SpliceMap main.cpp SpliceMap_utils_QuasR.o params.o cfgfile.o
MAKE of SpliceMap DONE
mkdir -p ../inst
cp SpliceMap/SpliceMap ../inst/SpliceMap
cp SpliceMap/amalgamateSAM ../inst/amalgamateSAM
cp SpliceMap/getSpliceMapUnmapped ../inst/getSpliceMapUnmapped
cp SpliceMap/fuseReorder ../inst/fuseReorder
cp SpliceMap/runSpliceMap_QuasR ../inst/runSpliceMap_QuasR
cp SpliceMap/sortsam ../inst/sortsam
** R
** inst
** byte-compile and prepare package for lazy loading
** help
*** installing help indices
** building package indices
** installing vignettes
** testing if installed package can be loaded from temporary location
** testing if installed package can be loaded from final location
** testing if installed package keeps a record of temporary installation path
* DONE (Rbowtie)