| Back to Multiple platform build/check report for BioC 3.22: simplified long | 
 | 
This page was generated on 2025-10-25 12:05 -0400 (Sat, 25 Oct 2025).
| Hostname | OS | Arch (*) | R version | Installed pkgs | 
|---|---|---|---|---|
| nebbiolo2 | Linux (Ubuntu 24.04.3 LTS) | x86_64 | 4.5.1 Patched (2025-08-23 r88802) -- "Great Square Root" | 4901 | 
| lconway | macOS 12.7.6 Monterey | x86_64 | 4.5.1 Patched (2025-09-10 r88807) -- "Great Square Root" | 4691 | 
| kjohnson3 | macOS 13.7.7 Ventura | arm64 | 4.5.1 Patched (2025-09-10 r88807) -- "Great Square Root" | 4637 | 
| taishan | Linux (openEuler 24.03 LTS) | aarch64 | 4.5.0 (2025-04-11) -- "How About a Twenty-Six" | 4658 | 
| Click on any hostname to see more info about the system (e.g. compilers) (*) as reported by 'uname -p', except on Windows and Mac OS X | ||||
| Package 1716/2361 | Hostname | OS / Arch | INSTALL | BUILD | CHECK | BUILD BIN | ||||||||
| RBGL 1.85.0  (landing page) Bioconductor Package Maintainer 
 | nebbiolo2 | Linux (Ubuntu 24.04.3 LTS) / x86_64 | OK | OK | WARNINGS |  | ||||||||
| lconway | macOS 12.7.6 Monterey / x86_64 | OK | OK | OK | OK |  | ||||||||
| kjohnson3 | macOS 13.7.7 Ventura / arm64 | OK | OK | OK | OK |  | ||||||||
| taishan | Linux (openEuler 24.03 LTS) / aarch64 | OK | NA | NA | ||||||||||
| To the developers/maintainers of the RBGL package: - Allow up to 24 hours (and sometimes 48 hours) for your latest push to git@git.bioconductor.org:packages/RBGL.git to reflect on this report. See Troubleshooting Build Report for more information. - Use the following Renviron settings to reproduce errors and warnings. - If 'R CMD check' started to fail recently on the Linux builder(s) over a missing dependency, add the missing dependency to 'Suggests:' in your DESCRIPTION file. See Renviron.bioc for more information. | 
| Package: RBGL | 
| Version: 1.85.0 | 
| Command: /Library/Frameworks/R.framework/Resources/bin/R CMD check --install=check:RBGL.install-out.txt --library=/Library/Frameworks/R.framework/Resources/library --no-vignettes --timings RBGL_1.85.0.tar.gz | 
| StartedAt: 2025-10-24 23:36:45 -0400 (Fri, 24 Oct 2025) | 
| EndedAt: 2025-10-24 23:37:35 -0400 (Fri, 24 Oct 2025) | 
| EllapsedTime: 49.7 seconds | 
| RetCode: 0 | 
| Status: OK | 
| CheckDir: RBGL.Rcheck | 
| Warnings: 0 | 
##############################################################################
##############################################################################
###
### Running command:
###
###   /Library/Frameworks/R.framework/Resources/bin/R CMD check --install=check:RBGL.install-out.txt --library=/Library/Frameworks/R.framework/Resources/library --no-vignettes --timings RBGL_1.85.0.tar.gz
###
##############################################################################
##############################################################################
* using log directory ‘/Users/biocbuild/bbs-3.22-bioc/meat/RBGL.Rcheck’
* using R version 4.5.1 Patched (2025-09-10 r88807)
* using platform: x86_64-apple-darwin20
* R was compiled by
    Apple clang version 14.0.0 (clang-1400.0.29.202)
    GNU Fortran (GCC) 14.2.0
* running under: macOS Monterey 12.7.6
* using session charset: UTF-8
* using option ‘--no-vignettes’
* checking for file ‘RBGL/DESCRIPTION’ ... OK
* this is package ‘RBGL’ version ‘1.85.0’
* checking package namespace information ... OK
* checking package dependencies ... OK
* checking if this is a source package ... OK
* checking if there is a namespace ... OK
* checking for hidden files and directories ... OK
* checking for portable file names ... OK
* checking for sufficient/correct file permissions ... OK
* checking whether package ‘RBGL’ can be installed ... OK
* used C++ compiler: ‘Apple clang version 14.0.0 (clang-1400.0.29.202)’
* used SDK: ‘MacOSX11.3.1.sdk’
* checking installed package size ... OK
* checking package directory ... OK
* checking ‘build’ directory ... OK
* checking DESCRIPTION meta-information ... NOTE
Package listed in more than one of Depends, Imports, Suggests, Enhances:
  ‘methods’
A package should be listed in only one of these fields.
* checking top-level files ... OK
* checking for left-over files ... OK
* checking index information ... OK
* checking package subdirectories ... OK
* checking code files for non-ASCII characters ... OK
* checking R files for syntax errors ... OK
* checking whether the package can be loaded ... OK
* checking whether the package can be loaded with stated dependencies ... OK
* checking whether the package can be unloaded cleanly ... OK
* checking whether the namespace can be loaded with stated dependencies ... OK
* checking whether the namespace can be unloaded cleanly ... OK
* checking dependencies in R code ... OK
* checking S3 generic/method consistency ... OK
* checking replacement functions ... OK
* checking foreign function calls ... OK
* checking R code for possible problems ... OK
* checking Rd files ... NOTE
checkRd: (-1) maxClique.Rd:16: Lost braces
    16 |    only to be supplied if code{g} is not}
       |                               ^
checkRd: (-1) tsort.Rd:20: Escaped LaTeX specials: \_
* checking Rd metadata ... OK
* checking Rd cross-references ... NOTE
Non-topic package-anchored link(s) in Rd file 'RBGL.overview.Rd':
  ‘[RBGL:edgeConn]{edgeConnectivity}’
  ‘[RBGL:transClosure]{transitive.closure}’
  ‘[RBGL:incrConnComp]{incremental.components}’
  ‘[RBGL:incrConnComp]{init.incremental.components}’
  ‘[RBGL:incrConnComp]{same.component}’
  ‘[RBGL:maxFlow]{edmonds.karp.max.flow}’
  ‘[RBGL:maxFlow]{push.relabel.max.flow}’
  ‘[RBGL:ordering]{cuthill.mckee.ordering}’
  ‘[RBGL:ordering]{minDegreeOrdering}’
  ‘[RBGL:ordering]{sloan.ordering}’ ‘[RBGL:layout]{circle.layout}’
  ‘[RBGL:layout]{kamada.kawai.spring.layout}’
  ‘[RBGL:bccluster]{betweenness.centrality.clustering}’
  ‘[RBGL:betweenness]{brandes.betweenness.centrality}’
  ‘[RBGL:wavefront]{aver.wavefront}’ ‘[RBGL:wavefront]{ith.wavefront}’
  ‘[RBGL:wavefront]{maxWavefront}’ ‘[RBGL:wavefront]{rms.wavefront}’
Non-topic package-anchored link(s) in Rd file 'extractPath.Rd':
  ‘[e1071:shortestPaths]{allShortestPaths}’
See section 'Cross-references' in the 'Writing R Extensions' manual.
* checking for missing documentation entries ... OK
* checking for code/documentation mismatches ... OK
* checking Rd \usage sections ... OK
* checking Rd contents ... OK
* checking for unstated dependencies in examples ... OK
* checking contents of ‘data’ directory ... OK
* checking data for non-ASCII characters ... OK
* checking data for ASCII and uncompressed saves ... OK
* checking line endings in C/C++/Fortran sources/headers ... OK
* checking compiled code ... NOTE
Note: information on .o files is not available
File ‘/Library/Frameworks/R.framework/Versions/4.5-x86_64/Resources/library/RBGL/libs/RBGL.so’:
  Found ‘_abort’, possibly from ‘abort’ (C)
Compiled code should not call entry points which might terminate R nor
write to stdout/stderr instead of to the console, nor use Fortran I/O
nor system RNGs nor [v]sprintf. The detected symbols are linked into
the code but might come from libraries and not actually be called.
See ‘Writing portable packages’ in the ‘Writing R Extensions’ manual.
* checking installed files from ‘inst/doc’ ... OK
* checking files in ‘vignettes’ ... OK
* checking examples ... OK
* checking for unstated dependencies in ‘tests’ ... OK
* checking tests ...
  Running ‘runTests.R’
 OK
* checking for unstated dependencies in vignettes ... OK
* checking package vignettes ... OK
* checking running R code from vignettes ... SKIPPED
* checking re-building of vignette outputs ... SKIPPED
* checking PDF version of manual ... OK
* DONE
Status: 4 NOTEs
See
  ‘/Users/biocbuild/bbs-3.22-bioc/meat/RBGL.Rcheck/00check.log’
for details.
RBGL.Rcheck/00install.out
##############################################################################
##############################################################################
###
### Running command:
###
###   /Library/Frameworks/R.framework/Resources/bin/R CMD INSTALL RBGL
###
##############################################################################
##############################################################################
* installing to library ‘/Library/Frameworks/R.framework/Versions/4.5-x86_64/Resources/library’
* installing *source* package ‘RBGL’ ...
** this is package ‘RBGL’ version ‘1.85.0’
** using staged installation
** libs
using C++ compiler: ‘Apple clang version 14.0.0 (clang-1400.0.29.202)’
using SDK: ‘MacOSX11.3.1.sdk’
clang++ -arch x86_64 -std=gnu++17 -I"/Library/Frameworks/R.framework/Resources/include" -DNDEBUG  -I'/Library/Frameworks/R.framework/Versions/4.5-x86_64/Resources/library/BH/include' -I/opt/R/x86_64/include    -fPIC  -falign-functions=64 -Wall -g -O2   -c bbc.cpp -o bbc.o
clang++ -arch x86_64 -std=gnu++17 -I"/Library/Frameworks/R.framework/Resources/include" -DNDEBUG  -I'/Library/Frameworks/R.framework/Versions/4.5-x86_64/Resources/library/BH/include' -I/opt/R/x86_64/include    -fPIC  -falign-functions=64 -Wall -g -O2   -c cliques.cpp -o cliques.o
clang++ -arch x86_64 -std=gnu++17 -I"/Library/Frameworks/R.framework/Resources/include" -DNDEBUG  -I'/Library/Frameworks/R.framework/Versions/4.5-x86_64/Resources/library/BH/include' -I/opt/R/x86_64/include    -fPIC  -falign-functions=64 -Wall -g -O2   -c clusteringCoef.cpp -o clusteringCoef.o
clang++ -arch x86_64 -std=gnu++17 -I"/Library/Frameworks/R.framework/Resources/include" -DNDEBUG  -I'/Library/Frameworks/R.framework/Versions/4.5-x86_64/Resources/library/BH/include' -I/opt/R/x86_64/include    -fPIC  -falign-functions=64 -Wall -g -O2   -c dominatorTree.cpp -o dominatorTree.o
clang++ -arch x86_64 -std=gnu++17 -I"/Library/Frameworks/R.framework/Resources/include" -DNDEBUG  -I'/Library/Frameworks/R.framework/Versions/4.5-x86_64/Resources/library/BH/include' -I/opt/R/x86_64/include    -fPIC  -falign-functions=64 -Wall -g -O2   -c edmonds_optimum_branching.cpp -o edmonds_optimum_branching.o
In file included from edmonds_optimum_branching.cpp:3:
In file included from ./edmonds_optimum_branching.hpp:94:
./edmonds_optimum_branching_impl.hpp:520:71: warning: unused typedef 'EdgeIter' [-Wunused-local-typedef]
    typedef typename graph_traits<TEdgeListGraph>::edge_iterator      EdgeIter;
                                                                      ^
./edmonds_optimum_branching_impl.hpp:521:71: warning: unused typedef 'weight_t' [-Wunused-local-typedef]
    typedef typename property_traits<TWeightMap>::value_type          weight_t;
                                                                      ^
2 warnings generated.
clang++ -arch x86_64 -std=gnu++17 -I"/Library/Frameworks/R.framework/Resources/include" -DNDEBUG  -I'/Library/Frameworks/R.framework/Versions/4.5-x86_64/Resources/library/BH/include' -I/opt/R/x86_64/include    -fPIC  -falign-functions=64 -Wall -g -O2   -c hcs.cpp -o hcs.o
clang++ -arch x86_64 -std=gnu++17 -I"/Library/Frameworks/R.framework/Resources/include" -DNDEBUG  -I'/Library/Frameworks/R.framework/Versions/4.5-x86_64/Resources/library/BH/include' -I/opt/R/x86_64/include    -fPIC  -falign-functions=64 -Wall -g -O2   -c incrConnComp.cpp -o incrConnComp.o
incrConnComp.cpp:74:32: warning: unused variable 'child_index' [-Wunused-variable]
            BOOST_FOREACH(VertexIndex child_index, components[current_index]) {
                                      ^
1 warning generated.
clang++ -arch x86_64 -std=gnu++17 -I"/Library/Frameworks/R.framework/Resources/include" -DNDEBUG  -I'/Library/Frameworks/R.framework/Versions/4.5-x86_64/Resources/library/BH/include' -I/opt/R/x86_64/include    -fPIC  -falign-functions=64 -Wall -g -O2   -c interfaces.cpp -o interfaces.o
interfaces.cpp:61:62: warning: unused typedef 'Color' [-Wunused-local-typedef]
        typedef property_map<Graph_dd, vertex_color_t>::type Color;
                                                             ^
interfaces.cpp:57:60: warning: unused typedef 'Edge' [-Wunused-local-typedef]
        typedef graph_traits < Graph_dd >::edge_descriptor Edge;
                                                           ^
interfaces.cpp:98:60: warning: unused typedef 'Edge' [-Wunused-local-typedef]
        typedef graph_traits < Graph_dd >::edge_descriptor Edge;
                                                           ^
interfaces.cpp:99:62: warning: unused typedef 'Vertex' [-Wunused-local-typedef]
        typedef graph_traits < Graph_dd >::vertex_descriptor Vertex;
                                                             ^
interfaces.cpp:142:60: warning: unused typedef 'Edge' [-Wunused-local-typedef]
        typedef graph_traits < Graph_dd >::edge_descriptor Edge;
                                                           ^
interfaces.cpp:143:62: warning: unused typedef 'Vertex' [-Wunused-local-typedef]
        typedef graph_traits < Graph_dd >::vertex_descriptor Vertex;
                                                             ^
interfaces.cpp:198:60: warning: unused typedef 'Edge' [-Wunused-local-typedef]
        typedef graph_traits < Graph_ud >::edge_descriptor Edge;
                                                           ^
interfaces.cpp:199:62: warning: unused typedef 'Vertex' [-Wunused-local-typedef]
        typedef graph_traits < Graph_ud >::vertex_descriptor Vertex;
                                                             ^
interfaces.cpp:225:60: warning: unused typedef 'Edge' [-Wunused-local-typedef]
        typedef graph_traits < Graph_dd >::edge_descriptor Edge;
                                                           ^
interfaces.cpp:226:62: warning: unused typedef 'Vertex' [-Wunused-local-typedef]
        typedef graph_traits < Graph_dd >::vertex_descriptor Vertex;
                                                             ^
interfaces.cpp:253:62: warning: unused typedef 'Vertex' [-Wunused-local-typedef]
        typedef graph_traits < Graph_ud >::vertex_descriptor Vertex;
                                                             ^
interfaces.cpp:252:60: warning: unused typedef 'Edge' [-Wunused-local-typedef]
        typedef graph_traits < Graph_ud >::edge_descriptor Edge;
                                                           ^
interfaces.cpp:295:60: warning: unused typedef 'Edge' [-Wunused-local-typedef]
        typedef graph_traits < Graph_ud >::edge_descriptor Edge;
                                                           ^
interfaces.cpp:320:62: warning: unused typedef 'Vertex' [-Wunused-local-typedef]
        typedef graph_traits < Graph_ud >::vertex_descriptor Vertex;
                                                             ^
interfaces.cpp:361:62: warning: unused typedef 'Vertex' [-Wunused-local-typedef]
        typedef graph_traits < Graph_ud >::vertex_descriptor Vertex;
                                                             ^
interfaces.cpp:360:60: warning: unused typedef 'Edge' [-Wunused-local-typedef]
        typedef graph_traits < Graph_ud >::edge_descriptor Edge;
                                                           ^
16 warnings generated.
clang++ -arch x86_64 -std=gnu++17 -I"/Library/Frameworks/R.framework/Resources/include" -DNDEBUG  -I'/Library/Frameworks/R.framework/Versions/4.5-x86_64/Resources/library/BH/include' -I/opt/R/x86_64/include    -fPIC  -falign-functions=64 -Wall -g -O2   -c minST.cpp -o minST.o
minST.cpp:14:62: warning: unused typedef 'Vertex' [-Wunused-local-typedef]
        typedef graph_traits < Graph_dd >::vertex_descriptor Vertex;
                                                             ^
minST.cpp:48:62: warning: unused typedef 'Vertex' [-Wunused-local-typedef]
        typedef graph_traits < Graph_ud >::vertex_descriptor Vertex;
                                                             ^
minST.cpp:81:60: warning: unused typedef 'Edge' [-Wunused-local-typedef]
        typedef graph_traits < Graph_ud >::edge_descriptor Edge;
                                                           ^
3 warnings generated.
clang++ -arch x86_64 -std=gnu++17 -I"/Library/Frameworks/R.framework/Resources/include" -DNDEBUG  -I'/Library/Frameworks/R.framework/Versions/4.5-x86_64/Resources/library/BH/include' -I/opt/R/x86_64/include    -fPIC  -falign-functions=64 -Wall -g -O2   -c mincut.cpp -o mincut.o
clang++ -arch x86_64 -std=gnu++17 -I"/Library/Frameworks/R.framework/Resources/include" -DNDEBUG  -I'/Library/Frameworks/R.framework/Versions/4.5-x86_64/Resources/library/BH/include' -I/opt/R/x86_64/include    -fPIC  -falign-functions=64 -Wall -g -O2   -c ordering.cpp -o ordering.o
ordering.cpp:182:48: warning: unused variable 'id' [-Wunused-variable]
                property_map<Graph_dd, vertex_index_t>::type id = get(vertex_index, g);
                                                             ^
ordering.cpp:133:53: warning: unused typedef 'Vertex' [-Wunused-local-typedef]
                typedef graph_traits<Graph_dd>::vertex_descriptor Vertex;
                                                                  ^
ordering.cpp:176:53: warning: unused typedef 'Vertex' [-Wunused-local-typedef]
                typedef graph_traits<Graph_dd>::vertex_descriptor Vertex;
                                                                  ^
ordering.cpp:232:47: warning: unused typedef 'Pair' [-Wunused-local-typedef]
                typedef std::pair<std::size_t, std::size_t> Pair;
                                                            ^
4 warnings generated.
clang++ -arch x86_64 -std=gnu++17 -I"/Library/Frameworks/R.framework/Resources/include" -DNDEBUG  -I'/Library/Frameworks/R.framework/Versions/4.5-x86_64/Resources/library/BH/include' -I/opt/R/x86_64/include    -fPIC  -falign-functions=64 -Wall -g -O2   -c planar.cpp -o planar.o
planar.cpp:225:30: warning: unused variable 'oi' [-Wunused-variable]
           Vertex_Vec_t::iterator oi, oi_end = ordering.end();
                                  ^
planar.cpp:225:34: warning: unused variable 'oi_end' [-Wunused-variable]
           Vertex_Vec_t::iterator oi, oi_end = ordering.end();
                                      ^
planar.cpp:429:36: warning: unused variable 'ki_end' [-Wunused-variable]
           Edge_Vec_t::iterator ki, ki_end = kuratowski_edges.end();
                                    ^
planar.cpp:429:32: warning: unused variable 'ki' [-Wunused-variable]
           Edge_Vec_t::iterator ki, ki_end = kuratowski_edges.end();
                                ^
planar.cpp:461:6: warning: unused variable 'i' [-Wunused-variable]
        int i, j = 0;
            ^
5 warnings generated.
clang++ -arch x86_64 -std=gnu++17 -I"/Library/Frameworks/R.framework/Resources/include" -DNDEBUG  -I'/Library/Frameworks/R.framework/Versions/4.5-x86_64/Resources/library/BH/include' -I/opt/R/x86_64/include    -fPIC  -falign-functions=64 -Wall -g -O2   -c registerSigHandlers.cpp -o registerSigHandlers.o
clang++ -arch x86_64 -std=gnu++17 -I"/Library/Frameworks/R.framework/Resources/include" -DNDEBUG  -I'/Library/Frameworks/R.framework/Versions/4.5-x86_64/Resources/library/BH/include' -I/opt/R/x86_64/include    -fPIC  -falign-functions=64 -Wall -g -O2   -c shortestPath.cpp -o shortestPath.o
shortestPath.cpp:17:60: warning: unused typedef 'Edge' [-Wunused-local-typedef]
        typedef graph_traits < Graph_dd >::edge_descriptor Edge;
                                                           ^
shortestPath.cpp:136:60: warning: unused typedef 'Edge' [-Wunused-local-typedef]
        typedef graph_traits < Graph_dd >::edge_descriptor Edge;
                                                           ^
shortestPath.cpp:177:81: warning: unused typedef 'Graph' [-Wunused-local-typedef]
        property< edge_weight_t, double, property< edge_weight2_t, double > > > Graph;
                                                                                ^
shortestPath.cpp:180:39: warning: unused typedef 'Edge' [-Wunused-local-typedef]
        typedef std::pair < int, int >Edge;
                                      ^
4 warnings generated.
clang++ -arch x86_64 -std=gnu++17 -I"/Library/Frameworks/R.framework/Resources/include" -DNDEBUG  -I'/Library/Frameworks/R.framework/Versions/4.5-x86_64/Resources/library/BH/include' -I/opt/R/x86_64/include    -fPIC  -falign-functions=64 -Wall -g -O2   -c sna.cpp -o sna.o
sna.cpp:161:9: warning: unused variable 'res_cap' [-Wunused-variable]
        res_cap = get(edge_residual_capacity, flow_g);
        ^
1 warning generated.
clang++ -arch x86_64 -std=gnu++17 -I"/Library/Frameworks/R.framework/Resources/include" -DNDEBUG  -I'/Library/Frameworks/R.framework/Versions/4.5-x86_64/Resources/library/BH/include' -I/opt/R/x86_64/include    -fPIC  -falign-functions=64 -Wall -g -O2   -c transitive_closure.cpp -o transitive_closure.o
clang++ -arch x86_64 -std=gnu++17 -I"/Library/Frameworks/R.framework/Resources/include" -DNDEBUG  -I'/Library/Frameworks/R.framework/Versions/4.5-x86_64/Resources/library/BH/include' -I/opt/R/x86_64/include    -fPIC  -falign-functions=64 -Wall -g -O2   -c wavefront.cpp -o wavefront.o
clang++ -arch x86_64 -std=gnu++17 -dynamiclib -Wl,-headerpad_max_install_names -undefined dynamic_lookup -L/Library/Frameworks/R.framework/Resources/lib -L/opt/R/x86_64/lib -o RBGL.so bbc.o cliques.o clusteringCoef.o dominatorTree.o edmonds_optimum_branching.o hcs.o incrConnComp.o interfaces.o minST.o mincut.o ordering.o planar.o registerSigHandlers.o shortestPath.o sna.o transitive_closure.o wavefront.o -F/Library/Frameworks/R.framework/.. -framework R
installing to /Library/Frameworks/R.framework/Versions/4.5-x86_64/Resources/library/00LOCK-RBGL/00new/RBGL/libs
** R
** data
** inst
** byte-compile and prepare package for lazy loading
** help
*** installing help indices
** building package indices
** installing vignettes
** testing if installed package can be loaded from temporary location
** checking absolute paths in shared objects and dynamic libraries
** testing if installed package can be loaded from final location
** testing if installed package keeps a record of temporary installation path
* DONE (RBGL)
RBGL.Rcheck/tests/runTests.Rout
R version 4.5.1 Patched (2025-09-10 r88807) -- "Great Square Root"
Copyright (C) 2025 The R Foundation for Statistical Computing
Platform: x86_64-apple-darwin20
R is free software and comes with ABSOLUTELY NO WARRANTY.
You are welcome to redistribute it under certain conditions.
Type 'license()' or 'licence()' for distribution details.
R is a collaborative project with many contributors.
Type 'contributors()' for more information and
'citation()' on how to cite R or R packages in publications.
Type 'demo()' for some demos, 'help()' for on-line help, or
'help.start()' for an HTML browser interface to help.
Type 'q()' to quit R.
> BiocGenerics:::testPackage("RBGL")
Attaching package: 'generics'
The following objects are masked from 'package:base':
    as.difftime, as.factor, as.ordered, intersect, is.element, setdiff,
    setequal, union
Attaching package: 'BiocGenerics'
The following objects are masked from 'package:stats':
    IQR, mad, sd, var, xtabs
The following objects are masked from 'package:base':
    Filter, Find, Map, Position, Reduce, anyDuplicated, aperm, append,
    as.data.frame, basename, cbind, colnames, dirname, do.call,
    duplicated, eval, evalq, get, grep, grepl, is.unsorted, lapply,
    mapply, match, mget, order, paste, pmax, pmax.int, pmin, pmin.int,
    rank, rbind, rownames, sapply, saveRDS, table, tapply, unique,
    unsplit, which.max, which.min
RUNIT TEST PROTOCOL -- Fri Oct 24 23:37:23 2025 
*********************************************** 
Number of test functions: 1 
Number of errors: 0 
Number of failures: 0 
 
1 Test Suite : 
RBGL RUnit Tests - 1 test function, 0 errors, 0 failures
Number of test functions: 1 
Number of errors: 0 
Number of failures: 0 
> 
> proc.time()
   user  system elapsed 
  0.681   0.105   0.790 
RBGL.Rcheck/RBGL-Ex.timings
| name | user | system | elapsed | |
| FileDep | 0.455 | 0.036 | 0.496 | |
| astarSearch | 0.048 | 0.001 | 0.050 | |
| bandwidth | 0.012 | 0.001 | 0.014 | |
| bellman.ford.sp | 0.038 | 0.002 | 0.041 | |
| bfs | 0.011 | 0.002 | 0.014 | |
| biConnComp | 0.006 | 0.001 | 0.008 | |
| boyerMyrvoldPlanarityTest | 0.005 | 0.001 | 0.006 | |
| chrobakPayneStraightLineDrawing | 0.033 | 0.002 | 0.035 | |
| clusteringCoef | 0.008 | 0.001 | 0.009 | |
| clusteringCoefAppr | 0.011 | 0.001 | 0.012 | |
| coloring | 0.005 | 0.001 | 0.006 | |
| connectedComp | 0.013 | 0.001 | 0.016 | |
| dag.sp | 0.006 | 0.001 | 0.007 | |
| dijkstra.sp | 0.013 | 0.003 | 0.015 | |
| dominatorTree | 0.005 | 0.001 | 0.007 | |
| edgeConn | 0.005 | 0.001 | 0.006 | |
| edmondsMaxCardinalityMatching | 0.008 | 0.002 | 0.009 | |
| edmondsOptimumBranching | 0.005 | 0.001 | 0.005 | |
| extractPath | 0.002 | 0.002 | 0.005 | |
| floyd.warshall.all.pairs.sp | 0.006 | 0.001 | 0.007 | |
| gprofile | 0.003 | 0.000 | 0.003 | |
| graphGenerator | 0.000 | 0.000 | 0.001 | |
| highlyConnSG | 0.006 | 0.001 | 0.007 | |
| incrConnComp | 0.005 | 0.001 | 0.005 | |
| is.triangulated | 0.009 | 0.002 | 0.011 | |
| isKuratowskiSubgraph | 0.011 | 0.001 | 0.012 | |
| isStraightLineDrawing | 0.008 | 0.001 | 0.009 | |
| isomorphism | 0.007 | 0.001 | 0.009 | |
| johnson.all.pairs.sp | 0.006 | 0.001 | 0.007 | |
| kCliques | 0.007 | 0.002 | 0.008 | |
| kCores | 0.029 | 0.003 | 0.032 | |
| lambdaSets | 0.007 | 0.002 | 0.008 | |
| layout | 0.000 | 0.001 | 0.001 | |
| makeBiconnectedPlanar | 0.006 | 0.001 | 0.008 | |
| makeConnected | 0.007 | 0.001 | 0.007 | |
| makeMaximalPlanar | 0.011 | 0.000 | 0.011 | |
| maxClique | 0.011 | 0.002 | 0.014 | |
| maxFlow | 0.009 | 0.001 | 0.009 | |
| minCut | 0.004 | 0.001 | 0.005 | |
| mstree.kruskal | 0.015 | 0.002 | 0.018 | |
| mstree.prim | 0.006 | 0.001 | 0.007 | |
| ordering | 0.008 | 0.002 | 0.009 | |
| planarCanonicalOrdering | 0.006 | 0.001 | 0.007 | |
| planarFaceTraversal | 0.006 | 0.000 | 0.006 | |
| removeSelfLoops | 0.008 | 0.001 | 0.008 | |
| separates | 0.009 | 0.001 | 0.010 | |
| sp.between | 0.021 | 0.002 | 0.024 | |
| strongComp | 0.008 | 0.001 | 0.009 | |
| transClosure | 0.004 | 0.001 | 0.005 | |
| transitivity | 0.005 | 0.001 | 0.006 | |
| tsort | 0.003 | 0.002 | 0.006 | |
| wavefront | 0.005 | 0.001 | 0.005 | |