| Back to Multiple platform build/check report for BioC 3.22: simplified long |
|
This page was generated on 2025-10-25 12:05 -0400 (Sat, 25 Oct 2025).
| Hostname | OS | Arch (*) | R version | Installed pkgs |
|---|---|---|---|---|
| nebbiolo2 | Linux (Ubuntu 24.04.3 LTS) | x86_64 | 4.5.1 Patched (2025-08-23 r88802) -- "Great Square Root" | 4901 |
| lconway | macOS 12.7.6 Monterey | x86_64 | 4.5.1 Patched (2025-09-10 r88807) -- "Great Square Root" | 4691 |
| kjohnson3 | macOS 13.7.7 Ventura | arm64 | 4.5.1 Patched (2025-09-10 r88807) -- "Great Square Root" | 4637 |
| taishan | Linux (openEuler 24.03 LTS) | aarch64 | 4.5.0 (2025-04-11) -- "How About a Twenty-Six" | 4658 |
| Click on any hostname to see more info about the system (e.g. compilers) (*) as reported by 'uname -p', except on Windows and Mac OS X | ||||
| Package 1439/2361 | Hostname | OS / Arch | INSTALL | BUILD | CHECK | BUILD BIN | ||||||||
| NanoMethViz 3.5.6 (landing page) Shian Su
| nebbiolo2 | Linux (Ubuntu 24.04.3 LTS) / x86_64 | OK | OK | OK | |||||||||
| lconway | macOS 12.7.6 Monterey / x86_64 | OK | OK | OK | OK | |||||||||
| kjohnson3 | macOS 13.7.7 Ventura / arm64 | OK | OK | OK | OK | |||||||||
| taishan | Linux (openEuler 24.03 LTS) / aarch64 | OK | NA | NA | ||||||||||
|
To the developers/maintainers of the NanoMethViz package: - Allow up to 24 hours (and sometimes 48 hours) for your latest push to git@git.bioconductor.org:packages/NanoMethViz.git to reflect on this report. See Troubleshooting Build Report for more information. - Use the following Renviron settings to reproduce errors and warnings. - If 'R CMD check' started to fail recently on the Linux builder(s) over a missing dependency, add the missing dependency to 'Suggests:' in your DESCRIPTION file. See Renviron.bioc for more information. |
| Package: NanoMethViz |
| Version: 3.5.6 |
| Command: /Library/Frameworks/R.framework/Resources/bin/R CMD check --install=check:NanoMethViz.install-out.txt --library=/Library/Frameworks/R.framework/Resources/library --no-vignettes --timings NanoMethViz_3.5.6.tar.gz |
| StartedAt: 2025-10-24 22:52:45 -0400 (Fri, 24 Oct 2025) |
| EndedAt: 2025-10-24 23:05:24 -0400 (Fri, 24 Oct 2025) |
| EllapsedTime: 758.9 seconds |
| RetCode: 0 |
| Status: OK |
| CheckDir: NanoMethViz.Rcheck |
| Warnings: 0 |
##############################################################################
##############################################################################
###
### Running command:
###
### /Library/Frameworks/R.framework/Resources/bin/R CMD check --install=check:NanoMethViz.install-out.txt --library=/Library/Frameworks/R.framework/Resources/library --no-vignettes --timings NanoMethViz_3.5.6.tar.gz
###
##############################################################################
##############################################################################
* using log directory ‘/Users/biocbuild/bbs-3.22-bioc/meat/NanoMethViz.Rcheck’
* using R version 4.5.1 Patched (2025-09-10 r88807)
* using platform: x86_64-apple-darwin20
* R was compiled by
Apple clang version 14.0.0 (clang-1400.0.29.202)
GNU Fortran (GCC) 14.2.0
* running under: macOS Monterey 12.7.6
* using session charset: UTF-8
* using option ‘--no-vignettes’
* checking for file ‘NanoMethViz/DESCRIPTION’ ... OK
* checking extension type ... Package
* this is package ‘NanoMethViz’ version ‘3.5.6’
* package encoding: UTF-8
* checking package namespace information ... OK
* checking package dependencies ... INFO
Imports includes 31 non-default packages.
Importing from so many packages makes the package vulnerable to any of
them becoming unavailable. Move as many as possible to Suggests and
use conditionally.
* checking if this is a source package ... OK
* checking if there is a namespace ... OK
* checking for hidden files and directories ... OK
* checking for portable file names ... OK
* checking for sufficient/correct file permissions ... OK
* checking whether package ‘NanoMethViz’ can be installed ... OK
* used C++ compiler: ‘Apple clang version 14.0.0 (clang-1400.0.29.202)’
* used SDK: ‘MacOSX11.3.1.sdk’
* checking C++ specification ... OK
Not all R platforms support C++20
* checking installed package size ... INFO
installed size is 13.6Mb
* checking package directory ... OK
* checking ‘build’ directory ... OK
* checking DESCRIPTION meta-information ... OK
* checking top-level files ... OK
* checking for left-over files ... OK
* checking index information ... OK
* checking package subdirectories ... OK
* checking code files for non-ASCII characters ... OK
* checking R files for syntax errors ... OK
* checking whether the package can be loaded ... OK
* checking whether the package can be loaded with stated dependencies ... OK
* checking whether the package can be unloaded cleanly ... OK
* checking whether the namespace can be loaded with stated dependencies ... OK
* checking whether the namespace can be unloaded cleanly ... OK
* checking whether startup messages can be suppressed ... OK
* checking dependencies in R code ... OK
* checking S3 generic/method consistency ... OK
* checking replacement functions ... OK
* checking foreign function calls ... OK
* checking R code for possible problems ... NOTE
reformat_modkit: no visible binding for global variable ‘ref_position’
Undefined global functions or variables:
ref_position
* checking Rd files ... OK
* checking Rd metadata ... OK
* checking Rd cross-references ... OK
* checking for missing documentation entries ... OK
* checking for code/documentation mismatches ... OK
* checking Rd \usage sections ... OK
* checking Rd contents ... OK
* checking for unstated dependencies in examples ... OK
* checking line endings in C/C++/Fortran sources/headers ... OK
* checking line endings in Makefiles ... OK
* checking compilation flags in Makevars ... OK
* checking for GNU extensions in Makefiles ... OK
* checking for portable use of $(BLAS_LIBS) and $(LAPACK_LIBS) ... OK
* checking use of PKG_*FLAGS in Makefiles ... OK
* checking compiled code ... NOTE
Note: information on .o files is not available
* checking files in ‘vignettes’ ... OK
* checking examples ... OK
Examples with CPU (user + system) or elapsed time > 5s
user system elapsed
get_exons 74.863 3.982 79.615
get_exons_homo_sapiens 34.818 2.126 37.110
filter_methy 26.678 3.222 30.046
get_exons_mus_musculus 12.685 0.769 13.502
plot_gene 10.737 0.413 11.201
plot_gene_heatmap 8.881 0.111 9.020
plot_grange 8.748 0.118 8.909
plot_grange_heatmap 8.166 0.532 8.785
plot_region 7.638 0.129 7.793
plot_region_heatmap 6.055 0.100 6.180
plot_agg_regions 5.913 0.138 6.086
NanoMethResult-class 4.818 1.185 6.046
plot_agg_genes 5.123 0.090 5.242
* checking for unstated dependencies in ‘tests’ ... OK
* checking tests ...
Running ‘testthat.R’
OK
* checking for unstated dependencies in vignettes ... OK
* checking package vignettes ... OK
* checking running R code from vignettes ... SKIPPED
* checking re-building of vignette outputs ... SKIPPED
* checking PDF version of manual ... OK
* DONE
Status: 2 NOTEs
See
‘/Users/biocbuild/bbs-3.22-bioc/meat/NanoMethViz.Rcheck/00check.log’
for details.
NanoMethViz.Rcheck/00install.out
##############################################################################
##############################################################################
###
### Running command:
###
### /Library/Frameworks/R.framework/Resources/bin/R CMD INSTALL NanoMethViz
###
##############################################################################
##############################################################################
* installing to library ‘/Library/Frameworks/R.framework/Versions/4.5-x86_64/Resources/library’
* installing *source* package ‘NanoMethViz’ ...
** this is package ‘NanoMethViz’ version ‘3.5.6’
** using staged installation
** libs
using C++ compiler: ‘Apple clang version 14.0.0 (clang-1400.0.29.202)’
using C++20
using SDK: ‘MacOSX11.3.1.sdk’
clang++ -arch x86_64 -std=gnu++20 -I"/Library/Frameworks/R.framework/Resources/include" -DNDEBUG -I'/Library/Frameworks/R.framework/Versions/4.5-x86_64/Resources/library/Rcpp/include' -I/opt/R/x86_64/include -fPIC -falign-functions=64 -Wall -g -O2 -c RcppExports.cpp -o RcppExports.o
clang++ -arch x86_64 -std=gnu++20 -I"/Library/Frameworks/R.framework/Resources/include" -DNDEBUG -I'/Library/Frameworks/R.framework/Versions/4.5-x86_64/Resources/library/Rcpp/include' -I/opt/R/x86_64/include -fPIC -falign-functions=64 -Wall -g -O2 -c convert_methy_to_dss.cpp -o convert_methy_to_dss.o
clang++ -arch x86_64 -std=gnu++20 -I"/Library/Frameworks/R.framework/Resources/include" -DNDEBUG -I'/Library/Frameworks/R.framework/Versions/4.5-x86_64/Resources/library/Rcpp/include' -I/opt/R/x86_64/include -fPIC -falign-functions=64 -Wall -g -O2 -c count_cg.cpp -o count_cg.o
clang++ -arch x86_64 -std=gnu++20 -I"/Library/Frameworks/R.framework/Resources/include" -DNDEBUG -I'/Library/Frameworks/R.framework/Versions/4.5-x86_64/Resources/library/Rcpp/include' -I/opt/R/x86_64/include -fPIC -falign-functions=64 -Wall -g -O2 -c genome.cpp -o genome.o
genome.cpp:43:21: warning: unused variable 'chrom_view' [-Wunused-variable]
string_view chrom_view = this->bases_at(chrom, motif_start, motif_end);
^
1 warning generated.
clang++ -arch x86_64 -std=gnu++20 -I"/Library/Frameworks/R.framework/Resources/include" -DNDEBUG -I'/Library/Frameworks/R.framework/Versions/4.5-x86_64/Resources/library/Rcpp/include' -I/opt/R/x86_64/include -fPIC -falign-functions=64 -Wall -g -O2 -c modbam.cpp -o modbam.o
clang++ -arch x86_64 -std=gnu++20 -I"/Library/Frameworks/R.framework/Resources/include" -DNDEBUG -I'/Library/Frameworks/R.framework/Versions/4.5-x86_64/Resources/library/Rcpp/include' -I/opt/R/x86_64/include -fPIC -falign-functions=64 -Wall -g -O2 -c utils.cpp -o utils.o
clang++ -arch x86_64 -std=gnu++20 -dynamiclib -Wl,-headerpad_max_install_names -undefined dynamic_lookup -L/Library/Frameworks/R.framework/Resources/lib -L/opt/R/x86_64/lib -o NanoMethViz.so RcppExports.o convert_methy_to_dss.o count_cg.o genome.o modbam.o utils.o -lz -F/Library/Frameworks/R.framework/.. -framework R
installing to /Library/Frameworks/R.framework/Versions/4.5-x86_64/Resources/library/00LOCK-NanoMethViz/00new/NanoMethViz/libs
** R
** inst
** byte-compile and prepare package for lazy loading
** help
*** installing help indices
*** copying figures
** building package indices
** installing vignettes
** testing if installed package can be loaded from temporary location
** checking absolute paths in shared objects and dynamic libraries
** testing if installed package can be loaded from final location
** testing if installed package keeps a record of temporary installation path
* DONE (NanoMethViz)
NanoMethViz.Rcheck/tests/testthat.Rout
R version 4.5.1 Patched (2025-09-10 r88807) -- "Great Square Root"
Copyright (C) 2025 The R Foundation for Statistical Computing
Platform: x86_64-apple-darwin20
R is free software and comes with ABSOLUTELY NO WARRANTY.
You are welcome to redistribute it under certain conditions.
Type 'license()' or 'licence()' for distribution details.
R is a collaborative project with many contributors.
Type 'contributors()' for more information and
'citation()' on how to cite R or R packages in publications.
Type 'demo()' for some demos, 'help()' for on-line help, or
'help.start()' for an HTML browser interface to help.
Type 'q()' to quit R.
> library(testthat)
> library(NanoMethViz)
Loading required package: ggplot2
>
> test_check("NanoMethViz")
Starting 2 test processes
[ FAIL 0 | WARN 83 | SKIP 0 | PASS 719 ]
[ FAIL 0 | WARN 83 | SKIP 0 | PASS 719 ]
>
> proc.time()
user system elapsed
255.983 16.050 163.380
NanoMethViz.Rcheck/NanoMethViz-Ex.timings
| name | user | system | elapsed | |
| NanoMethResult-class | 4.818 | 1.185 | 6.046 | |
| bsseq_to_edger | 2.064 | 0.042 | 2.119 | |
| bsseq_to_log_methy_ratio | 1.244 | 0.030 | 1.280 | |
| cluster_regions | 3.452 | 0.141 | 3.610 | |
| create_tabix_file | 1.686 | 0.237 | 1.959 | |
| exons_to_genes | 0.327 | 0.009 | 0.338 | |
| filter_methy | 26.678 | 3.222 | 30.046 | |
| get_example_exons_mus_musculus | 0.281 | 0.007 | 0.289 | |
| get_exons | 74.863 | 3.982 | 79.615 | |
| get_exons_homo_sapiens | 34.818 | 2.126 | 37.110 | |
| get_exons_mus_musculus | 12.685 | 0.769 | 13.502 | |
| load_example_modbamresult | 0.318 | 0.011 | 0.330 | |
| load_example_nanomethresult | 0.290 | 0.017 | 0.316 | |
| methy | 0.002 | 0.000 | 0.002 | |
| methy_col_names | 0 | 0 | 0 | |
| methy_to_bsseq | 1.167 | 0.031 | 1.204 | |
| methy_to_edger | 1.303 | 0.032 | 1.341 | |
| modbam_to_tabix | 0.866 | 0.375 | 1.111 | |
| plot_agg_genes | 5.123 | 0.090 | 5.242 | |
| plot_agg_regions | 5.913 | 0.138 | 6.086 | |
| plot_gene | 10.737 | 0.413 | 11.201 | |
| plot_gene_heatmap | 8.881 | 0.111 | 9.020 | |
| plot_grange | 8.748 | 0.118 | 8.909 | |
| plot_grange_heatmap | 8.166 | 0.532 | 8.785 | |
| plot_mds | 1.761 | 0.035 | 1.806 | |
| plot_pca | 1.799 | 0.036 | 1.843 | |
| plot_region | 7.638 | 0.129 | 7.793 | |
| plot_region_heatmap | 6.055 | 0.100 | 6.180 | |
| plot_violin | 2.756 | 0.035 | 2.803 | |
| query_methy | 0.444 | 0.009 | 0.454 | |
| region_methy_stats | 1.038 | 0.016 | 1.055 | |