| Back to Multiple platform build/check report for BioC 3.22: simplified long |
|
This page was generated on 2025-11-20 12:05 -0500 (Thu, 20 Nov 2025).
| Hostname | OS | Arch (*) | R version | Installed pkgs |
|---|---|---|---|---|
| nebbiolo2 | Linux (Ubuntu 24.04.3 LTS) | x86_64 | 4.5.2 (2025-10-31) -- "[Not] Part in a Rumble" | 4615 |
| merida1 | macOS 12.7.6 Monterey | x86_64 | 4.5.2 Patched (2025-11-05 r88990) -- "[Not] Part in a Rumble" | 4610 |
| kjohnson1 | macOS 13.7.5 Ventura | arm64 | 4.5.2 Patched (2025-11-04 r88984) -- "[Not] Part in a Rumble" | 4598 |
| taishan | Linux (openEuler 24.03 LTS) | aarch64 | 4.5.0 (2025-04-11) -- "How About a Twenty-Six" | 4668 |
| Click on any hostname to see more info about the system (e.g. compilers) (*) as reported by 'uname -p', except on Windows and Mac OS X | ||||
| Package 1378/2361 | Hostname | OS / Arch | INSTALL | BUILD | CHECK | BUILD BIN | ||||||||
| MsBackendRawFileReader 1.16.0 (landing page) Christian Panse
| nebbiolo2 | Linux (Ubuntu 24.04.3 LTS) / x86_64 | OK | OK | OK | |||||||||
| merida1 | macOS 12.7.6 Monterey / x86_64 | OK | OK | OK | OK | |||||||||
| kjohnson1 | macOS 13.7.5 Ventura / arm64 | OK | ERROR | skipped | skipped | |||||||||
| taishan | Linux (openEuler 24.03 LTS) / aarch64 | OK | ERROR | skipped | ||||||||||
|
To the developers/maintainers of the MsBackendRawFileReader package: - Allow up to 24 hours (and sometimes 48 hours) for your latest push to git@git.bioconductor.org:packages/MsBackendRawFileReader.git to reflect on this report. See Troubleshooting Build Report for more information. - Use the following Renviron settings to reproduce errors and warnings. - If 'R CMD check' started to fail recently on the Linux builder(s) over a missing dependency, add the missing dependency to 'Suggests:' in your DESCRIPTION file. See Renviron.bioc for more information. |
| Package: MsBackendRawFileReader |
| Version: 1.16.0 |
| Command: /Library/Frameworks/R.framework/Resources/bin/R CMD check --install=check:MsBackendRawFileReader.install-out.txt --library=/Library/Frameworks/R.framework/Resources/library --no-vignettes --timings MsBackendRawFileReader_1.16.0.tar.gz |
| StartedAt: 2025-11-18 10:51:08 -0500 (Tue, 18 Nov 2025) |
| EndedAt: 2025-11-18 10:58:20 -0500 (Tue, 18 Nov 2025) |
| EllapsedTime: 431.7 seconds |
| RetCode: 0 |
| Status: OK |
| CheckDir: MsBackendRawFileReader.Rcheck |
| Warnings: 0 |
##############################################################################
##############################################################################
###
### Running command:
###
### /Library/Frameworks/R.framework/Resources/bin/R CMD check --install=check:MsBackendRawFileReader.install-out.txt --library=/Library/Frameworks/R.framework/Resources/library --no-vignettes --timings MsBackendRawFileReader_1.16.0.tar.gz
###
##############################################################################
##############################################################################
* using log directory ‘/Users/biocbuild/bbs-3.22-bioc/meat/MsBackendRawFileReader.Rcheck’
* using R version 4.5.2 Patched (2025-11-05 r88990)
* using platform: x86_64-apple-darwin20
* R was compiled by
Apple clang version 14.0.0 (clang-1400.0.29.202)
GNU Fortran (GCC) 14.2.0
* running under: macOS Monterey 12.7.6
* using session charset: UTF-8
* using option ‘--no-vignettes’
* checking for file ‘MsBackendRawFileReader/DESCRIPTION’ ... OK
* checking extension type ... Package
* this is package ‘MsBackendRawFileReader’ version ‘1.16.0’
* package encoding: UTF-8
* checking package namespace information ... OK
* checking package dependencies ... OK
* checking if this is a source package ... OK
* checking if there is a namespace ... OK
* checking for hidden files and directories ... OK
* checking for portable file names ... OK
* checking for sufficient/correct file permissions ... OK
* checking whether package ‘MsBackendRawFileReader’ can be installed ... OK
* checking installed package size ... OK
* checking package directory ... OK
* checking ‘build’ directory ... OK
* checking DESCRIPTION meta-information ... OK
* checking top-level files ... OK
* checking for left-over files ... OK
* checking index information ... OK
* checking package subdirectories ... OK
* checking code files for non-ASCII characters ... OK
* checking R files for syntax errors ... OK
* checking whether the package can be loaded ... OK
* checking whether the package can be loaded with stated dependencies ... OK
* checking whether the package can be unloaded cleanly ... OK
* checking whether the namespace can be loaded with stated dependencies ... OK
* checking whether the namespace can be unloaded cleanly ... OK
* checking whether startup messages can be suppressed ... OK
* checking dependencies in R code ... OK
* checking S3 generic/method consistency ... OK
* checking replacement functions ... OK
* checking foreign function calls ... OK
* checking R code for possible problems ... OK
* checking Rd files ... OK
* checking Rd metadata ... OK
* checking Rd cross-references ... OK
* checking for missing documentation entries ... OK
* checking for code/documentation mismatches ... OK
* checking Rd \usage sections ... OK
* checking Rd contents ... OK
* checking for unstated dependencies in examples ... OK
* checking files in ‘vignettes’ ... OK
* checking examples ... OK
Examples with CPU (user + system) or elapsed time > 5s
user system elapsed
ioBenchmark 50.420 9.873 25.071
MsBackendRawFileReader 18.397 4.989 25.237
MsBackendRawFileReader-class 7.126 1.685 9.030
hidden_aliases 6.047 1.623 7.860
* checking for unstated dependencies in ‘tests’ ... OK
* checking tests ...
Running ‘testthat.R’
OK
* checking for unstated dependencies in vignettes ... OK
* checking package vignettes ... OK
* checking running R code from vignettes ... SKIPPED
* checking re-building of vignette outputs ... SKIPPED
* checking PDF version of manual ... OK
* DONE
Status: OK
MsBackendRawFileReader.Rcheck/00install.out
############################################################################## ############################################################################## ### ### Running command: ### ### /Library/Frameworks/R.framework/Resources/bin/R CMD INSTALL MsBackendRawFileReader ### ############################################################################## ############################################################################## * installing to library ‘/Library/Frameworks/R.framework/Versions/4.5-x86_64/Resources/library’ * installing *source* package ‘MsBackendRawFileReader’ ... ** this is package ‘MsBackendRawFileReader’ version ‘1.16.0’ ** using staged installation ** R ** inst ** byte-compile and prepare package for lazy loading ** help *** installing help indices ** building package indices ** installing vignettes ** testing if installed package can be loaded from temporary location ** testing if installed package can be loaded from final location ** testing if installed package keeps a record of temporary installation path * DONE (MsBackendRawFileReader)
MsBackendRawFileReader.Rcheck/tests/testthat.Rout
R version 4.5.2 Patched (2025-11-05 r88990) -- "[Not] Part in a Rumble"
Copyright (C) 2025 The R Foundation for Statistical Computing
Platform: x86_64-apple-darwin20
R is free software and comes with ABSOLUTELY NO WARRANTY.
You are welcome to redistribute it under certain conditions.
Type 'license()' or 'licence()' for distribution details.
R is a collaborative project with many contributors.
Type 'contributors()' for more information and
'citation()' on how to cite R or R packages in publications.
Type 'demo()' for some demos, 'help()' for on-line help, or
'help.start()' for an HTML browser interface to help.
Type 'q()' to quit R.
> library("testthat")
> library("MsBackendRawFileReader")
Loading required package: Spectra
Loading required package: S4Vectors
Loading required package: stats4
Loading required package: BiocGenerics
Loading required package: generics
Attaching package: 'generics'
The following objects are masked from 'package:base':
as.difftime, as.factor, as.ordered, intersect, is.element, setdiff,
setequal, union
Attaching package: 'BiocGenerics'
The following objects are masked from 'package:stats':
IQR, mad, sd, var, xtabs
The following objects are masked from 'package:base':
Filter, Find, Map, Position, Reduce, anyDuplicated, aperm, append,
as.data.frame, basename, cbind, colnames, dirname, do.call,
duplicated, eval, evalq, get, grep, grepl, is.unsorted, lapply,
mapply, match, mget, order, paste, pmax, pmax.int, pmin, pmin.int,
rank, rbind, rownames, sapply, saveRDS, table, tapply, unique,
unsplit, which.max, which.min
Attaching package: 'S4Vectors'
The following object is masked from 'package:utils':
findMatches
The following objects are masked from 'package:base':
I, expand.grid, unname
Loading required package: BiocParallel
> library("Spectra")
>
>
> sample_raw_file <- file.path(system.file(package = "rawrr"),
+ 'extdata', 'sample.raw')
>
> sample_mzXML_file <- file.path(path.package(package = 'MsBackendRawFileReader'),
+ 'extdata', 'sample.mzXML')
>
>
> sample_raw <- backendInitialize(MsBackendRawFileReader::MsBackendRawFileReader(), files = sample_raw_file)
>
>
> #sample_mzr <- backendInitialize(MsBackendMzR(), files = sample_mzXML_file)
>
>
> mgf_file <- file.path(system.file(package = "MsBackendRawFileReader"),
+ 'extdata', '3159619b11ed_4590_9594.mgf')
>
>
> rv <- lapply(1:2, function(x){
+ file.copy(from = sample_raw_file, to = tempfile(fileext='.raw'))})
>
>
> register(SnowParam(workers = 1, type = "SOCK") , default = TRUE);
> sample_raw_2 <- backendInitialize(MsBackendRawFileReader(),
+ files = file.path(tempdir(),
+ list.files(path = tempdir(), pattern = 'raw$')))
>
>
> test_check("MsBackendRawFileReader")
[ FAIL 0 | WARN 1 | SKIP 2 | PASS 21 ]
══ Skipped tests (2) ═══════════════════════════════════════════════════════════
• isFALSE(file.exists(sample_mzXML_file)) is TRUE (1):
'test_MsBackendMzR_MsBackendRawFileReader.R:1:1'
• isFALSE(require(MsBackendRawMgf)) is TRUE (1): 'test_top_n_mgf.R:1:1'
[ FAIL 0 | WARN 1 | SKIP 2 | PASS 21 ]
>
>
> be <- Spectra::backendInitialize(MsBackendRawFileReader::MsBackendRawFileReader(),
+ files = c(sample_raw_file))
>
> ## Run the MsBackend spectra variable test suite
>
> test_suite <- system.file("test_backends", "test_MsBackend",
+ package = "Spectra")
>
> #res <- test_file(paste0(test_suite, "/test_spectra_variables.R"),
> # reporter = check_reporter(), stop_on_failure = TRUE)
>
>
> ## Run the whole suite.
> res <- test_dir(test_suite, stop_on_failure = TRUE)
✔ | F W S OK | Context
⠏ | 0 | peaks_variables
⠋ | 1 | peaks_variables
⠙ | 2 | peaks_variables
⠸ | 4 | peaks_variables
✔ | 4 | peaks_variables [9.5s]
⠏ | 0 | spectra_subsetting
⠋ | 1 | spectra_subsetting
⠦ | 7 | spectra_subsetting
⠹ | 13 | spectra_subsetting
⠏ | 20 | spectra_subsetting
⠴ | 26 | spectra_subsetting
⠙ | 32 | spectra_subsetting
⠦ | 37 | spectra_subsetting
⠹ | 43 | spectra_subsetting
⠏ | 50 | spectra_subsetting
⠴ | 56 | spectra_subsetting
⠙ | 62 | spectra_subsetting
⠧ | 68 | spectra_subsetting
⠸ | 74 | spectra_subsetting
⠇ | 79 | spectra_subsetting
⠼ | 85 | spectra_subsetting
⠋ | 91 | spectra_subsetting
⠦ | 97 | spectra_subsetting
⠹ | 103 | spectra_subsetting
⠇ | 109 | spectra_subsetting
⠼ | 115 | spectra_subsetting
⠙ | 122 | spectra_subsetting
⠧ | 128 | spectra_subsetting
⠼ | 135 | spectra_subsetting
⠏ | 140 | spectra_subsetting
⠴ | 146 | spectra_subsetting
⠋ | 151 | spectra_subsetting
⠦ | 157 | spectra_subsetting
⠸ | 164 | spectra_subsetting
⠋ | 171 | spectra_subsetting
⠴ | 176 | spectra_subsetting
⠹ | 183 | spectra_subsetting
⠧ | 188 | spectra_subsetting
⠹ | 193 | spectra_subsetting
⠇ | 199 | spectra_subsetting
⠼ | 205 | spectra_subsetting
⠋ | 211 | spectra_subsetting
⠦ | 217 | spectra_subsetting
⠹ | 223 | spectra_subsetting
⠇ | 229 | spectra_subsetting
⠼ | 235 | spectra_subsetting
⠙ | 242 | spectra_subsetting
⠧ | 248 | spectra_subsetting
⠴ | 256 | spectra_subsetting
⠙ | 262 | spectra_subsetting
⠧ | 268 | spectra_subsetting
⠼ | 275 | spectra_subsetting
⠋ | 281 | spectra_subsetting
⠦ | 287 | spectra_subsetting
⠹ | 293 | spectra_subsetting
⠇ | 299 | spectra_subsetting
⠼ | 305 | spectra_subsetting
⠋ | 311 | spectra_subsetting
⠦ | 317 | spectra_subsetting
⠹ | 323 | spectra_subsetting
⠇ | 329 | spectra_subsetting
⠸ | 334 | spectra_subsetting
⠏ | 340 | spectra_subsetting
⠴ | 346 | spectra_subsetting
⠙ | 352 | spectra_subsetting
⠧ | 358 | spectra_subsetting
⠸ | 364 | spectra_subsetting
⠏ | 370 | spectra_subsetting
⠦ | 377 | spectra_subsetting
⠼ | 385 | spectra_subsetting
⠋ | 391 | spectra_subsetting
⠦ | 397 | spectra_subsetting
⠹ | 403 | spectra_subsetting
⠇ | 409 | spectra_subsetting
⠦ | 417 | spectra_subsetting
⠸ | 424 | spectra_subsetting
⠏ | 430 | spectra_subsetting
⠦ | 437 | spectra_subsetting
⠙ | 442 | spectra_subsetting
⠧ | 448 | spectra_subsetting
⠼ | 455 | spectra_subsetting
⠹ | 463 | spectra_subsetting
⠏ | 470 | spectra_subsetting
⠴ | 476 | spectra_subsetting
⠹ | 483 | spectra_subsetting
⠇ | 489 | spectra_subsetting
⠴ | 496 | spectra_subsetting
⠙ | 502 | spectra_subsetting
⠧ | 508 | spectra_subsetting
⠸ | 514 | spectra_subsetting
⠏ | 520 | spectra_subsetting
⠦ | 527 | spectra_subsetting
⠸ | 534 | spectra_subsetting
⠏ | 540 | spectra_subsetting
⠦ | 547 | spectra_subsetting
⠹ | 553 | spectra_subsetting
⠏ | 560 | spectra_subsetting
⠧ | 568 | spectra_subsetting
⠼ | 575 | spectra_subsetting
⠙ | 582 | spectra_subsetting
⠦ | 587 | spectra_subsetting
⠹ | 593 | spectra_subsetting
⠋ | 601 | spectra_subsetting
⠧ | 608 | spectra_subsetting
⠼ | 615 | spectra_subsetting
⠙ | 622 | spectra_subsetting
⠧ | 628 | spectra_subsetting
⠼ | 635 | spectra_subsetting
⠹ | 643 | spectra_subsetting
⠇ | 649 | spectra_subsetting
⠴ | 656 | spectra_subsetting
⠙ | 662 | spectra_subsetting
⠏ | 670 | spectra_subsetting
⠦ | 677 | spectra_subsetting
⠼ | 685 | spectra_subsetting
⠙ | 692 | spectra_subsetting
⠧ | 698 | spectra_subsetting
⠴ | 706 | spectra_subsetting
⠹ | 713 | spectra_subsetting
⠏ | 720 | spectra_subsetting
⠦ | 727 | spectra_subsetting
⠹ | 733 | spectra_subsetting
⠇ | 739 | spectra_subsetting
⠦ | 747 | spectra_subsetting
⠸ | 754 | spectra_subsetting
⠋ | 761 | spectra_subsetting
⠦ | 767 | spectra_subsetting
⠹ | 773 | spectra_subsetting
⠋ | 781 | spectra_subsetting
⠧ | 788 | spectra_subsetting
⠴ | 796 | spectra_subsetting
⠙ | 802 | spectra_subsetting
⠧ | 808 | spectra_subsetting
⠼ | 815 | spectra_subsetting
⠹ | 823 | spectra_subsetting
⠏ | 830 | spectra_subsetting
⠧ | 838 | spectra_subsetting
⠸ | 844 | spectra_subsetting
⠋ | 851 | spectra_subsetting
⠇ | 859 | spectra_subsetting
⠴ | 866 | spectra_subsetting
⠹ | 873 | spectra_subsetting
⠏ | 880 | spectra_subsetting
⠦ | 887 | spectra_subsetting
⠼ | 895 | spectra_subsetting
⠙ | 902 | spectra_subsetting
⠏ | 910 | spectra_subsetting
⠴ | 916 | spectra_subsetting
⠙ | 922 | spectra_subsetting
⠇ | 929 | spectra_subsetting
⠦ | 937 | spectra_subsetting
⠸ | 944 | spectra_subsetting
⠏ | 950 | spectra_subsetting
⠦ | 957 | spectra_subsetting
⠸ | 964 | spectra_subsetting
⠋ | 971 | spectra_subsetting
⠧ | 978 | spectra_subsetting
⠼ | 985 | spectra_subsetting
⠋ | 991 | spectra_subsetting
⠧ | 998 | spectra_subsetting
⠴ | 1006 | spectra_subsetting
⠹ | 1013 | spectra_subsetting
⠋ | 1021 | spectra_subsetting
⠦ | 1027 | spectra_subsetting
⠸ | 1034 | spectra_subsetting
⠋ | 1041 | spectra_subsetting
⠧ | 1048 | spectra_subsetting
⠼ | 1055 | spectra_subsetting
⠋ | 1061 | spectra_subsetting
⠇ | 1069 | spectra_subsetting
⠴ | 1076 | spectra_subsetting
⠸ | 1084 | spectra_subsetting
⠏ | 1090 | spectra_subsetting
⠴ | 1096 | spectra_subsetting
⠙ | 1102 | spectra_subsetting
⠏ | 1110 | spectra_subsetting
⠦ | 1117 | spectra_subsetting
⠹ | 1123 | spectra_subsetting
⠋ | 1131 | spectra_subsetting
⠴ | 1136 | spectra_subsetting
⠸ | 1144 | spectra_subsetting
⠹ | 1153 | spectra_subsetting
⠏ | 1160 | spectra_subsetting
⠧ | 1168 | spectra_subsetting
⠼ | 1175 | spectra_subsetting
⠹ | 1183 | spectra_subsetting
⠙ | 1192 | spectra_subsetting
⠇ | 1199 | spectra_subsetting
⠼ | 1205 | spectra_subsetting
⠋ | 1211 | spectra_subsetting
⠧ | 1218 | spectra_subsetting
⠸ | 1224 | spectra_subsetting
⠏ | 1230 | spectra_subsetting
⠦ | 1237 | spectra_subsetting
⠹ | 1243 | spectra_subsetting
⠏ | 1250 | spectra_subsetting
⠦ | 1257 | spectra_subsetting
⠸ | 1264 | spectra_subsetting
⠋ | 1271 | spectra_subsetting
⠦ | 1277 | spectra_subsetting
⠸ | 1284 | spectra_subsetting
⠋ | 1291 | spectra_subsetting
⠧ | 1298 | spectra_subsetting
⠴ | 1306 | spectra_subsetting
⠙ | 1312 | spectra_subsetting
⠇ | 1319 | spectra_subsetting
⠼ | 1325 | spectra_subsetting
⠋ | 1331 | spectra_subsetting
⠦ | 1337 | spectra_subsetting
⠹ | 1343 | spectra_subsetting
⠧ | 1348 | spectra_subsetting
⠸ | 1354 | spectra_subsetting
⠏ | 1360 | spectra_subsetting
⠴ | 1366 | spectra_subsetting
⠙ | 1372 | spectra_subsetting
⠧ | 1378 | spectra_subsetting
⠸ | 1384 | spectra_subsetting
⠏ | 1390 | spectra_subsetting
⠴ | 1396 | spectra_subsetting
⠹ | 1403 | spectra_subsetting
⠋ | 1411 | spectra_subsetting
⠧ | 1418 | spectra_subsetting
⠸ | 1424 | spectra_subsetting
⠙ | 1432 | spectra_subsetting
⠋ | 1441 | spectra_subsetting
⠧ | 1448 | spectra_subsetting
⠴ | 1456 | spectra_subsetting
⠙ | 1462 | spectra_subsetting
⠇ | 1469 | spectra_subsetting
⠦ | 1477 | spectra_subsetting
⠸ | 1484 | spectra_subsetting
⠋ | 1491 | spectra_subsetting
⠴ | 1496 | spectra_subsetting
⠙ | 1502 | spectra_subsetting
⠧ | 1508 | spectra_subsetting
⠸ | 1514 | spectra_subsetting
⠋ | 1521 | spectra_subsetting
⠧ | 1528 | spectra_subsetting
⠸ | 1534 | spectra_subsetting
⠙ | 1542 | spectra_subsetting
⠇ | 1549 | spectra_subsetting
⠼ | 1555 | spectra_subsetting
⠙ | 1562 | spectra_subsetting
⠦ | 1567 | spectra_subsetting
⠸ | 1574 | spectra_subsetting
⠋ | 1581 | spectra_subsetting
⠧ | 1588 | spectra_subsetting
⠼ | 1595 | spectra_subsetting
⠹ | 1603 | spectra_subsetting
⠇ | 1609 | spectra_subsetting
⠼ | 1615 | spectra_subsetting
⠙ | 1622 | spectra_subsetting
⠧ | 1628 | spectra_subsetting
⠸ | 1634 | spectra_subsetting
⠇ | 1639 | spectra_subsetting
⠼ | 1645 | spectra_subsetting
⠋ | 1651 | spectra_subsetting
⠧ | 1658 | spectra_subsetting
⠼ | 1665 | spectra_subsetting
⠙ | 1672 | spectra_subsetting
⠧ | 1678 | spectra_subsetting
⠼ | 1685 | spectra_subsetting
⠙ | 1692 | spectra_subsetting
⠇ | 1699 | spectra_subsetting
⠴ | 1706 | spectra_subsetting
⠋ | 1711 | spectra_subsetting
⠦ | 1717 | spectra_subsetting
⠸ | 1724 | spectra_subsetting
⠦ | 1727 | spectra_subsetting
⠧ | 1728 | spectra_subsetting
⠇ | 1729 | spectra_subsetting
⠏ | 1730 | spectra_subsetting
⠋ | 1731 | spectra_subsetting
⠙ | 1732 | spectra_subsetting
⠹ | 1733 | spectra_subsetting
⠸ | 1734 | spectra_subsetting
⠼ | 1735 | spectra_subsetting
⠴ | 1736 | spectra_subsetting
⠦ | 1737 | spectra_subsetting
⠧ | 1738 | spectra_subsetting
⠇ | 1739 | spectra_subsetting
⠏ | 1740 | spectra_subsetting
⠋ | 1741 | spectra_subsetting
⠙ | 1742 | spectra_subsetting
⠹ | 1743 | spectra_subsetting
⠸ | 1744 | spectra_subsetting
⠼ | 1745 | spectra_subsetting
⠴ | 1746 | spectra_subsetting
⠦ | 1747 | spectra_subsetting
⠧ | 1748 | spectra_subsetting
⠇ | 1749 | spectra_subsetting
⠏ | 1750 | spectra_subsetting
⠋ | 1751 | spectra_subsetting
⠙ | 1752 | spectra_subsetting
⠹ | 1753 | spectra_subsetting
⠸ | 1754 | spectra_subsetting
⠼ | 1755 | spectra_subsetting
⠴ | 1756 | spectra_subsetting
⠦ | 1757 | spectra_subsetting
⠧ | 1758 | spectra_subsetting
⠇ | 1759 | spectra_subsetting
⠏ | 1760 | spectra_subsetting
⠋ | 1761 | spectra_subsetting
⠙ | 1762 | spectra_subsetting
⠹ | 1763 | spectra_subsetting
⠸ | 1764 | spectra_subsetting
⠼ | 1765 | spectra_subsetting
⠴ | 1766 | spectra_subsetting
⠦ | 1767 | spectra_subsetting
⠧ | 1768 | spectra_subsetting
⠇ | 1769 | spectra_subsetting
⠏ | 1770 | spectra_subsetting
⠋ | 1771 | spectra_subsetting
⠙ | 1772 | spectra_subsetting
⠹ | 1773 | spectra_subsetting
⠸ | 1774 | spectra_subsetting
⠼ | 1775 | spectra_subsetting
⠴ | 1776 | spectra_subsetting
⠦ | 1777 | spectra_subsetting
⠧ | 1778 | spectra_subsetting
⠇ | 1779 | spectra_subsetting
⠏ | 1780 | spectra_subsetting
⠋ | 1781 | spectra_subsetting
⠙ | 1782 | spectra_subsetting
⠹ | 1783 | spectra_subsetting
⠸ | 1784 | spectra_subsetting
⠼ | 1785 | spectra_subsetting
⠴ | 1786 | spectra_subsetting
⠦ | 1787 | spectra_subsetting
⠧ | 1788 | spectra_subsetting
⠇ | 1789 | spectra_subsetting
⠏ | 1790 | spectra_subsetting
⠋ | 1791 | spectra_subsetting
⠙ | 1792 | spectra_subsetting
⠹ | 1793 | spectra_subsetting
⠸ | 1794 | spectra_subsetting
⠼ | 1795 | spectra_subsetting
⠴ | 1796 | spectra_subsetting
⠦ | 1797 | spectra_subsetting
⠧ | 1798 | spectra_subsetting
⠇ | 1799 | spectra_subsetting
⠏ | 1800 | spectra_subsetting
⠋ | 1801 | spectra_subsetting
⠙ | 1802 | spectra_subsetting
⠹ | 1803 | spectra_subsetting
⠸ | 1804 | spectra_subsetting
⠼ | 1805 | spectra_subsetting
⠴ | 1806 | spectra_subsetting
⠦ | 1807 | spectra_subsetting
⠧ | 1808 | spectra_subsetting
⠇ | 1809 | spectra_subsetting
⠏ | 1810 | spectra_subsetting
⠋ | 1811 | spectra_subsetting
⠙ | 1812 | spectra_subsetting
⠹ | 1813 | spectra_subsetting
⠸ | 1814 | spectra_subsetting
⠼ | 1815 | spectra_subsetting
⠴ | 1816 | spectra_subsetting
⠦ | 1817 | spectra_subsetting
⠧ | 1818 | spectra_subsetting
⠇ | 1819 | spectra_subsetting
⠏ | 1820 | spectra_subsetting
⠋ | 1821 | spectra_subsetting
⠙ | 1822 | spectra_subsetting
⠹ | 1823 | spectra_subsetting
⠸ | 1824 | spectra_subsetting
⠼ | 1825 | spectra_subsetting
⠴ | 1826 | spectra_subsetting
⠦ | 1827 | spectra_subsetting
⠧ | 1828 | spectra_subsetting
⠇ | 1829 | spectra_subsetting
⠏ | 1830 | spectra_subsetting
⠋ | 1831 | spectra_subsetting
⠙ | 1832 | spectra_subsetting
⠹ | 1833 | spectra_subsetting
⠸ | 1834 | spectra_subsetting
⠼ | 1835 | spectra_subsetting
⠴ | 1836 | spectra_subsetting
⠦ | 1837 | spectra_subsetting
⠧ | 1838 | spectra_subsetting
⠇ | 1839 | spectra_subsetting
⠏ | 1840 | spectra_subsetting
⠋ | 1841 | spectra_subsetting
⠙ | 1842 | spectra_subsetting
⠹ | 1843 | spectra_subsetting
⠸ | 1844 | spectra_subsetting
⠼ | 1845 | spectra_subsetting
⠴ | 1846 | spectra_subsetting
⠦ | 1847 | spectra_subsetting
⠧ | 1848 | spectra_subsetting
⠇ | 1849 | spectra_subsetting
⠏ | 1850 | spectra_subsetting
⠋ | 1851 | spectra_subsetting
⠙ | 1852 | spectra_subsetting
⠹ | 1853 | spectra_subsetting
⠸ | 1854 | spectra_subsetting
⠼ | 1855 | spectra_subsetting
⠴ | 1856 | spectra_subsetting
⠦ | 1857 | spectra_subsetting
⠧ | 1858 | spectra_subsetting
⠇ | 1859 | spectra_subsetting
⠏ | 1860 | spectra_subsetting
⠋ | 1861 | spectra_subsetting
⠙ | 1862 | spectra_subsetting
⠹ | 1863 | spectra_subsetting
⠸ | 1864 | spectra_subsetting
⠼ | 1865 | spectra_subsetting
⠴ | 1866 | spectra_subsetting
⠦ | 1867 | spectra_subsetting
⠧ | 1868 | spectra_subsetting
⠇ | 1869 | spectra_subsetting
⠏ | 1870 | spectra_subsetting
⠋ | 1871 | spectra_subsetting
⠙ | 1872 | spectra_subsetting
⠹ | 1873 | spectra_subsetting
⠸ | 1874 | spectra_subsetting
⠼ | 1875 | spectra_subsetting
⠴ | 1876 | spectra_subsetting
⠦ | 1877 | spectra_subsetting
⠧ | 1878 | spectra_subsetting
⠇ | 1879 | spectra_subsetting
⠏ | 1880 | spectra_subsetting
⠋ | 1881 | spectra_subsetting
⠙ | 1882 | spectra_subsetting
⠹ | 1883 | spectra_subsetting
⠸ | 1884 | spectra_subsetting
⠼ | 1885 | spectra_subsetting
⠴ | 1886 | spectra_subsetting
⠦ | 1887 | spectra_subsetting
⠧ | 1888 | spectra_subsetting
⠇ | 1889 | spectra_subsetting
⠏ | 1890 | spectra_subsetting
⠋ | 1891 | spectra_subsetting
⠙ | 1892 | spectra_subsetting
⠹ | 1893 | spectra_subsetting
⠸ | 1894 | spectra_subsetting
⠼ | 1895 | spectra_subsetting
⠴ | 1896 | spectra_subsetting
⠦ | 1897 | spectra_subsetting
⠧ | 1898 | spectra_subsetting
⠇ | 1899 | spectra_subsetting
⠏ | 1900 | spectra_subsetting
⠋ | 1901 | spectra_subsetting
⠙ | 1902 | spectra_subsetting
⠹ | 1903 | spectra_subsetting
⠸ | 1904 | spectra_subsetting
⠼ | 1905 | spectra_subsetting
⠴ | 1906 | spectra_subsetting
⠦ | 1907 | spectra_subsetting
⠧ | 1908 | spectra_subsetting
⠇ | 1909 | spectra_subsetting
⠏ | 1910 | spectra_subsetting
⠋ | 1911 | spectra_subsetting
⠙ | 1912 | spectra_subsetting
⠹ | 1913 | spectra_subsetting
⠸ | 1914 | spectra_subsetting
⠼ | 1915 | spectra_subsetting
⠴ | 1916 | spectra_subsetting
⠦ | 1917 | spectra_subsetting
⠧ | 1918 | spectra_subsetting
⠇ | 1919 | spectra_subsetting
⠏ | 1920 | spectra_subsetting
⠋ | 1921 | spectra_subsetting
⠙ | 1922 | spectra_subsetting
⠹ | 1923 | spectra_subsetting
⠸ | 1924 | spectra_subsetting
⠼ | 1925 | spectra_subsetting
⠴ | 1926 | spectra_subsetting
⠦ | 1927 | spectra_subsetting
⠧ | 1928 | spectra_subsetting
⠇ | 1929 | spectra_subsetting
⠏ | 1930 | spectra_subsetting
⠋ | 1931 | spectra_subsetting
⠙ | 1932 | spectra_subsetting
⠹ | 1933 | spectra_subsetting
⠸ | 1934 | spectra_subsetting
⠼ | 1935 | spectra_subsetting
⠴ | 1936 | spectra_subsetting
⠦ | 1937 | spectra_subsetting
⠧ | 1938 | spectra_subsetting
⠇ | 1939 | spectra_subsetting
⠏ | 1940 | spectra_subsetting
⠋ | 1941 | spectra_subsetting
⠙ | 1942 | spectra_subsetting
⠹ | 1943 | spectra_subsetting
⠸ | 1944 | spectra_subsetting
⠼ | 1945 | spectra_subsetting
⠴ | 1946 | spectra_subsetting
⠦ | 1947 | spectra_subsetting
⠧ | 1948 | spectra_subsetting
⠇ | 1949 | spectra_subsetting
⠏ | 1950 | spectra_subsetting
⠋ | 1951 | spectra_subsetting
⠙ | 1952 | spectra_subsetting
⠹ | 1953 | spectra_subsetting
⠸ | 1954 | spectra_subsetting
⠼ | 1955 | spectra_subsetting
⠴ | 1956 | spectra_subsetting
⠦ | 1957 | spectra_subsetting
⠧ | 1958 | spectra_subsetting
⠇ | 1959 | spectra_subsetting
⠏ | 1960 | spectra_subsetting
⠋ | 1961 | spectra_subsetting
⠙ | 1962 | spectra_subsetting
⠹ | 1963 | spectra_subsetting
⠸ | 1964 | spectra_subsetting
⠼ | 1965 | spectra_subsetting
⠴ | 1966 | spectra_subsetting
⠦ | 1967 | spectra_subsetting
⠧ | 1968 | spectra_subsetting
⠇ | 1969 | spectra_subsetting
⠏ | 1970 | spectra_subsetting
⠋ | 1971 | spectra_subsetting
⠙ | 1972 | spectra_subsetting
⠹ | 1973 | spectra_subsetting
⠸ | 1974 | spectra_subsetting
⠼ | 1975 | spectra_subsetting
⠴ | 1976 | spectra_subsetting
⠦ | 1977 | spectra_subsetting
⠧ | 1978 | spectra_subsetting
⠇ | 1979 | spectra_subsetting
⠏ | 1980 | spectra_subsetting
⠋ | 1981 | spectra_subsetting
⠙ | 1982 | spectra_subsetting
⠹ | 1983 | spectra_subsetting
⠸ | 1984 | spectra_subsetting
⠼ | 1985 | spectra_subsetting
⠴ | 1986 | spectra_subsetting
⠦ | 1987 | spectra_subsetting
⠧ | 1988 | spectra_subsetting
⠇ | 1989 | spectra_subsetting
⠏ | 1990 | spectra_subsetting
⠋ | 1991 | spectra_subsetting
⠙ | 1992 | spectra_subsetting
⠹ | 1993 | spectra_subsetting
⠸ | 1994 | spectra_subsetting
⠼ | 1995 | spectra_subsetting
⠴ | 1996 | spectra_subsetting
⠦ | 1997 | spectra_subsetting
⠧ | 1998 | spectra_subsetting
⠇ | 1999 | spectra_subsetting
⠏ | 2000 | spectra_subsetting
⠋ | 2001 | spectra_subsetting
⠙ | 2002 | spectra_subsetting
⠹ | 2003 | spectra_subsetting
⠸ | 2004 | spectra_subsetting
⠼ | 2005 | spectra_subsetting
⠴ | 2006 | spectra_subsetting
⠦ | 2007 | spectra_subsetting
⠧ | 2008 | spectra_subsetting
⠇ | 2009 | spectra_subsetting
⠏ | 2010 | spectra_subsetting
⠋ | 2011 | spectra_subsetting
⠙ | 2012 | spectra_subsetting
⠹ | 2013 | spectra_subsetting
⠸ | 2014 | spectra_subsetting
⠼ | 2015 | spectra_subsetting
⠴ | 2016 | spectra_subsetting
⠦ | 2017 | spectra_subsetting
⠧ | 2018 | spectra_subsetting
⠇ | 2019 | spectra_subsetting
⠏ | 2020 | spectra_subsetting
⠋ | 2021 | spectra_subsetting
⠙ | 2022 | spectra_subsetting
⠹ | 2023 | spectra_subsetting
⠸ | 2024 | spectra_subsetting
⠼ | 2025 | spectra_subsetting
⠴ | 2026 | spectra_subsetting
⠦ | 2027 | spectra_subsetting
⠧ | 2028 | spectra_subsetting
⠇ | 2029 | spectra_subsetting
⠏ | 2030 | spectra_subsetting
⠋ | 2031 | spectra_subsetting
⠙ | 2032 | spectra_subsetting
⠹ | 2033 | spectra_subsetting
⠸ | 2034 | spectra_subsetting
⠼ | 2035 | spectra_subsetting
⠴ | 2036 | spectra_subsetting
⠦ | 2037 | spectra_subsetting
⠧ | 2038 | spectra_subsetting
⠇ | 2039 | spectra_subsetting
⠏ | 2040 | spectra_subsetting
⠋ | 2041 | spectra_subsetting
⠙ | 2042 | spectra_subsetting
⠹ | 2043 | spectra_subsetting
⠸ | 2044 | spectra_subsetting
⠼ | 2045 | spectra_subsetting
⠴ | 2046 | spectra_subsetting
⠦ | 2047 | spectra_subsetting
⠧ | 2048 | spectra_subsetting
⠇ | 2049 | spectra_subsetting
⠏ | 2050 | spectra_subsetting
⠋ | 2051 | spectra_subsetting
⠙ | 2052 | spectra_subsetting
⠹ | 2053 | spectra_subsetting
⠸ | 2054 | spectra_subsetting
⠼ | 2055 | spectra_subsetting
⠴ | 2056 | spectra_subsetting
⠦ | 2057 | spectra_subsetting
⠧ | 2058 | spectra_subsetting
⠇ | 2059 | spectra_subsetting
⠏ | 2060 | spectra_subsetting
⠋ | 2061 | spectra_subsetting
⠙ | 2062 | spectra_subsetting
⠹ | 2063 | spectra_subsetting
⠸ | 2064 | spectra_subsetting
⠼ | 2065 | spectra_subsetting
⠴ | 2066 | spectra_subsetting
⠦ | 2067 | spectra_subsetting
⠧ | 2068 | spectra_subsetting
⠇ | 2069 | spectra_subsetting
⠏ | 2070 | spectra_subsetting
⠋ | 2071 | spectra_subsetting
⠙ | 2072 | spectra_subsetting
⠹ | 2073 | spectra_subsetting
⠸ | 2074 | spectra_subsetting
⠼ | 2075 | spectra_subsetting
⠴ | 2076 | spectra_subsetting
⠦ | 2077 | spectra_subsetting
⠧ | 2078 | spectra_subsetting
⠇ | 2079 | spectra_subsetting
⠏ | 2080 | spectra_subsetting
⠋ | 2081 | spectra_subsetting
⠙ | 2082 | spectra_subsetting
⠹ | 2083 | spectra_subsetting
⠸ | 2084 | spectra_subsetting
⠼ | 2085 | spectra_subsetting
⠴ | 2086 | spectra_subsetting
⠦ | 2087 | spectra_subsetting
⠧ | 2088 | spectra_subsetting
⠇ | 2089 | spectra_subsetting
⠏ | 2090 | spectra_subsetting
⠋ | 2091 | spectra_subsetting
⠙ | 2092 | spectra_subsetting
⠹ | 2093 | spectra_subsetting
⠸ | 2094 | spectra_subsetting
⠼ | 2095 | spectra_subsetting
⠴ | 2096 | spectra_subsetting
⠦ | 2097 | spectra_subsetting
⠧ | 2098 | spectra_subsetting
⠇ | 2099 | spectra_subsetting
⠏ | 2100 | spectra_subsetting
⠋ | 2101 | spectra_subsetting
⠙ | 2102 | spectra_subsetting
⠹ | 2103 | spectra_subsetting
⠸ | 2104 | spectra_subsetting
⠼ | 2105 | spectra_subsetting
⠴ | 2106 | spectra_subsetting
⠦ | 2107 | spectra_subsetting
⠧ | 2108 | spectra_subsetting
⠇ | 2109 | spectra_subsetting
⠏ | 2110 | spectra_subsetting
⠋ | 2111 | spectra_subsetting
⠙ | 2112 | spectra_subsetting
⠹ | 2113 | spectra_subsetting
⠸ | 2114 | spectra_subsetting
⠼ | 2115 | spectra_subsetting
⠴ | 2116 | spectra_subsetting
⠦ | 2117 | spectra_subsetting
⠧ | 2118 | spectra_subsetting
⠇ | 2119 | spectra_subsetting
⠏ | 2120 | spectra_subsetting
⠋ | 2121 | spectra_subsetting
⠙ | 2122 | spectra_subsetting
⠹ | 2123 | spectra_subsetting
⠸ | 2124 | spectra_subsetting
⠼ | 2125 | spectra_subsetting
⠴ | 2126 | spectra_subsetting
⠦ | 2127 | spectra_subsetting
⠧ | 2128 | spectra_subsetting
⠇ | 2129 | spectra_subsetting
⠏ | 2130 | spectra_subsetting
⠋ | 2131 | spectra_subsetting
⠙ | 2132 | spectra_subsetting
⠹ | 2133 | spectra_subsetting
⠸ | 2134 | spectra_subsetting
⠼ | 2135 | spectra_subsetting
⠴ | 2136 | spectra_subsetting
⠦ | 2137 | spectra_subsetting
⠧ | 2138 | spectra_subsetting
⠇ | 2139 | spectra_subsetting
⠏ | 2140 | spectra_subsetting
⠋ | 2141 | spectra_subsetting
⠙ | 2142 | spectra_subsetting
⠹ | 2143 | spectra_subsetting
⠸ | 2144 | spectra_subsetting
⠼ | 2145 | spectra_subsetting
⠴ | 2146 | spectra_subsetting
⠦ | 2147 | spectra_subsetting
⠧ | 2148 | spectra_subsetting
⠇ | 2149 | spectra_subsetting
⠏ | 2150 | spectra_subsetting
⠋ | 2151 | spectra_subsetting
⠙ | 2152 | spectra_subsetting
⠹ | 2153 | spectra_subsetting
⠸ | 2154 | spectra_subsetting
⠼ | 2155 | spectra_subsetting
⠴ | 2156 | spectra_subsetting
⠦ | 2157 | spectra_subsetting
⠧ | 2158 | spectra_subsetting
⠇ | 2159 | spectra_subsetting
⠏ | 2160 | spectra_subsetting
⠋ | 2161 | spectra_subsetting
⠙ | 2162 | spectra_subsetting
⠹ | 2163 | spectra_subsetting
⠸ | 2164 | spectra_subsetting
⠼ | 2165 | spectra_subsetting
⠴ | 2166 | spectra_subsetting
⠦ | 2167 | spectra_subsetting
⠧ | 2168 | spectra_subsetting
⠇ | 2169 | spectra_subsetting
⠏ | 2170 | spectra_subsetting
⠋ | 2171 | spectra_subsetting
⠙ | 2172 | spectra_subsetting
⠹ | 2173 | spectra_subsetting
⠸ | 2174 | spectra_subsetting
⠼ | 2175 | spectra_subsetting
⠴ | 2176 | spectra_subsetting
⠦ | 2177 | spectra_subsetting
⠧ | 2178 | spectra_subsetting
⠇ | 2179 | spectra_subsetting
⠏ | 2180 | spectra_subsetting
⠋ | 2181 | spectra_subsetting
⠙ | 2182 | spectra_subsetting
⠹ | 2183 | spectra_subsetting
⠸ | 2184 | spectra_subsetting
⠼ | 2185 | spectra_subsetting
⠴ | 2186 | spectra_subsetting
⠦ | 2187 | spectra_subsetting
⠧ | 2188 | spectra_subsetting
⠇ | 2189 | spectra_subsetting
⠏ | 2190 | spectra_subsetting
⠋ | 2191 | spectra_subsetting
⠙ | 2192 | spectra_subsetting
⠹ | 2193 | spectra_subsetting
⠸ | 2194 | spectra_subsetting
⠼ | 2195 | spectra_subsetting
⠴ | 2196 | spectra_subsetting
⠦ | 2197 | spectra_subsetting
⠧ | 2198 | spectra_subsetting
⠇ | 2199 | spectra_subsetting
⠏ | 2200 | spectra_subsetting
⠋ | 2201 | spectra_subsetting
⠙ | 2202 | spectra_subsetting
⠹ | 2203 | spectra_subsetting
⠸ | 2204 | spectra_subsetting
⠼ | 2205 | spectra_subsetting
⠴ | 2206 | spectra_subsetting
⠦ | 2207 | spectra_subsetting
⠧ | 2208 | spectra_subsetting
⠇ | 2209 | spectra_subsetting
⠏ | 2210 | spectra_subsetting
⠋ | 2211 | spectra_subsetting
⠙ | 2212 | spectra_subsetting
⠹ | 2213 | spectra_subsetting
⠸ | 2214 | spectra_subsetting
⠼ | 2215 | spectra_subsetting
⠴ | 2216 | spectra_subsetting
⠦ | 2217 | spectra_subsetting
⠧ | 2218 | spectra_subsetting
⠇ | 2219 | spectra_subsetting
⠏ | 2220 | spectra_subsetting
⠋ | 2221 | spectra_subsetting
⠙ | 2222 | spectra_subsetting
⠹ | 2223 | spectra_subsetting
⠸ | 2224 | spectra_subsetting
⠼ | 2225 | spectra_subsetting
⠴ | 2226 | spectra_subsetting
⠦ | 2227 | spectra_subsetting
⠧ | 2228 | spectra_subsetting
⠇ | 2229 | spectra_subsetting
⠏ | 2230 | spectra_subsetting
⠋ | 2231 | spectra_subsetting
⠙ | 2232 | spectra_subsetting
⠹ | 2233 | spectra_subsetting
⠸ | 2234 | spectra_subsetting
⠼ | 2235 | spectra_subsetting
⠴ | 2236 | spectra_subsetting
⠦ | 2237 | spectra_subsetting
⠧ | 2238 | spectra_subsetting
⠇ | 2239 | spectra_subsetting
⠏ | 2240 | spectra_subsetting
⠋ | 2241 | spectra_subsetting
⠙ | 2242 | spectra_subsetting
⠹ | 2243 | spectra_subsetting
⠸ | 2244 | spectra_subsetting
⠼ | 2245 | spectra_subsetting
⠴ | 2246 | spectra_subsetting
⠦ | 2247 | spectra_subsetting
⠧ | 2248 | spectra_subsetting
⠇ | 2249 | spectra_subsetting
⠏ | 2250 | spectra_subsetting
⠋ | 2251 | spectra_subsetting
⠙ | 2252 | spectra_subsetting
⠹ | 2253 | spectra_subsetting
⠸ | 2254 | spectra_subsetting
⠼ | 2255 | spectra_subsetting
⠴ | 2256 | spectra_subsetting
⠦ | 2257 | spectra_subsetting
⠧ | 2258 | spectra_subsetting
⠇ | 2259 | spectra_subsetting
⠏ | 2260 | spectra_subsetting
⠋ | 2261 | spectra_subsetting
⠙ | 2262 | spectra_subsetting
⠹ | 2263 | spectra_subsetting
⠸ | 2264 | spectra_subsetting
⠼ | 2265 | spectra_subsetting
⠴ | 2266 | spectra_subsetting
⠦ | 2267 | spectra_subsetting
⠧ | 2268 | spectra_subsetting
⠇ | 2269 | spectra_subsetting
⠏ | 2270 | spectra_subsetting
⠋ | 2271 | spectra_subsetting
⠙ | 2272 | spectra_subsetting
⠹ | 2273 | spectra_subsetting
⠸ | 2274 | spectra_subsetting
⠼ | 2275 | spectra_subsetting
⠴ | 2276 | spectra_subsetting
⠦ | 2277 | spectra_subsetting
⠧ | 2278 | spectra_subsetting
⠇ | 2279 | spectra_subsetting
⠏ | 2280 | spectra_subsetting
⠋ | 2281 | spectra_subsetting
⠙ | 2282 | spectra_subsetting
⠹ | 2283 | spectra_subsetting
⠸ | 2284 | spectra_subsetting
⠼ | 2285 | spectra_subsetting
⠴ | 2286 | spectra_subsetting
⠦ | 2287 | spectra_subsetting
⠧ | 2288 | spectra_subsetting
⠇ | 2289 | spectra_subsetting
⠏ | 2290 | spectra_subsetting
⠋ | 2291 | spectra_subsetting
⠙ | 2292 | spectra_subsetting
⠹ | 2293 | spectra_subsetting
⠸ | 2294 | spectra_subsetting
⠼ | 2295 | spectra_subsetting
⠴ | 2296 | spectra_subsetting
⠦ | 2297 | spectra_subsetting
⠧ | 2298 | spectra_subsetting
⠇ | 2299 | spectra_subsetting
⠏ | 2300 | spectra_subsetting
⠹ | 2303 | spectra_subsetting
⠼ | 2305 | spectra_subsetting
⠋ | 2311 | spectra_subsetting
⠹ | 2313 | spectra_subsetting
⠧ | 2318 | spectra_subsetting
⠋ | 2321 | spectra_subsetting
⠴ | 2326 | spectra_subsetting
⠇ | 2329 | spectra_subsetting
⠹ | 2333 | spectra_subsetting
⠸ | 2334 | spectra_subsetting
⠋ | 2341 | spectra_subsetting
✔ | 2342 | spectra_subsetting [101.1s]
⠏ | 0 | spectra_variables
⠧ | 8 | spectra_variables
⠙ | 12 | spectra_variables
⠸ | 14 | spectra_variables
⠴ | 16 | spectra_variables
⠦ | 27 | spectra_variables
⠇ | 29 | spectra_variables
⠋ | 31 | spectra_variables
⠹ | 43 | spectra_variables
⠸ | 54 | spectra_variables
⠹ | 1 62 | spectra_variables
✔ | 1 62 | spectra_variables [34.4s]
══ Results ═════════════════════════════════════════════════════════════════════
Duration: 145.1 s
── Skipped tests (1) ───────────────────────────────────────────────────────────
• empty test (1): 'test_spectra_variables.R:262:1'
[ FAIL 0 | WARN 0 | SKIP 1 | PASS 2408 ]
>
> proc.time()
user system elapsed
201.334 20.278 221.670
MsBackendRawFileReader.Rcheck/MsBackendRawFileReader-Ex.timings
| name | user | system | elapsed | |
| MsBackendRawFileReader-class | 7.126 | 1.685 | 9.030 | |
| MsBackendRawFileReader | 18.397 | 4.989 | 25.237 | |
| hidden_aliases | 6.047 | 1.623 | 7.860 | |
| ioBenchmark | 50.420 | 9.873 | 25.071 | |