| Back to Multiple platform build/check report for BioC 3.22: simplified long |
|
This page was generated on 2025-08-15 12:06 -0400 (Fri, 15 Aug 2025).
| Hostname | OS | Arch (*) | R version | Installed pkgs |
|---|---|---|---|---|
| nebbiolo2 | Linux (Ubuntu 24.04.3 LTS) | x86_64 | 4.5.1 (2025-06-13) -- "Great Square Root" | 4818 |
| palomino8 | Windows Server 2022 Datacenter | x64 | 4.5.1 (2025-06-13 ucrt) -- "Great Square Root" | 4554 |
| lconway | macOS 12.7.1 Monterey | x86_64 | 4.5.1 (2025-06-13) -- "Great Square Root" | 4595 |
| kjohnson3 | macOS 13.7.7 Ventura | arm64 | 4.5.1 Patched (2025-06-14 r88325) -- "Great Square Root" | 4537 |
| taishan | Linux (openEuler 24.03 LTS) | aarch64 | 4.5.0 (2025-04-11) -- "How About a Twenty-Six" | 4535 |
| Click on any hostname to see more info about the system (e.g. compilers) (*) as reported by 'uname -p', except on Windows and Mac OS X | ||||
| Package 1048/2317 | Hostname | OS / Arch | INSTALL | BUILD | CHECK | BUILD BIN | ||||||||
| InteractionSet 1.37.1 (landing page) Aaron Lun
| nebbiolo2 | Linux (Ubuntu 24.04.3 LTS) / x86_64 | OK | OK | OK | |||||||||
| palomino8 | Windows Server 2022 Datacenter / x64 | OK | OK | OK | OK | |||||||||
| lconway | macOS 12.7.1 Monterey / x86_64 | OK | OK | OK | OK | |||||||||
| kjohnson3 | macOS 13.7.7 Ventura / arm64 | OK | OK | OK | OK | |||||||||
| taishan | Linux (openEuler 24.03 LTS) / aarch64 | OK | OK | OK | ||||||||||
|
To the developers/maintainers of the InteractionSet package: - Allow up to 24 hours (and sometimes 48 hours) for your latest push to git@git.bioconductor.org:packages/InteractionSet.git to reflect on this report. See Troubleshooting Build Report for more information. - Use the following Renviron settings to reproduce errors and warnings. - If 'R CMD check' started to fail recently on the Linux builder(s) over a missing dependency, add the missing dependency to 'Suggests:' in your DESCRIPTION file. See Renviron.bioc for more information. |
| Package: InteractionSet |
| Version: 1.37.1 |
| Command: F:\biocbuild\bbs-3.22-bioc\R\bin\R.exe CMD INSTALL InteractionSet |
| StartedAt: 2025-08-14 16:02:50 -0400 (Thu, 14 Aug 2025) |
| EndedAt: 2025-08-14 16:04:53 -0400 (Thu, 14 Aug 2025) |
| EllapsedTime: 123.4 seconds |
| RetCode: 0 |
| Status: OK |
##############################################################################
##############################################################################
###
### Running command:
###
### F:\biocbuild\bbs-3.22-bioc\R\bin\R.exe CMD INSTALL InteractionSet
###
##############################################################################
##############################################################################
* installing to library 'F:/biocbuild/bbs-3.22-bioc/R/library'
* installing *source* package 'InteractionSet' ...
** this is package 'InteractionSet' version '1.37.1'
** using staged installation
** libs
using C++ compiler: 'G__~1.EXE (GCC) 14.2.0'
using C++11
g++ -std=gnu++11 -I"F:/biocbuild/bbs-3.22-bioc/R/include" -DNDEBUG -I'F:/biocbuild/bbs-3.22-bioc/R/library/Rcpp/include' -I"C:/rtools45/x86_64-w64-mingw32.static.posix/include" -O2 -Wall -mfpmath=sse -msse2 -mstackrealign -c box_bounds.cpp -o box_bounds.o
box_bounds.cpp: In function 'SEXPREC* get_box_bounds(SEXP, SEXP, SEXP, SEXP, SEXP, SEXP)':
box_bounds.cpp:10:13: warning: comparison of integer expressions of different signedness: 'const size_t' {aka 'const long long unsigned int'} and 'R_xlen_t' {aka 'long long int'} [-Wsign-compare]
10 | if (npts!=Adex.size()) {
| ~~~~^~~~~~~~~~~~~
g++ -std=gnu++11 -I"F:/biocbuild/bbs-3.22-bioc/R/include" -DNDEBUG -I'F:/biocbuild/bbs-3.22-bioc/R/library/Rcpp/include' -I"C:/rtools45/x86_64-w64-mingw32.static.posix/include" -O2 -Wall -mfpmath=sse -msse2 -mstackrealign -c detect_overlaps.cpp -o detect_overlaps.o
g++ -std=gnu++11 -I"F:/biocbuild/bbs-3.22-bioc/R/include" -DNDEBUG -I'F:/biocbuild/bbs-3.22-bioc/R/library/Rcpp/include' -I"C:/rtools45/x86_64-w64-mingw32.static.posix/include" -O2 -Wall -mfpmath=sse -msse2 -mstackrealign -c init.cpp -o init.o
g++ -std=gnu++11 -I"F:/biocbuild/bbs-3.22-bioc/R/include" -DNDEBUG -I'F:/biocbuild/bbs-3.22-bioc/R/library/Rcpp/include' -I"C:/rtools45/x86_64-w64-mingw32.static.posix/include" -O2 -Wall -mfpmath=sse -msse2 -mstackrealign -c link_overlaps.cpp -o link_overlaps.o
g++ -std=gnu++11 -I"F:/biocbuild/bbs-3.22-bioc/R/include" -DNDEBUG -I'F:/biocbuild/bbs-3.22-bioc/R/library/Rcpp/include' -I"C:/rtools45/x86_64-w64-mingw32.static.posix/include" -O2 -Wall -mfpmath=sse -msse2 -mstackrealign -c overlap_utils.cpp -o overlap_utils.o
g++ -shared -s -static-libgcc -o InteractionSet.dll tmp.def box_bounds.o detect_overlaps.o init.o link_overlaps.o overlap_utils.o -LC:/rtools45/x86_64-w64-mingw32.static.posix/lib/x64 -LC:/rtools45/x86_64-w64-mingw32.static.posix/lib -LF:/biocbuild/bbs-3.22-bioc/R/bin/x64 -lR
installing to F:/biocbuild/bbs-3.22-bioc/R/library/00LOCK-InteractionSet/00new/InteractionSet/libs/x64
** R
** inst
** byte-compile and prepare package for lazy loading
** help
*** installing help indices
** building package indices
** installing vignettes
** testing if installed package can be loaded from temporary location
** testing if installed package can be loaded from final location
** testing if installed package keeps a record of temporary installation path
* DONE (InteractionSet)