| Back to Multiple platform build/check report for BioC 3.22: simplified long |
|
This page was generated on 2025-10-25 12:04 -0400 (Sat, 25 Oct 2025).
| Hostname | OS | Arch (*) | R version | Installed pkgs |
|---|---|---|---|---|
| nebbiolo2 | Linux (Ubuntu 24.04.3 LTS) | x86_64 | 4.5.1 Patched (2025-08-23 r88802) -- "Great Square Root" | 4901 |
| lconway | macOS 12.7.6 Monterey | x86_64 | 4.5.1 Patched (2025-09-10 r88807) -- "Great Square Root" | 4691 |
| kjohnson3 | macOS 13.7.7 Ventura | arm64 | 4.5.1 Patched (2025-09-10 r88807) -- "Great Square Root" | 4637 |
| taishan | Linux (openEuler 24.03 LTS) | aarch64 | 4.5.0 (2025-04-11) -- "How About a Twenty-Six" | 4658 |
| Click on any hostname to see more info about the system (e.g. compilers) (*) as reported by 'uname -p', except on Windows and Mac OS X | ||||
| Package 995/2361 | Hostname | OS / Arch | INSTALL | BUILD | CHECK | BUILD BIN | ||||||||
| HIPPO 1.21.0 (landing page) Tae Kim
| nebbiolo2 | Linux (Ubuntu 24.04.3 LTS) / x86_64 | OK | OK | OK | |||||||||
| lconway | macOS 12.7.6 Monterey / x86_64 | OK | OK | OK | OK | |||||||||
| kjohnson3 | macOS 13.7.7 Ventura / arm64 | OK | OK | OK | OK | |||||||||
| taishan | Linux (openEuler 24.03 LTS) / aarch64 | OK | NA | NA | ||||||||||
|
To the developers/maintainers of the HIPPO package: - Allow up to 24 hours (and sometimes 48 hours) for your latest push to git@git.bioconductor.org:packages/HIPPO.git to reflect on this report. See Troubleshooting Build Report for more information. - Use the following Renviron settings to reproduce errors and warnings. - If 'R CMD check' started to fail recently on the Linux builder(s) over a missing dependency, add the missing dependency to 'Suggests:' in your DESCRIPTION file. See Renviron.bioc for more information. |
| Package: HIPPO |
| Version: 1.21.0 |
| Command: /Library/Frameworks/R.framework/Resources/bin/R CMD check --install=check:HIPPO.install-out.txt --library=/Library/Frameworks/R.framework/Resources/library --no-vignettes --timings HIPPO_1.21.0.tar.gz |
| StartedAt: 2025-10-24 21:49:59 -0400 (Fri, 24 Oct 2025) |
| EndedAt: 2025-10-24 21:53:45 -0400 (Fri, 24 Oct 2025) |
| EllapsedTime: 226.2 seconds |
| RetCode: 0 |
| Status: OK |
| CheckDir: HIPPO.Rcheck |
| Warnings: 0 |
##############################################################################
##############################################################################
###
### Running command:
###
### /Library/Frameworks/R.framework/Resources/bin/R CMD check --install=check:HIPPO.install-out.txt --library=/Library/Frameworks/R.framework/Resources/library --no-vignettes --timings HIPPO_1.21.0.tar.gz
###
##############################################################################
##############################################################################
* using log directory ‘/Users/biocbuild/bbs-3.22-bioc/meat/HIPPO.Rcheck’
* using R version 4.5.1 Patched (2025-09-10 r88807)
* using platform: x86_64-apple-darwin20
* R was compiled by
Apple clang version 14.0.0 (clang-1400.0.29.202)
GNU Fortran (GCC) 14.2.0
* running under: macOS Monterey 12.7.6
* using session charset: UTF-8
* using option ‘--no-vignettes’
* checking for file ‘HIPPO/DESCRIPTION’ ... OK
* checking extension type ... Package
* this is package ‘HIPPO’ version ‘1.21.0’
* package encoding: UTF-8
* checking package namespace information ... OK
* checking package dependencies ... OK
* checking if this is a source package ... OK
* checking if there is a namespace ... OK
* checking for hidden files and directories ... OK
* checking for portable file names ... OK
* checking for sufficient/correct file permissions ... OK
* checking whether package ‘HIPPO’ can be installed ... OK
* checking installed package size ... OK
* checking package directory ... OK
* checking DESCRIPTION meta-information ... OK
* checking top-level files ... OK
* checking for left-over files ... OK
* checking index information ... OK
* checking package subdirectories ... OK
* checking code files for non-ASCII characters ... OK
* checking R files for syntax errors ... OK
* checking whether the package can be loaded ... OK
* checking whether the package can be loaded with stated dependencies ... OK
* checking whether the package can be unloaded cleanly ... OK
* checking whether the namespace can be loaded with stated dependencies ... OK
* checking whether the namespace can be unloaded cleanly ... OK
* checking dependencies in R code ... OK
* checking S3 generic/method consistency ... OK
* checking replacement functions ... OK
* checking foreign function calls ... OK
* checking R code for possible problems ... NOTE
ensg_to_hgnc: no visible global function definition for ‘data’
ensg_to_hgnc: no visible binding for global variable ‘ensg_hgnc’
hippo: no visible global function definition for ‘is’
hippo_feature_heatmap: no visible binding for global variable ‘zvalue’
hippo_tsne_plot: no visible binding for global variable ‘K’
hippo_umap_plot: no visible binding for global variable ‘K’
preprocess_homogeneous: no visible global function definition for ‘is’
zero_proportion_plot: no visible binding for global variable ‘K’
zero_proportion_plot: no visible binding for global variable ‘zvalue’
zero_proportion_plot: no visible binding for global variable
‘featurecount’
Undefined global functions or variables:
K data ensg_hgnc featurecount is zvalue
Consider adding
importFrom("methods", "is")
importFrom("utils", "data")
to your NAMESPACE file (and ensure that your DESCRIPTION Imports field
contains 'methods').
* checking Rd files ... OK
* checking Rd metadata ... OK
* checking Rd cross-references ... OK
* checking for missing documentation entries ... OK
* checking for code/documentation mismatches ... OK
* checking Rd \usage sections ... OK
* checking Rd contents ... OK
* checking for unstated dependencies in examples ... OK
* checking contents of ‘data’ directory ... OK
* checking data for non-ASCII characters ... OK
* checking LazyData ... OK
* checking data for ASCII and uncompressed saves ... OK
* checking files in ‘vignettes’ ... OK
* checking examples ... OK
* checking for unstated dependencies in vignettes ... OK
* checking package vignettes ... OK
* checking running R code from vignettes ... SKIPPED
* checking re-building of vignette outputs ... SKIPPED
* checking PDF version of manual ... OK
* DONE
Status: 1 NOTE
See
‘/Users/biocbuild/bbs-3.22-bioc/meat/HIPPO.Rcheck/00check.log’
for details.
HIPPO.Rcheck/00install.out
############################################################################## ############################################################################## ### ### Running command: ### ### /Library/Frameworks/R.framework/Resources/bin/R CMD INSTALL HIPPO ### ############################################################################## ############################################################################## * installing to library ‘/Library/Frameworks/R.framework/Versions/4.5-x86_64/Resources/library’ * installing *source* package ‘HIPPO’ ... ** this is package ‘HIPPO’ version ‘1.21.0’ ** using staged installation ** R ** data *** moving datasets to lazyload DB ** byte-compile and prepare package for lazy loading ** help *** installing help indices ** building package indices ** installing vignettes ** testing if installed package can be loaded from temporary location ** testing if installed package can be loaded from final location ** testing if installed package keeps a record of temporary installation path * DONE (HIPPO)
HIPPO.Rcheck/HIPPO-Ex.timings
| name | user | system | elapsed | |
| get_data_from_sce | 0.118 | 0.011 | 0.128 | |
| get_hippo | 0.790 | 0.020 | 0.814 | |
| get_hippo_diffexp | 1.722 | 0.052 | 1.791 | |
| hippo | 0.201 | 0.024 | 0.226 | |
| hippo_diagnostic_plot | 0.474 | 0.027 | 0.504 | |
| hippo_diffexp | 0.981 | 0.034 | 1.023 | |
| hippo_dimension_reduction | 1.490 | 0.067 | 1.574 | |
| hippo_feature_heatmap | 0.538 | 0.028 | 0.572 | |
| hippo_pca_plot | 0.584 | 0.017 | 0.608 | |
| hippo_tsne_plot | 0.812 | 0.049 | 0.870 | |
| hippo_umap_plot | 1.244 | 0.061 | 1.319 | |
| nb_prob_zero | 0.000 | 0.001 | 0.000 | |
| pois_prob_zero | 0 | 0 | 0 | |
| preprocess_heterogeneous | 0.725 | 0.031 | 0.760 | |
| preprocess_homogeneous | 0.070 | 0.012 | 0.082 | |
| zero_proportion_plot | 0.935 | 0.051 | 0.997 | |
| zinb_prob_zero | 0 | 0 | 0 | |