| Back to Multiple platform build/check report for BioC 3.22: simplified long |
|
This page was generated on 2025-08-15 12:06 -0400 (Fri, 15 Aug 2025).
| Hostname | OS | Arch (*) | R version | Installed pkgs |
|---|---|---|---|---|
| nebbiolo2 | Linux (Ubuntu 24.04.3 LTS) | x86_64 | 4.5.1 (2025-06-13) -- "Great Square Root" | 4818 |
| palomino8 | Windows Server 2022 Datacenter | x64 | 4.5.1 (2025-06-13 ucrt) -- "Great Square Root" | 4554 |
| lconway | macOS 12.7.1 Monterey | x86_64 | 4.5.1 (2025-06-13) -- "Great Square Root" | 4595 |
| kjohnson3 | macOS 13.7.7 Ventura | arm64 | 4.5.1 Patched (2025-06-14 r88325) -- "Great Square Root" | 4537 |
| taishan | Linux (openEuler 24.03 LTS) | aarch64 | 4.5.0 (2025-04-11) -- "How About a Twenty-Six" | 4535 |
| Click on any hostname to see more info about the system (e.g. compilers) (*) as reported by 'uname -p', except on Windows and Mac OS X | ||||
| Package 944/2317 | Hostname | OS / Arch | INSTALL | BUILD | CHECK | BUILD BIN | ||||||||
| HDF5Array 1.37.0 (landing page) Hervé Pagès
| nebbiolo2 | Linux (Ubuntu 24.04.3 LTS) / x86_64 | OK | OK | OK | |||||||||
| palomino8 | Windows Server 2022 Datacenter / x64 | OK | OK | ERROR | OK | |||||||||
| lconway | macOS 12.7.1 Monterey / x86_64 | OK | OK | OK | OK | |||||||||
| kjohnson3 | macOS 13.7.7 Ventura / arm64 | OK | OK | OK | OK | |||||||||
| taishan | Linux (openEuler 24.03 LTS) / aarch64 | OK | ERROR | skipped | ||||||||||
|
To the developers/maintainers of the HDF5Array package: - Allow up to 24 hours (and sometimes 48 hours) for your latest push to git@git.bioconductor.org:packages/HDF5Array.git to reflect on this report. See Troubleshooting Build Report for more information. - Use the following Renviron settings to reproduce errors and warnings. - If 'R CMD check' started to fail recently on the Linux builder(s) over a missing dependency, add the missing dependency to 'Suggests:' in your DESCRIPTION file. See Renviron.bioc for more information. |
| Package: HDF5Array |
| Version: 1.37.0 |
| Command: F:\biocbuild\bbs-3.22-bioc\R\bin\R.exe CMD check --no-multiarch --install=check:HDF5Array.install-out.txt --library=F:\biocbuild\bbs-3.22-bioc\R\library --no-vignettes --timings HDF5Array_1.37.0.tar.gz |
| StartedAt: 2025-08-15 04:02:43 -0400 (Fri, 15 Aug 2025) |
| EndedAt: 2025-08-15 04:09:50 -0400 (Fri, 15 Aug 2025) |
| EllapsedTime: 426.5 seconds |
| RetCode: 1 |
| Status: ERROR |
| CheckDir: HDF5Array.Rcheck |
| Warnings: NA |
##############################################################################
##############################################################################
###
### Running command:
###
### F:\biocbuild\bbs-3.22-bioc\R\bin\R.exe CMD check --no-multiarch --install=check:HDF5Array.install-out.txt --library=F:\biocbuild\bbs-3.22-bioc\R\library --no-vignettes --timings HDF5Array_1.37.0.tar.gz
###
##############################################################################
##############################################################################
* using log directory 'F:/biocbuild/bbs-3.22-bioc/meat/HDF5Array.Rcheck'
* using R version 4.5.1 (2025-06-13 ucrt)
* using platform: x86_64-w64-mingw32
* R was compiled by
gcc.exe (GCC) 14.2.0
GNU Fortran (GCC) 14.2.0
* running under: Windows Server 2022 x64 (build 20348)
* using session charset: UTF-8
* using option '--no-vignettes'
* checking for file 'HDF5Array/DESCRIPTION' ... OK
* this is package 'HDF5Array' version '1.37.0'
* package encoding: UTF-8
* checking package namespace information ... OK
* checking package dependencies ... OK
* checking if this is a source package ... OK
* checking if there is a namespace ... OK
* checking for hidden files and directories ... NOTE
Found the following hidden files and directories:
.BBSoptions
These were most likely included in error. See section 'Package
structure' in the 'Writing R Extensions' manual.
* checking for portable file names ... OK
* checking whether package 'HDF5Array' can be installed ... OK
* checking installed package size ... INFO
installed size is 9.0Mb
sub-directories of 1Mb or more:
extdata 7.7Mb
* checking package directory ... OK
* checking 'build' directory ... OK
* checking DESCRIPTION meta-information ... OK
* checking top-level files ... OK
* checking for left-over files ... OK
* checking index information ... OK
* checking package subdirectories ... OK
* checking code files for non-ASCII characters ... OK
* checking R files for syntax errors ... OK
* checking whether the package can be loaded ... OK
* checking whether the package can be loaded with stated dependencies ... OK
* checking whether the package can be unloaded cleanly ... OK
* checking whether the namespace can be loaded with stated dependencies ... OK
* checking whether the namespace can be unloaded cleanly ... OK
* checking whether startup messages can be suppressed ... OK
* checking dependencies in R code ... OK
* checking S3 generic/method consistency ... OK
* checking replacement functions ... OK
* checking foreign function calls ... OK
* checking R code for possible problems ... OK
* checking Rd files ... OK
* checking Rd metadata ... OK
* checking Rd cross-references ... NOTE
Found the following Rd file(s) with Rd \link{} targets missing package
anchors:
H5SparseMatrix-class.Rd: h5ls
H5SparseMatrixSeed-class.Rd: h5ls
HDF5Array-class.Rd: H5File, h5ls
HDF5ArraySeed-class.Rd: h5ls
ReshapedHDF5Array-class.Rd: h5ls
ReshapedHDF5ArraySeed-class.Rd: h5ls
TENxMatrix-class.Rd: h5ls
TENxMatrixSeed-class.Rd: h5ls
dump-management.Rd: h5createDataset, h5ls
writeHDF5Array.Rd: DelayedArray, h5writeDimnames, h5ls
writeTENxMatrix.Rd: DelayedMatrix, h5ls
Please provide package anchors for all Rd \link{} targets not in the
package itself and the base packages.
* checking for missing documentation entries ... OK
* checking for code/documentation mismatches ... OK
* checking Rd \usage sections ... OK
* checking Rd contents ... OK
* checking for unstated dependencies in examples ... OK
* checking files in 'vignettes' ... OK
* checking examples ... OK
Examples with CPU (user + system) or elapsed time > 5s
user system elapsed
TENxMatrix-class 34.61 7.69 183.24
writeTENxMatrix 20.72 1.72 24.39
HDF5Array-class 2.59 0.31 6.38
* checking for unstated dependencies in 'tests' ... OK
* checking tests ...
Running 'run_unitTests.R'
ERROR
Running the tests in 'tests/run_unitTests.R' failed.
Last 13 lines of output:
ERROR in test_Dense_H5ADMatrixSeed: Error in pyenv_python(version = version) :
Python 3.13.3 does not appear to be installed.
Try installing it with install_python(version = "3.13.3").
Test files with failing tests
test_H5ADMatrixSeed-class.R
test_CSR_H5ADMatrixSeed
test_Dense_H5ADMatrixSeed
Error in BiocGenerics:::testPackage("HDF5Array") :
unit tests failed for package HDF5Array
Calls: <Anonymous> -> <Anonymous>
Execution halted
* checking for unstated dependencies in vignettes ... OK
* checking package vignettes ... OK
* checking running R code from vignettes ... SKIPPED
* checking re-building of vignette outputs ... SKIPPED
* checking PDF version of manual ... OK
* DONE
Status: 1 ERROR, 2 NOTEs
See
'F:/biocbuild/bbs-3.22-bioc/meat/HDF5Array.Rcheck/00check.log'
for details.
HDF5Array.Rcheck/00install.out
############################################################################## ############################################################################## ### ### Running command: ### ### F:\biocbuild\bbs-3.22-bioc\R\bin\R.exe CMD INSTALL HDF5Array ### ############################################################################## ############################################################################## * installing to library 'F:/biocbuild/bbs-3.22-bioc/R/library' * installing *source* package 'HDF5Array' ... ** this is package 'HDF5Array' version '1.37.0' ** using staged installation ** R ** inst ** byte-compile and prepare package for lazy loading ** help *** installing help indices ** building package indices ** installing vignettes ** testing if installed package can be loaded from temporary location ** testing if installed package can be loaded from final location ** testing if installed package keeps a record of temporary installation path * DONE (HDF5Array)
HDF5Array.Rcheck/tests/run_unitTests.Rout.fail
R version 4.5.1 (2025-06-13 ucrt) -- "Great Square Root"
Copyright (C) 2025 The R Foundation for Statistical Computing
Platform: x86_64-w64-mingw32/x64
R is free software and comes with ABSOLUTELY NO WARRANTY.
You are welcome to redistribute it under certain conditions.
Type 'license()' or 'licence()' for distribution details.
R is a collaborative project with many contributors.
Type 'contributors()' for more information and
'citation()' on how to cite R or R packages in publications.
Type 'demo()' for some demos, 'help()' for on-line help, or
'help.start()' for an HTML browser interface to help.
Type 'q()' to quit R.
> require("HDF5Array") || stop("unable to load HDF5Array package")
Loading required package: HDF5Array
Loading required package: SparseArray
Loading required package: Matrix
Loading required package: BiocGenerics
Loading required package: generics
Attaching package: 'generics'
The following objects are masked from 'package:base':
as.difftime, as.factor, as.ordered, intersect, is.element, setdiff,
setequal, union
Attaching package: 'BiocGenerics'
The following objects are masked from 'package:stats':
IQR, mad, sd, var, xtabs
The following objects are masked from 'package:base':
Filter, Find, Map, Position, Reduce, anyDuplicated, aperm, append,
as.data.frame, basename, cbind, colnames, dirname, do.call,
duplicated, eval, evalq, get, grep, grepl, is.unsorted, lapply,
mapply, match, mget, order, paste, pmax, pmax.int, pmin, pmin.int,
rank, rbind, rownames, sapply, saveRDS, table, tapply, unique,
unsplit, which.max, which.min
Loading required package: MatrixGenerics
Loading required package: matrixStats
Attaching package: 'MatrixGenerics'
The following objects are masked from 'package:matrixStats':
colAlls, colAnyNAs, colAnys, colAvgsPerRowSet, colCollapse,
colCounts, colCummaxs, colCummins, colCumprods, colCumsums,
colDiffs, colIQRDiffs, colIQRs, colLogSumExps, colMadDiffs,
colMads, colMaxs, colMeans2, colMedians, colMins, colOrderStats,
colProds, colQuantiles, colRanges, colRanks, colSdDiffs, colSds,
colSums2, colTabulates, colVarDiffs, colVars, colWeightedMads,
colWeightedMeans, colWeightedMedians, colWeightedSds,
colWeightedVars, rowAlls, rowAnyNAs, rowAnys, rowAvgsPerColSet,
rowCollapse, rowCounts, rowCummaxs, rowCummins, rowCumprods,
rowCumsums, rowDiffs, rowIQRDiffs, rowIQRs, rowLogSumExps,
rowMadDiffs, rowMads, rowMaxs, rowMeans2, rowMedians, rowMins,
rowOrderStats, rowProds, rowQuantiles, rowRanges, rowRanks,
rowSdDiffs, rowSds, rowSums2, rowTabulates, rowVarDiffs, rowVars,
rowWeightedMads, rowWeightedMeans, rowWeightedMedians,
rowWeightedSds, rowWeightedVars
Loading required package: S4Vectors
Loading required package: stats4
Attaching package: 'S4Vectors'
The following objects are masked from 'package:Matrix':
expand, unname
The following object is masked from 'package:utils':
findMatches
The following objects are masked from 'package:base':
I, expand.grid, unname
Loading required package: S4Arrays
Loading required package: abind
Loading required package: IRanges
Attaching package: 'IRanges'
The following object is masked from 'package:grDevices':
windows
Attaching package: 'S4Arrays'
The following object is masked from 'package:abind':
abind
The following object is masked from 'package:base':
rowsum
Loading required package: DelayedArray
Attaching package: 'DelayedArray'
The following objects are masked from 'package:base':
apply, scale, sweep
Loading required package: h5mread
Loading required package: rhdf5
Attaching package: 'h5mread'
The following object is masked from 'package:rhdf5':
h5ls
[1] TRUE
> HDF5Array:::.test()
Loading required package: SummarizedExperiment
Loading required package: GenomicRanges
Loading required package: Seqinfo
Loading required package: Biobase
Welcome to Bioconductor
Vignettes contain introductory material; view with
'browseVignettes()'. To cite Bioconductor, see
'citation("Biobase")', and for packages 'citation("pkgname")'.
Attaching package: 'Biobase'
The following object is masked from 'package:SparseArray':
rowMedians
The following object is masked from 'package:MatrixGenerics':
rowMedians
The following objects are masked from 'package:matrixStats':
anyMissing, rowMedians
:: [Info] :: Mirror: https://www.python.org/ftp/python
:: [Info] :: Mirror: https://downloads.python.org/pypy/versions.json
:: [Info] :: Mirror: https://api.github.com/repos/oracle/graalpython/releases
:: [Installing] :: 3.13.3 ...
:: [Error] :: error installing "core" component MSI.
:: [Error] :: couldn't install 3.13.3
Timing stopped at: 0.22 0.1 4.64
Error in pyenv_python(version = version) :
Python 3.13.3 does not appear to be installed.
Try installing it with install_python(version = "3.13.3").
:: [Info] :: Mirror: https://www.python.org/ftp/python
:: [Info] :: Mirror: https://downloads.python.org/pypy/versions.json
:: [Info] :: Mirror: https://api.github.com/repos/oracle/graalpython/releases
:: [Installing] :: 3.13.3 ...
:: [Error] :: error installing "core" component MSI.
:: [Error] :: couldn't install 3.13.3
Timing stopped at: 0.11 0.09 2.02
Error in pyenv_python(version = version) :
Python 3.13.3 does not appear to be installed.
Try installing it with install_python(version = "3.13.3").
automatic block size set to 77 bytes (was 1e+08)
automatic block size set to 1e+08 bytes (was 77)
automatic block size set to 77 bytes (was 1e+08)
automatic block size set to 1e+08 bytes (was 77)
RUNIT TEST PROTOCOL -- Fri Aug 15 04:09:38 2025
***********************************************
Number of test functions: 5
Number of errors: 2
Number of failures: 0
1 Test Suite :
HDF5Array RUnit Tests - 5 test functions, 2 errors, 0 failures
ERROR in test_CSR_H5ADMatrixSeed: Error in pyenv_python(version = version) :
Python 3.13.3 does not appear to be installed.
Try installing it with install_python(version = "3.13.3").
ERROR in test_Dense_H5ADMatrixSeed: Error in pyenv_python(version = version) :
Python 3.13.3 does not appear to be installed.
Try installing it with install_python(version = "3.13.3").
Test files with failing tests
test_H5ADMatrixSeed-class.R
test_CSR_H5ADMatrixSeed
test_Dense_H5ADMatrixSeed
Error in BiocGenerics:::testPackage("HDF5Array") :
unit tests failed for package HDF5Array
Calls: <Anonymous> -> <Anonymous>
Execution halted
HDF5Array.Rcheck/HDF5Array-Ex.timings
| name | user | system | elapsed | |
| H5ADMatrix-class | 3.66 | 0.21 | 4.03 | |
| H5ADMatrixSeed-class | 0.10 | 0.01 | 0.11 | |
| H5SparseMatrix-class | 0.58 | 0.24 | 0.84 | |
| H5SparseMatrixSeed-class | 0 | 0 | 0 | |
| HDF5Array-class | 2.59 | 0.31 | 6.38 | |
| HDF5ArraySeed-class | 0.13 | 0.05 | 0.17 | |
| ReshapedHDF5Array-class | 0.17 | 0.02 | 0.19 | |
| ReshapedHDF5ArraySeed-class | 0.06 | 0.03 | 0.09 | |
| TENxMatrix-class | 34.61 | 7.69 | 183.24 | |
| TENxMatrixSeed-class | 3.02 | 0.59 | 3.98 | |
| dump-management | 0.53 | 0.17 | 1.22 | |
| saveHDF5SummarizedExperiment | 1.20 | 0.14 | 1.53 | |
| writeHDF5Array | 0.61 | 0.20 | 1.25 | |
| writeTENxMatrix | 20.72 | 1.72 | 24.39 | |