| Back to Multiple platform build/check report for BioC 3.22: simplified long |
|
This page was generated on 2025-10-25 12:06 -0400 (Sat, 25 Oct 2025).
| Hostname | OS | Arch (*) | R version | Installed pkgs |
|---|---|---|---|---|
| nebbiolo2 | Linux (Ubuntu 24.04.3 LTS) | x86_64 | 4.5.1 Patched (2025-08-23 r88802) -- "Great Square Root" | 4901 |
| lconway | macOS 12.7.6 Monterey | x86_64 | 4.5.1 Patched (2025-09-10 r88807) -- "Great Square Root" | 4691 |
| kjohnson3 | macOS 13.7.7 Ventura | arm64 | 4.5.1 Patched (2025-09-10 r88807) -- "Great Square Root" | 4637 |
| taishan | Linux (openEuler 24.03 LTS) | aarch64 | 4.5.0 (2025-04-11) -- "How About a Twenty-Six" | 4658 |
| Click on any hostname to see more info about the system (e.g. compilers) (*) as reported by 'uname -p', except on Windows and Mac OS X | ||||
| Package 838/2361 | Hostname | OS / Arch | INSTALL | BUILD | CHECK | BUILD BIN | ||||||||
| GenomAutomorphism 1.11.2 (landing page) Robersy Sanchez
| nebbiolo2 | Linux (Ubuntu 24.04.3 LTS) / x86_64 | OK | OK | OK | |||||||||
| lconway | macOS 12.7.6 Monterey / x86_64 | OK | OK | OK | OK | |||||||||
| kjohnson3 | macOS 13.7.7 Ventura / arm64 | OK | OK | OK | OK | |||||||||
| taishan | Linux (openEuler 24.03 LTS) / aarch64 | OK | NA | NA | ||||||||||
|
To the developers/maintainers of the GenomAutomorphism package: - Allow up to 24 hours (and sometimes 48 hours) for your latest push to git@git.bioconductor.org:packages/GenomAutomorphism.git to reflect on this report. See Troubleshooting Build Report for more information. - Use the following Renviron settings to reproduce errors and warnings. - If 'R CMD check' started to fail recently on the Linux builder(s) over a missing dependency, add the missing dependency to 'Suggests:' in your DESCRIPTION file. See Renviron.bioc for more information. |
| Package: GenomAutomorphism |
| Version: 1.11.2 |
| Command: /Library/Frameworks/R.framework/Resources/bin/R CMD check --install=check:GenomAutomorphism.install-out.txt --library=/Library/Frameworks/R.framework/Resources/library --no-vignettes --timings GenomAutomorphism_1.11.2.tar.gz |
| StartedAt: 2025-10-24 19:54:49 -0400 (Fri, 24 Oct 2025) |
| EndedAt: 2025-10-24 19:57:05 -0400 (Fri, 24 Oct 2025) |
| EllapsedTime: 135.6 seconds |
| RetCode: 0 |
| Status: OK |
| CheckDir: GenomAutomorphism.Rcheck |
| Warnings: 0 |
##############################################################################
##############################################################################
###
### Running command:
###
### /Library/Frameworks/R.framework/Resources/bin/R CMD check --install=check:GenomAutomorphism.install-out.txt --library=/Library/Frameworks/R.framework/Resources/library --no-vignettes --timings GenomAutomorphism_1.11.2.tar.gz
###
##############################################################################
##############################################################################
* using log directory ‘/Users/biocbuild/bbs-3.22-bioc/meat/GenomAutomorphism.Rcheck’
* using R version 4.5.1 Patched (2025-09-10 r88807)
* using platform: aarch64-apple-darwin20
* R was compiled by
Apple clang version 16.0.0 (clang-1600.0.26.6)
GNU Fortran (GCC) 14.2.0
* running under: macOS Ventura 13.7.7
* using session charset: UTF-8
* using option ‘--no-vignettes’
* checking for file ‘GenomAutomorphism/DESCRIPTION’ ... OK
* this is package ‘GenomAutomorphism’ version ‘1.11.2’
* package encoding: UTF-8
* checking package namespace information ... OK
* checking package dependencies ... OK
* checking if this is a source package ... OK
* checking if there is a namespace ... OK
* checking for hidden files and directories ... OK
* checking for portable file names ... OK
* checking for sufficient/correct file permissions ... OK
* checking whether package ‘GenomAutomorphism’ can be installed ... OK
* checking installed package size ... OK
* checking package directory ... OK
* checking ‘build’ directory ... OK
* checking DESCRIPTION meta-information ... OK
* checking top-level files ... OK
* checking for left-over files ... OK
* checking index information ... OK
* checking package subdirectories ... OK
* checking code files for non-ASCII characters ... OK
* checking R files for syntax errors ... OK
* checking whether the package can be loaded ... OK
* checking whether the package can be loaded with stated dependencies ... OK
* checking whether the package can be unloaded cleanly ... OK
* checking whether the namespace can be loaded with stated dependencies ... OK
* checking whether the namespace can be unloaded cleanly ... OK
* checking dependencies in R code ... OK
* checking S3 generic/method consistency ... OK
* checking replacement functions ... OK
* checking foreign function calls ... OK
* checking R code for possible problems ... OK
* checking Rd files ... OK
* checking Rd metadata ... OK
* checking Rd cross-references ... NOTE
Non-topic package-anchored link(s) in Rd file 'reexports.Rd':
‘[S4Vectors:S4Vectors-internals]{setValidity2}’
See section 'Cross-references' in the 'Writing R Extensions' manual.
* checking for missing documentation entries ... OK
* checking for code/documentation mismatches ... OK
* checking Rd \usage sections ... OK
* checking Rd contents ... OK
* checking for unstated dependencies in examples ... OK
* checking contents of ‘data’ directory ... OK
* checking data for non-ASCII characters ... OK
* checking data for ASCII and uncompressed saves ... OK
* checking files in ‘vignettes’ ... OK
* checking examples ... OK
Examples with CPU (user + system) or elapsed time > 5s
user system elapsed
automorphisms 2.537 0.064 20.546
autZ64 0.868 0.020 6.925
aut3D 0.760 0.051 6.699
autZ125 0.783 0.015 5.637
autZ5 0.568 0.020 6.578
* checking for unstated dependencies in ‘tests’ ... OK
* checking tests ...
Running ‘spelling.R’
Running ‘testthat.R’
OK
* checking for unstated dependencies in vignettes ... OK
* checking package vignettes ... OK
* checking running R code from vignettes ... SKIPPED
* checking re-building of vignette outputs ... SKIPPED
* checking PDF version of manual ... OK
* DONE
Status: 1 NOTE
See
‘/Users/biocbuild/bbs-3.22-bioc/meat/GenomAutomorphism.Rcheck/00check.log’
for details.
GenomAutomorphism.Rcheck/00install.out
############################################################################## ############################################################################## ### ### Running command: ### ### /Library/Frameworks/R.framework/Resources/bin/R CMD INSTALL GenomAutomorphism ### ############################################################################## ############################################################################## * installing to library ‘/Library/Frameworks/R.framework/Versions/4.5-arm64/Resources/library’ * installing *source* package ‘GenomAutomorphism’ ... ** this is package ‘GenomAutomorphism’ version ‘1.11.2’ ** using staged installation ** R ** data ** inst ** byte-compile and prepare package for lazy loading ** help *** installing help indices *** copying figures ** building package indices ** installing vignettes ** testing if installed package can be loaded from temporary location ** testing if installed package can be loaded from final location ** testing if installed package keeps a record of temporary installation path * DONE (GenomAutomorphism)
GenomAutomorphism.Rcheck/tests/spelling.Rout
R version 4.5.1 Patched (2025-09-10 r88807) -- "Great Square Root"
Copyright (C) 2025 The R Foundation for Statistical Computing
Platform: aarch64-apple-darwin20
R is free software and comes with ABSOLUTELY NO WARRANTY.
You are welcome to redistribute it under certain conditions.
Type 'license()' or 'licence()' for distribution details.
R is a collaborative project with many contributors.
Type 'contributors()' for more information and
'citation()' on how to cite R or R packages in publications.
Type 'demo()' for some demos, 'help()' for on-line help, or
'help.start()' for an HTML browser interface to help.
Type 'q()' to quit R.
> if (requireNamespace("spelling", quietly = TRUE)) {
+ spelling::spell_check_test(
+ vignettes = TRUE, error = FALSE,
+ skip_on_cran = TRUE
+ )
+ }
All Done!
>
> proc.time()
user system elapsed
0.067 0.020 0.084
GenomAutomorphism.Rcheck/tests/testthat.Rout
R version 4.5.1 Patched (2025-09-10 r88807) -- "Great Square Root"
Copyright (C) 2025 The R Foundation for Statistical Computing
Platform: aarch64-apple-darwin20
R is free software and comes with ABSOLUTELY NO WARRANTY.
You are welcome to redistribute it under certain conditions.
Type 'license()' or 'licence()' for distribution details.
R is a collaborative project with many contributors.
Type 'contributors()' for more information and
'citation()' on how to cite R or R packages in publications.
Type 'demo()' for some demos, 'help()' for on-line help, or
'help.start()' for an HTML browser interface to help.
Type 'q()' to quit R.
> library(testthat)
> library(GenomAutomorphism)
>
> test_check("GenomAutomorphism")
[ FAIL 0 | WARN 0 | SKIP 0 | PASS 34 ]
>
> proc.time()
user system elapsed
9.041 0.381 24.923
GenomAutomorphism.Rcheck/GenomAutomorphism-Ex.timings
| name | user | system | elapsed | |
| AutomorphismByCoef | 0.139 | 0.003 | 0.141 | |
| AutomorphismList | 0.862 | 0.008 | 0.869 | |
| CodonMatrix | 0.052 | 0.002 | 0.054 | |
| CodonSeq | 0.115 | 0.005 | 0.120 | |
| GRangesMatrixSeq | 0.068 | 0.005 | 0.073 | |
| ListCodonMatrix | 0.065 | 0.001 | 0.066 | |
| MatrixSeq | 0.042 | 0.002 | 0.044 | |
| aa_phychem_index | 0.038 | 0.003 | 0.042 | |
| aaindex1 | 0.014 | 0.001 | 0.015 | |
| aaindex2 | 0.006 | 0.001 | 0.007 | |
| aaindex3 | 0.004 | 0.000 | 0.005 | |
| aln | 0.023 | 0.001 | 0.023 | |
| aminoacid_dist | 1.187 | 0.398 | 3.427 | |
| as.AutomorphismList | 0.185 | 0.027 | 0.213 | |
| aut3D | 0.760 | 0.051 | 6.699 | |
| autZ125 | 0.783 | 0.015 | 5.637 | |
| autZ5 | 0.568 | 0.020 | 6.578 | |
| autZ64 | 0.868 | 0.020 | 6.925 | |
| autby_coef | 0.104 | 0.003 | 0.107 | |
| autm | 0.014 | 0.000 | 0.015 | |
| autm_3d | 0.018 | 0.001 | 0.018 | |
| autm_z125 | 0.016 | 0.001 | 0.017 | |
| automorphismByRanges | 0.033 | 0.003 | 0.037 | |
| automorphism_bycoef | 0.028 | 0.001 | 0.030 | |
| automorphism_prob | 0.325 | 0.015 | 0.342 | |
| automorphisms | 2.537 | 0.064 | 20.546 | |
| base2codon | 0.021 | 0.003 | 0.025 | |
| base2int | 0.003 | 0.000 | 0.003 | |
| base_methods | 0.125 | 0.016 | 0.142 | |
| brca1_aln | 0.019 | 0.003 | 0.022 | |
| brca1_aln2 | 0.021 | 0.002 | 0.024 | |
| brca1_autm | 0.150 | 0.003 | 0.153 | |
| cdm_z64 | 0.065 | 0.145 | 0.215 | |
| codon_coord | 0.360 | 0.006 | 0.366 | |
| codon_dist | 0.081 | 0.001 | 0.083 | |
| codon_dist_matrix | 0.014 | 0.004 | 2.147 | |
| codon_matrix | 0.166 | 0.005 | 0.171 | |
| conserved_regions | 0.102 | 0.001 | 0.103 | |
| covid_aln | 0.023 | 0.001 | 0.024 | |
| covid_autm | 0.016 | 0.000 | 0.016 | |
| cyc_aln | 0.029 | 0.002 | 0.031 | |
| cyc_autm | 0.023 | 0.001 | 0.024 | |
| dna_phyche | 0.002 | 0.001 | 0.002 | |
| dna_phychem | 0.001 | 0.000 | 0.001 | |
| extract-methods | 0.172 | 0.002 | 0.176 | |
| getAutomorphisms | 0.051 | 0.002 | 0.055 | |
| get_coord | 0.204 | 0.002 | 0.207 | |
| get_mutscore | 0.060 | 0.003 | 0.062 | |
| matrices | 0.209 | 0.007 | 0.219 | |
| mod | 0.001 | 0.001 | 0.001 | |
| modeq | 0 | 0 | 0 | |
| modlineq | 0.000 | 0.000 | 0.001 | |
| mut_type | 0.001 | 0.000 | 0.000 | |
| peptide_phychem_index | 0.045 | 0.002 | 0.047 | |
| reexports | 0.024 | 0.001 | 0.025 | |
| seqranges | 0.220 | 0.002 | 0.226 | |
| slapply | 0.001 | 0.000 | 0.000 | |
| sortByChromAndStart | 0.017 | 0.000 | 0.017 | |
| str2chr | 0 | 0 | 0 | |
| str2dig | 0 | 0 | 0 | |
| translation | 0.346 | 0.004 | 0.350 | |