| Back to Multiple platform build/check report for BioC 3.22: simplified long |
|
This page was generated on 2025-08-15 12:06 -0400 (Fri, 15 Aug 2025).
| Hostname | OS | Arch (*) | R version | Installed pkgs |
|---|---|---|---|---|
| nebbiolo2 | Linux (Ubuntu 24.04.3 LTS) | x86_64 | 4.5.1 (2025-06-13) -- "Great Square Root" | 4818 |
| palomino8 | Windows Server 2022 Datacenter | x64 | 4.5.1 (2025-06-13 ucrt) -- "Great Square Root" | 4554 |
| lconway | macOS 12.7.1 Monterey | x86_64 | 4.5.1 (2025-06-13) -- "Great Square Root" | 4595 |
| kjohnson3 | macOS 13.7.7 Ventura | arm64 | 4.5.1 Patched (2025-06-14 r88325) -- "Great Square Root" | 4537 |
| taishan | Linux (openEuler 24.03 LTS) | aarch64 | 4.5.0 (2025-04-11) -- "How About a Twenty-Six" | 4535 |
| Click on any hostname to see more info about the system (e.g. compilers) (*) as reported by 'uname -p', except on Windows and Mac OS X | ||||
| Package 817/2317 | Hostname | OS / Arch | INSTALL | BUILD | CHECK | BUILD BIN | ||||||||
| GeneticsPed 1.71.0 (landing page) David Henderson
| nebbiolo2 | Linux (Ubuntu 24.04.3 LTS) / x86_64 | OK | OK | WARNINGS | |||||||||
| palomino8 | Windows Server 2022 Datacenter / x64 | OK | OK | WARNINGS | OK | |||||||||
| lconway | macOS 12.7.1 Monterey / x86_64 | OK | OK | WARNINGS | OK | |||||||||
| kjohnson3 | macOS 13.7.7 Ventura / arm64 | OK | OK | WARNINGS | OK | |||||||||
| taishan | Linux (openEuler 24.03 LTS) / aarch64 | OK | OK | WARNINGS | ||||||||||
|
To the developers/maintainers of the GeneticsPed package: - Allow up to 24 hours (and sometimes 48 hours) for your latest push to git@git.bioconductor.org:packages/GeneticsPed.git to reflect on this report. See Troubleshooting Build Report for more information. - Use the following Renviron settings to reproduce errors and warnings. - If 'R CMD check' started to fail recently on the Linux builder(s) over a missing dependency, add the missing dependency to 'Suggests:' in your DESCRIPTION file. See Renviron.bioc for more information. |
| Package: GeneticsPed |
| Version: 1.71.0 |
| Command: rm -rf GeneticsPed.buildbin-libdir && mkdir GeneticsPed.buildbin-libdir && F:\biocbuild\bbs-3.22-bioc\R\bin\R.exe CMD INSTALL --build --library=GeneticsPed.buildbin-libdir GeneticsPed_1.71.0.tar.gz |
| StartedAt: 2025-08-15 10:20:36 -0400 (Fri, 15 Aug 2025) |
| EndedAt: 2025-08-15 10:21:16 -0400 (Fri, 15 Aug 2025) |
| EllapsedTime: 40.3 seconds |
| RetCode: 0 |
| Status: OK |
| PackageFile: GeneticsPed_1.71.0.zip |
| PackageFileSize: 848.3 KiB |
##############################################################################
##############################################################################
###
### Running command:
###
### rm -rf GeneticsPed.buildbin-libdir && mkdir GeneticsPed.buildbin-libdir && F:\biocbuild\bbs-3.22-bioc\R\bin\R.exe CMD INSTALL --build --library=GeneticsPed.buildbin-libdir GeneticsPed_1.71.0.tar.gz
###
##############################################################################
##############################################################################
* installing *source* package 'GeneticsPed' ...
** this is package 'GeneticsPed' version '1.71.0'
** using staged installation
** libs
using C compiler: 'gcc.exe (GCC) 14.2.0'
using Fortran compiler: 'GNU Fortran (GCC) 14.2.0'
using C++ compiler: 'G__~1.EXE (GCC) 14.2.0'
g++ -std=gnu++17 -I"F:/biocbuild/bbs-3.22-bioc/R/include" -DNDEBUG -I"C:/rtools45/x86_64-w64-mingw32.static.posix/include" -O2 -Wall -mfpmath=sse -msse2 -mstackrealign -c ainverse.cc -o ainverse.o
g++ -std=gnu++17 -I"F:/biocbuild/bbs-3.22-bioc/R/include" -DNDEBUG -I"C:/rtools45/x86_64-w64-mingw32.static.posix/include" -O2 -Wall -mfpmath=sse -msse2 -mstackrealign -c eibd.cc -o eibd.o
gfortran -O2 -mfpmath=sse -msse2 -mstackrealign -c ggmatmult.f -o ggmatmult.o
gfortran -O2 -mfpmath=sse -msse2 -mstackrealign -c gpi.f -o gpi.o
g++ -std=gnu++17 -I"F:/biocbuild/bbs-3.22-bioc/R/include" -DNDEBUG -I"C:/rtools45/x86_64-w64-mingw32.static.posix/include" -O2 -Wall -mfpmath=sse -msse2 -mstackrealign -c inbreed.cc -o inbreed.o
g++ -std=gnu++17 -I"F:/biocbuild/bbs-3.22-bioc/R/include" -DNDEBUG -I"C:/rtools45/x86_64-w64-mingw32.static.posix/include" -O2 -Wall -mfpmath=sse -msse2 -mstackrealign -c inverseAdditive.cc -o inverseAdditive.o
g++ -std=gnu++17 -I"F:/biocbuild/bbs-3.22-bioc/R/include" -DNDEBUG -I"C:/rtools45/x86_64-w64-mingw32.static.posix/include" -O2 -Wall -mfpmath=sse -msse2 -mstackrealign -c meuwissen.cc -o meuwissen.o
g++ -std=gnu++17 -I"F:/biocbuild/bbs-3.22-bioc/R/include" -DNDEBUG -I"C:/rtools45/x86_64-w64-mingw32.static.posix/include" -O2 -Wall -mfpmath=sse -msse2 -mstackrealign -c pedSort.cc -o pedSort.o
g++ -std=gnu++17 -I"F:/biocbuild/bbs-3.22-bioc/R/include" -DNDEBUG -I"C:/rtools45/x86_64-w64-mingw32.static.posix/include" -O2 -Wall -mfpmath=sse -msse2 -mstackrealign -c pedtemplate.cc -o pedtemplate.o
pedtemplate.cc: In member function 'void Pedigree::ShowPed()':
pedtemplate.cc:373:15: warning: format '%d' expects argument of type 'int', but argument 2 has type '__gnu_cxx::__normal_iterator<TPed*, std::vector<TPed> >::difference_type' {aka 'long long int'} [-Wformat=]
373 | Rprintf("%d\t", p - pedigree.begin());
| ~^ ~~~~~~~~~~~~~~~~~~~~
| | |
| int __gnu_cxx::__normal_iterator<TPed*, std::vector<TPed> >::difference_type {aka long long int}
| %lld
g++ -std=gnu++17 -I"F:/biocbuild/bbs-3.22-bioc/R/include" -DNDEBUG -I"C:/rtools45/x86_64-w64-mingw32.static.posix/include" -O2 -Wall -mfpmath=sse -msse2 -mstackrealign -c register.cc -o register.o
gcc -I"F:/biocbuild/bbs-3.22-bioc/R/include" -DNDEBUG -I"C:/rtools45/x86_64-w64-mingw32.static.posix/include" -O2 -Wall -std=gnu2x -mfpmath=sse -msse2 -mstackrealign -c sargolzaei.c -o sargolzaei.o
sargolzaei.c: In function 'sargolzaei':
sargolzaei.c:52:32: warning: '*Ped[S][0]' may be used uninitialized [-Wmaybe-uninitialized]
52 | rPed[rN][0] = Link[Ped[S][0]];
| ~~~~~~^~~
sargolzaei.c:53:34: warning: '*Ped[D][1]' may be used uninitialized [-Wmaybe-uninitialized]
53 | rPed[rN++][1] = Link[Ped[D][1]];
| ~~~~~~^~~
sargolzaei.c:58:32: warning: '*Ped[D][0]' may be used uninitialized [-Wmaybe-uninitialized]
58 | rPed[rN][0] = Link[Ped[D][0]];
| ~~~~~~^~~
sargolzaei.c:59:34: warning: '*Ped[D][1]' may be used uninitialized [-Wmaybe-uninitialized]
59 | rPed[rN++][1] = Link[Ped[D][1]];
| ~~~~~~^~~
sargolzaei.c:72:20: warning: '*Ped[<unknown>][0]' may be used uninitialized [-Wmaybe-uninitialized]
72 | if(!Ped[SId[i]][0])
| ~~~~~~~~~~~^~~
sargolzaei.c:97:26: warning: '*Ped[<unknown>][0]' may be used uninitialized [-Wmaybe-uninitialized]
97 | if(S != Ped[SId[i]][0]) break;
| ~~~~~~~~~~~^~~
sargolzaei.c:72:20: warning: '*Ped[<unknown>][0]' may be used uninitialized [-Wmaybe-uninitialized]
72 | if(!Ped[SId[i]][0])
| ~~~~~~~~~~~^~~
sargolzaei.c:98:42: warning: '*Ped[<unknown>][1]' may be used uninitialized [-Wmaybe-uninitialized]
98 | else F[SId[i]] = x[Link[Ped[SId[i]][1]]] * 0.5f;
| ~~~~~~~~~~~^~~
sargolzaei.c:72:20: warning: '*Ped[<unknown>][0]' may be used uninitialized [-Wmaybe-uninitialized]
72 | if(!Ped[SId[i]][0])
| ~~~~~~~~~~~^~~
g++ -std=gnu++17 -I"F:/biocbuild/bbs-3.22-bioc/R/include" -DNDEBUG -I"C:/rtools45/x86_64-w64-mingw32.static.posix/include" -O2 -Wall -mfpmath=sse -msse2 -mstackrealign -c sortped.cc -o sortped.o
g++ -std=gnu++17 -shared -s -static-libgcc -o GeneticsPed.dll tmp.def ainverse.o eibd.o ggmatmult.o gpi.o inbreed.o inverseAdditive.o meuwissen.o pedSort.o pedtemplate.o register.o sargolzaei.o sortped.o -LC:/rtools45/x86_64-w64-mingw32.static.posix/lib/x64 -LC:/rtools45/x86_64-w64-mingw32.static.posix/lib -lgfortran -lquadmath -LF:/biocbuild/bbs-3.22-bioc/R/bin/x64 -lR
installing to F:/biocbuild/bbs-3.22-bioc/meat/GeneticsPed.buildbin-libdir/00LOCK-GeneticsPed/00new/GeneticsPed/libs/x64
** R
** data
** inst
** byte-compile and prepare package for lazy loading
** help
*** installing help indices
** building package indices
** installing vignettes
** testing if installed package can be loaded from temporary location
** testing if installed package can be loaded from final location
** testing if installed package keeps a record of temporary installation path
* MD5 sums
packaged installation of 'GeneticsPed' as GeneticsPed_1.71.0.zip
* DONE (GeneticsPed)